Workbook
Name Compliance_Description: [1]!Table2[Score Description]
Name Compliance_Score: [1]!Table2[Score Ratings]
Name Conv_actual_date_range: #REF!
Name Conv_plan_date_range: #REF!
Name Evidence_Description: [1]!Table4[Description]
Name Evidence_Score: [1]!Table4[Score]
Name Excel_BuiltIn__FilterDatabase_5: #REF!
Name Excel_BuiltIn__FilterDatabase_5: #REF!
Name Excel_BuiltIn__FilterDatabase_5: #REF!
Name Functional_Description: [1]!Table3[Description]
Name Functional_Score: [1]!Table3[Score]
Name ImpCosts: #REF!
Name ImpCosts: #REF!
Name ImpCosts: #REF!
Name Mainframe_actual_date_range: #REF!
Name Mainframe_plan_date_range: #REF!
Name Newdev_actual_date_range: #REF!
Name Newdev_plan_date_range: #REF!
Name PC_actual_date_range: #REF!
Name PC_plan_date_range: #REF!
Name Priority: #REF!
Name Priority_Description: [1]!Table1[Priority Description]
Name Priority_Score: [1]!Table1[Priority rating]
Name programme_actual_date_range: #REF!
Name programme_plan_date_range: #REF!
Name Serv_actual_date_range: #REF!
Name Serv_plan_date_range: #REF!
Name SolFit: #REF!
Name SolFit: #REF!
Name SolFit: #REF!
Name Solution: #REF!
Name Testing_actual_date_range: #REF!
Name Testing_plan_date_range: #REF!
Name YESNO: #REF!
Name YESNO: #REF!
Name YESNO: #REF!

Sheet TEC Development Guidelines
B2: This Tab provides guidance to the TET on how the evaluation criteria must be structured and where information can be sourced. Delete this tab before the TEC is published with the RFP.
A3: Response Guidelines
B4: Once all criteria questions are complete revise the response guidelines tab, the information provided is for vendors to understand what is required of them. You may need to rename or adjust the colour coding of the various tabs. Read through all the information removing what is not applicable and adding important information you want vendors to be aware of. The template has one reference sheet (Definitions and Abbreviations) it may be necessary to provide vendors with more reference information, which can be listed here.
A6: Scoring Summary
B7: Gatekeepers are captured here - Gatekeepers are limited to legislative and compliance related criteria only. Desktop evaluations and demonstrations are separate evaluation stages and the scores may not be added together. Ensure each stage has a defined threshold Adjusting the weight for each category on the scoring summary tab will automatically reflect the changes on the respective sheets. Evaluators scores in each category will also automatically pull through to this sheet The EL must check the formulas to ensure all are working correctly before evaluations begin.
A9: Functional Tab
B10: The functional evaluation specifically seeks to evaluate a given proposal/solution against the functional requirements which must listed in the scope of work. The functional requirements can be sourced from the Logical Architecture Design (LAD) where this is applicable. More specifically the Functional Decomposition Model contained within the LAD, lists all the Functional Requirements carefully aligned with industry best practice to ensure complete coverage of the business need. See below the example for the first evaluation criteria.
B11: EXAMPLE for #1
B13: Business Requirement Specification Statement (from the BRS) | C13: "The displayed image needs to be flicker free" | E13: These statements are developed by a business analyst while engaging with the business in their own language.
B15: Functional Business Requirement (from the Logical Design/Functional Decomposition Model) | C15: The screen refresh rate should be 60 fps or higher | E15: These statements are developed by an architect, which is based on the BRS & designed to be purely functional with a view to use for evaluation, mapping & other analyses.
B17: Technical Requirements | D17: Vendor Responses | F17: Evaluator Scores
F18: 0.2 | G18: =SUM(Table9[Priority]) -> 9 | H18: =SUM(Table9[Weight]) -> 0.2 | K18: Sectional Score: | L18: =SUM(#REF!) -> #REF! | N18: 1 | O18: 2 | P18: 3 | Q18: 4 | R18: 5 | S18: 6 | T18: 7 | U18: 8 | V18: 9 | W18: 10 | X18: 11 | Y18: 12 | Z18: 13 | AA18: 14 | AB18: 15 | AC18: 16 | AD18: 17 | AE18: 18 | AF18: 19 | AG18: 20 | AH18: 21 | AI18: 22
A19: Intem# | B19: Business requirements | C19: Mandatory Returnables - This colunm lists the mandotory evidence to be provided by the vendor in the technical file and numbered to align with each criteria question. | D19: Vendor Response: Vendor to indicate if, and to what extent they meet the requirement, detail must be provided in the tender submission | E19: Vendor Evidence: Location of Supporting Document/detailed response in your tender submission (state the file number, section & page number) | F19: Priority Description | G19: Priority | H19: Weight | I19: Selection Option | J19: Option Score | K19: Evaluators Response (SELECT) | L19: Score | M19: Evaluator comments | N19: 1 | O19: 2 | P19: 3 | Q19: 4 | R19: 5 | S19: 6 | T19: 7 | U19: 8 | V19: 9 | W19: 10 | X19: 11 | Y19: 12 | Z19: 13 | AA19: 14 | AB19: 15 | AC19: 16 | AD19: 17 | AE19: 18 | AF19: 19 | AG19: 20 | AH19: 21 | AI19: 22
A20: 1 | B20: Eskom requires an application with a screen refresh rate of 60 fps or higher. (This is the actual evaluation criteria against which the response is being judged - in this example it specifically quantifies how to determine if the screen will be flicker free & smooth i.e. the lower the refresh rate of the screen the worse screen flicker will be evident to the end-user) | C20: In your technical response indicate the screen refresh rate and provide a technical specification as evidence of the refresh rate. Note this may also be requested to be physically demonstrated later in the RFP process. | E20: <Example for how to complete this column: Technical File, section 5 (company background section), page 11> | F20: Important | G20: {=_xlfn.IFS(F20="","",F20="No interest",0,F20="Nice to have",1,F20="Useful",2,F20="Important",3,F20="Very important",4,F20="Critical",5,F20="Show stopper",6)} -> 3 | H20: =(G20/$G$18)*$F$18 -> 0.066666667 | I20: Refresh rate >=60, Refresh rate <60 | J20: {=_xlfn.TEXTJOIN(","&CHAR(10),,TEXT(Table9[[#This Row],[12]:[22]],"0,00%"))} -> 6,67%, 0,00% | K20: Refresh rate >=60 | L20: =H20-(H20*((MATCH(#REF!,#REF!,0)-1)/(COUNTA(#REF!)-COUNTBLANK(#REF!)-1))) -> #REF! | N20: {=IFERROR(INDEX(_xlfn.UNIQUE(TRIM(_xlfn.TEXTSPLIT(Table9[[#This Row],[Selection Option]:[Selection Option]],","))),,N$18),"")} -> Refresh rate >=60 | O20: {=IFERROR(INDEX(_xlfn.UNIQUE(TRIM(_xlfn.TEXTSPLIT(Table9[[#This Row],[Selection Option]:[Selection Option]],","))),,O$18),"")} -> Refresh rate <60 | P20: {=IFERROR(INDEX(_xlfn.UNIQUE(TRIM(_xlfn.TEXTSPLIT(Table9[[#This Row],[Selection Option]:[Selection Option]],","))),,P$18),"")} | Q20: {=IFERROR(INDEX(_xlfn.UNIQUE(TRIM(_xlfn.TEXTSPLIT(Table9[[#This Row],[Selection Option]:[Selection Option]],","))),,Q$18),"")} | R20: {=IFERROR(INDEX(_xlfn.UNIQUE(TRIM(_xlfn.TEXTSPLIT(Table9[[#This Row],[Selection Option]:[Selection Option]],","))),,R$18),"")} | S20: {=IFERROR(INDEX(_xlfn.UNIQUE(TRIM(_xlfn.TEXTSPLIT(Table9[[#This Row],[Selection Option]:[Selection Option]],","))),,S$18),"")} | T20: {=IFERROR(INDEX(_xlfn.UNIQUE(TRIM(_xlfn.TEXTSPLIT(Table9[[#This Row],[Selection Option]:[Selection Option]],","))),,T$18),"")} | U20: {=IFERROR(INDEX(_xlfn.UNIQUE(TRIM(_xlfn.TEXTSPLIT(Table9[[#This Row],[Selection Option]:[Selection Option]],","))),,U$18),"")} | ... X20: {=IFERROR(INDEX(_xlfn.UNIQUE(TRIM(_xlfn.TEXTSPLIT(Table9[[#This Row],[Selection Option]:[Selection Option]],","))),,X$18),"")} | Y20: {=IF(Table9[[#This Row],[1]]="","",Table9[[#This Row],[Weight]:[Weight]]-(Table9[[#This Row],[Weight]:[Weight]]*((_xlfn.XMATCH(Table9[[#This Row],[1]],Table9[[#This Row],[1]:[11]],0))-1)/(COUNTA(Table9[[#This Row],[1]:[11]])-COUNTBLANK(Table9[[#This Row],[1]:[11]])-1)))} -> 0.066666667 | Z20: {=IF(Table9[[#This Row],[2]]="","",Table9[[#This Row],[Weight]:[Weight]]-(Table9[[#This Row],[Weight]:[Weight]]*((_xlfn.XMATCH(Table9[[#This Row],[2]],Table9[[#This Row],[1]:[11]],0))-1)/(COUNTA(Table9[[#This Row],[1]:[11]])-COUNTBLANK(Table9[[#This Row],[1]:[11]])-1)))} -> 0 | AA20: {=IF(Table9[[#This Row],[3]]="","",Table9[[#This Row],[Weight]:[Weight]]-(Table9[[#This Row],[Weight]:[Weight]]*((_xlfn.XMATCH(Table9[[#This Row],[3]],Table9[[#This Row],[1]:[11]],0))-1)/(COUNTA(Table9[[#This Row],[1]:[11]])-COUNTBLANK(Table9[[#This Row],[1]:[11]])-1)))} | AB20: {=IF(Table9[[#This Row],[4]]="","",Table9[[#This Row],[Weight]:[Weight]]-(Table9[[#This Row],[Weight]:[Weight]]*((_xlfn.XMATCH(Table9[[#This Row],[4]],Table9[[#This Row],[1]:[11]],0))-1)/(COUNTA(Table9[[#This Row],[1]:[11]])-COUNTBLANK(Table9[[#This Row],[1]:[11]])-1)))} | AC20: {=IF(Table9[[#This Row],[5]]="","",Table9[[#This Row],[Weight]:[Weight]]-(Table9[[#This Row],[Weight]:[Weight]]*((_xlfn.XMATCH(Table9[[#This Row],[5]],Table9[[#This Row],[1]:[11]],0))-1)/(COUNTA(Table9[[#This Row],[1]:[11]])-COUNTBLANK(Table9[[#This Row],[1]:[11]])-1)))} | AD20: {=IF(Table9[[#This Row],[6]]="","",Table9[[#This Row],[Weight]:[Weight]]-(Table9[[#This Row],[Weight]:[Weight]]*((_xlfn.XMATCH(Table9[[#This Row],[6]],Table9[[#This Row],[1]:[11]],0))-1)/(COUNTA(Table9[[#This Row],[1]:[11]])-COUNTBLANK(Table9[[#This Row],[1]:[11]])-1)))} | AE20: {=IF(Table9[[#This Row],[7]]="","",Table9[[#This Row],[Weight]:[Weight]]-(Table9[[#This Row],[Weight]:[Weight]]*((_xlfn.XMATCH(Table9[[#This Row],[7]],Table9[[#This Row],[1]:[11]],0))-1)/(COUNTA(Table9[[#This Row],[1]:[11]])-COUNTBLANK(Table9[[#This Row],[1]:[11]])-1)))} | AF20: {=IF(Table9[[#This Row],[8]]="","",Table9[[#This Row],[Weight]:[Weight]]-(Table9[[#This Row],[Weight]:[Weight]]*((_xlfn.XMATCH(Table9[[#This Row],[8]],Table9[[#This Row],[1]:[11]],0))-1)/(COUNTA(Table9[[#This Row],[1]:[11]])-COUNTBLANK(Table9[[#This Row],[1]:[11]])-1)))} | AG20: {=IF(Table9[[#This Row],[9]]="","",Table9[[#This Row],[Weight]:[Weight]]-(Table9[[#This Row],[Weight]:[Weight]]*((_xlfn.XMATCH(Table9[[#This Row],[9]],Table9[[#This Row],[1]:[11]],0))-1)/(COUNTA(Table9[[#This Row],[1]:[11]])-COUNTBLANK(Table9[[#This Row],[1]:[11]])-1)))} | AH20: {=IF(Table9[[#This Row],[10]]="","",Table9[[#This Row],[Weight]:[Weight]]-(Table9[[#This Row],[Weight]:[Weight]]*((_xlfn.XMATCH(Table9[[#This Row],[10]],Table9[[#This Row],[1]:[11]],0))-1)/(COUNTA(Table9[[#This Row],[1]:[11]])-COUNTBLANK(Table9[[#This Row],[1]:[11]])-1)))} | AI20: {=IF(Table9[[#This Row],[11]]="","",Table9[[#This Row],[Weight]:[Weight]]-(Table9[[#This Row],[Weight]:[Weight]]*((_xlfn.XMATCH(Table9[[#This Row],[11]],Table9[[#This Row],[1]:[11]],0))-1)/(COUNTA(Table9[[#This Row],[1]:[11]])-COUNTBLANK(Table9[[#This Row],[1]:[11]])-1)))}
A21: 2 | C21: Appendix G | F21: Show stopper | G21: {=_xlfn.IFS(F21="","",F21="No interest",0,F21="Nice to have",1,F21="Useful",2,F21="Important",3,F21="Very important",4,F21="Critical",5,F21="Show stopper",6)} -> 6 | H21: =(G21/$G$18)*$F$18 -> 0.13333333 | I21: abc, klm, pqr, xyz | J21: {=_xlfn.TEXTJOIN(","&CHAR(10),,TEXT(Table9[[#This Row],[12]:[22]],"0,00%"))} -> 13,33%, 8,89%, 4,44%, 0,00% | K21: pqr | L21: =H21-(H21*((MATCH(#REF!,#REF!,0)-1)/(COUNTA(#REF!)-COUNTBLANK(#REF!)-1))) -> #REF! | N21: {=IFERROR(INDEX(_xlfn.UNIQUE(TRIM(_xlfn.TEXTSPLIT(Table9[[#This Row],[Selection Option]:[Selection Option]],","))),,N$18),"")} -> abc | O21: {=IFERROR(INDEX(_xlfn.UNIQUE(TRIM(_xlfn.TEXTSPLIT(Table9[[#This Row],[Selection Option]:[Selection Option]],","))),,O$18),"")} -> klm | P21: {=IFERROR(INDEX(_xlfn.UNIQUE(TRIM(_xlfn.TEXTSPLIT(Table9[[#This Row],[Selection Option]:[Selection Option]],","))),,P$18),"")} -> pqr | Q21: {=IFERROR(INDEX(_xlfn.UNIQUE(TRIM(_xlfn.TEXTSPLIT(Table9[[#This Row],[Selection Option]:[Selection Option]],","))),,Q$18),"")} -> xyz | R21: {=IFERROR(INDEX(_xlfn.UNIQUE(TRIM(_xlfn.TEXTSPLIT(Table9[[#This Row],[Selection Option]:[Selection Option]],","))),,R$18),"")} | S21: {=IFERROR(INDEX(_xlfn.UNIQUE(TRIM(_xlfn.TEXTSPLIT(Table9[[#This Row],[Selection Option]:[Selection Option]],","))),,S$18),"")} | T21: {=IFERROR(INDEX(_xlfn.UNIQUE(TRIM(_xlfn.TEXTSPLIT(Table9[[#This Row],[Selection Option]:[Selection Option]],","))),,T$18),"")} | U21: {=IFERROR(INDEX(_xlfn.UNIQUE(TRIM(_xlfn.TEXTSPLIT(Table9[[#This Row],[Selection Option]:[Selection Option]],","))),,U$18),"")} | ... X21: {=IFERROR(INDEX(_xlfn.UNIQUE(TRIM(_xlfn.TEXTSPLIT(Table9[[#This Row],[Selection Option]:[Selection Option]],","))),,X$18),"")} | Y21: {=IF(Table9[[#This Row],[1]]="","",Table9[[#This Row],[Weight]:[Weight]]-(Table9[[#This Row],[Weight]:[Weight]]*((_xlfn.XMATCH(Table9[[#This Row],[1]],Table9[[#This Row],[1]:[11]],0))-1)/(COUNTA(Table9[[#This Row],[1]:[11]])-COUNTBLANK(Table9[[#This Row],[1]:[11]])-1)))} -> 0.13333333 | Z21: {=IF(Table9[[#This Row],[2]]="","",Table9[[#This Row],[Weight]:[Weight]]-(Table9[[#This Row],[Weight]:[Weight]]*((_xlfn.XMATCH(Table9[[#This Row],[2]],Table9[[#This Row],[1]:[11]],0))-1)/(COUNTA(Table9[[#This Row],[1]:[11]])-COUNTBLANK(Table9[[#This Row],[1]:[11]])-1)))} -> 0.088888889 | AA21: {=IF(Table9[[#This Row],[3]]="","",Table9[[#This Row],[Weight]:[Weight]]-(Table9[[#This Row],[Weight]:[Weight]]*((_xlfn.XMATCH(Table9[[#This Row],[3]],Table9[[#This Row],[1]:[11]],0))-1)/(COUNTA(Table9[[#This Row],[1]:[11]])-COUNTBLANK(Table9[[#This Row],[1]:[11]])-1)))} -> 0.044444444 | AB21: {=IF(Table9[[#This Row],[4]]="","",Table9[[#This Row],[Weight]:[Weight]]-(Table9[[#This Row],[Weight]:[Weight]]*((_xlfn.XMATCH(Table9[[#This Row],[4]],Table9[[#This Row],[1]:[11]],0))-1)/(COUNTA(Table9[[#This Row],[1]:[11]])-COUNTBLANK(Table9[[#This Row],[1]:[11]])-1)))} -> 0 | AC21: {=IF(Table9[[#This Row],[5]]="","",Table9[[#This Row],[Weight]:[Weight]]-(Table9[[#This Row],[Weight]:[Weight]]*((_xlfn.XMATCH(Table9[[#This Row],[5]],Table9[[#This Row],[1]:[11]],0))-1)/(COUNTA(Table9[[#This Row],[1]:[11]])-COUNTBLANK(Table9[[#This Row],[1]:[11]])-1)))} | AD21: {=IF(Table9[[#This Row],[6]]="","",Table9[[#This Row],[Weight]:[Weight]]-(Table9[[#This Row],[Weight]:[Weight]]*((_xlfn.XMATCH(Table9[[#This Row],[6]],Table9[[#This Row],[1]:[11]],0))-1)/(COUNTA(Table9[[#This Row],[1]:[11]])-COUNTBLANK(Table9[[#This Row],[1]:[11]])-1)))} | AE21: {=IF(Table9[[#This Row],[7]]="","",Table9[[#This Row],[Weight]:[Weight]]-(Table9[[#This Row],[Weight]:[Weight]]*((_xlfn.XMATCH(Table9[[#This Row],[7]],Table9[[#This Row],[1]:[11]],0))-1)/(COUNTA(Table9[[#This Row],[1]:[11]])-COUNTBLANK(Table9[[#This Row],[1]:[11]])-1)))} | AF21: {=IF(Table9[[#This Row],[8]]="","",Table9[[#This Row],[Weight]:[Weight]]-(Table9[[#This Row],[Weight]:[Weight]]*((_xlfn.XMATCH(Table9[[#This Row],[8]],Table9[[#This Row],[1]:[11]],0))-1)/(COUNTA(Table9[[#This Row],[1]:[11]])-COUNTBLANK(Table9[[#This Row],[1]:[11]])-1)))} | AG21: {=IF(Table9[[#This Row],[9]]="","",Table9[[#This Row],[Weight]:[Weight]]-(Table9[[#This Row],[Weight]:[Weight]]*((_xlfn.XMATCH(Table9[[#This Row],[9]],Table9[[#This Row],[1]:[11]],0))-1)/(COUNTA(Table9[[#This Row],[1]:[11]])-COUNTBLANK(Table9[[#This Row],[1]:[11]])-1)))} | AH21: {=IF(Table9[[#This Row],[10]]="","",Table9[[#This Row],[Weight]:[Weight]]-(Table9[[#This Row],[Weight]:[Weight]]*((_xlfn.XMATCH(Table9[[#This Row],[10]],Table9[[#This Row],[1]:[11]],0))-1)/(COUNTA(Table9[[#This Row],[1]:[11]])-COUNTBLANK(Table9[[#This Row],[1]:[11]])-1)))} | AI21: {=IF(Table9[[#This Row],[11]]="","",Table9[[#This Row],[Weight]:[Weight]]-(Table9[[#This Row],[Weight]:[Weight]]*((_xlfn.XMATCH(Table9[[#This Row],[11]],Table9[[#This Row],[1]:[11]],0))-1)/(COUNTA(Table9[[#This Row],[1]:[11]])-COUNTBLANK(Table9[[#This Row],[1]:[11]])-1)))}
A24: Demonstration tab
B25: The demonstration tab has important notes to vendors in rows 10 to 13, read these and edit as required by your criteria and evaluation plan. After editing, there must not be any blue text remaining. If a requirement was evaluated during the desktop evaluation, it may be evaluated again at the demo if there is a need to see/verify the information. The demonstration duration agreed to must be strictly adhered to for all vendors for fairness.

Sheet Response Guidelines
B2: Tenderer to take note of the following key instructions:
B5: Technical Evaluation Guidelines
B7: * | C7: Complete ALL the worksheets listed below.
C8: Scoring Summary (Gatekeeper questions)
C9: Gatekeepers
C10: Key Requirements
C11: Functional
C12: Non-Functional
C13: Integration
C14: Testing
C15: Security
C16: Demonstration
B18: *
B22: Reference Information
B24: * | C24: Definitions and Abbreviations | D24: Provides information on the definitions and abbreviations used in the Evaluation workbook.

Sheet Scoring Summary
B2: Tender Number: | C2: <insert before tender publication>
B3: Transaction Description: | C3: <insert before tender publication>
B4: Evaluated Tenderer's Registered Name: | C4: <Evaluator to complete>
B5: Evaluator Name and Surname: | C5: <Evaluator to complete> | D5: Eskom Group Technology: Technical Evaluation Criteria
B6: Date of Evaluation | C6: <Evaluator to complete> | D6: Scoring Summary
B7: Evaluator Signature | D7: Ver 7
B9: Gatekeeper Evaluation | C9: Tick to indicate if there are gatekeepers for this assessment: | E9: FALSE
C10: =IF(AND(E9,Gatekeepers!F8=1),"Pass","") | D10: =IF(AND(E9,Gatekeepers!F8<>1),"Fail ("&TEXT(Gatekeepers!F8,"0,0%")&")","") | E10: =IF(AND(E9,SUM(COUNTIF(Table1[Scoring],"Pass"),COUNTIF(Table1[Scoring],"Fail"))<>(COUNTA(Table1[Scoring])+COUNTBLANK(Table1[Scoring]))),"Incomplete response","")
B12: Desktop Evaluation Scoring Summary
B13: Evaluation Category | C13: Weight | D13: Minimum Threshold | E13: Score
B14: 1. Bidder Capability Requirements | C14: 0.5 | E14: ='1. Bidder Implementation Cap'!L11 -> #N/A
B15: 2a. Vendor Master Data Management | C15: 0.0375 | E15: ='2a. Vendor Master Data Mgmt.'!M11 -> #N/A
B16: 2b. Procurement Management | C16: 0.0375 | E16: ='2b. Procurement Mgmt.'!L11 -> #N/A
B17: 2c. Electronic Auction (including asset disposal and recovery) | C17: 0.0375 | E17: ='2c. Electronic Auction'!L11 -> #N/A
B18: 2d. Electronic Tendering | C18: 0.0375 | E18: ='2d. Electronic Tendering'!L11 -> #N/A
B19: 2e. Contract Establishment and Administration | C19: 0.025 | E19: ='2e. Contract Est. & Admin'!L11 -> #N/A
B20: 2f. Supplier Development, Localisation and Indsutrialisation (SDL&I) | C20: 0.0375 | E20: ='2f. SDL&I'!L11 -> #N/A
B21: 2g. Basic Document Management | C21: 0.0375 | E21: ='2g. Document Management'!L11 -> #N/A
B22: 2h. Architecture, Integration and Testing Requirements | C22: 0.0875 | E22: ='2h. Architecture Requirements'!L11 -> #N/A
B23: 2i. Cloud Requirements | C23: 0.0875 | E23: ='2i. Cloud Requirements'!L11 -> #N/A
B24: 2j. Data Privacy Requirements | C24: 0.025 | E24: ='2j. Data Privacy Requirements'!L11 -> #N/A
B25: 2k.Data Migration Requirements | C25: 0.025 | E25: ='2k. Data Migration'!L11 -> #N/A
B26: 2l. Security Requirements | C26: 0.025 | E26: ='2l. Security Requirements'!L11 -> #N/A
B27: Total | C27: =SUM(C14:C26) -> 1 | D27: 0.75 | E27: =SUM(E14:E26) -> #N/A
B29: Demonstration Scoring Summary
B30: Demonstration | C30: Weight | D30: Minimum Threshold | E30: Score
B31: Demonstration | C31: 1 | D31: 0.75 | E31: =Demo!L11 -> #N/A

Sheet Approval Page
B1: Digital Procurement: Wave 2 - Vendor Master Data Management
B3: By signing this document, the people listed record their agreement on the contents of this document.
B5: DOCUMENT ACCEPTANCE
B9: Business Analysis | C9: Name: | D9: Avela Katoo
C10: Signature: | D10: ____________________________________
C11: Date: | D11: ____________________________________
B13: IT Architecture | C13: Name: | D13: Charles Malaka
C14: Signature: | D14: ____________________________________
C15: Date: | D15: ____________________________________
B17: Business Relationship Manager | C17: Name: | D17: Monyake Moikangoa
C18: Signature: | D18: ____________________________________
C19: Date: | D19: ____________________________________
B22: Portfolio Manager | C22: Name: | D22: Loretta Tibbatts
C23: Signature: | D23: ____________________________________
C24: Date: | D24: ____________________________________
B27: Enterprise Architecture | C27: Name: | D27: Azwi Sigama
C28: Signature: | D28: ____________________________________
C29: Date: | D29: ____________________________________
B35: Senior Manager Business Solutions Development Services | C35: Name: | D35: Anthenia Phuku
C36: Signature: | D36: ____________________________________
C37: Date: | D37: ____________________________________
B40: Shared Services Vendor Maste Data Management | C40: Name: | D40: Rajen John
C41: Signature: | D41: ____________________________________
C42: Date: | D42: ____________________________________
B45: Corporate Procurement & Supply Chain Senior Manager & Data Governor | C45: Name: | D45: Bathusi Montwedi
C46: Signature: | D46: ____________________________________
C47: Date: | D47: ____________________________________
B51: NTCSA Procurement & Supply Chain Senior Manager & Data Governor | C51: Name: | D51: Ezekiel Thuntsane
C52: Signature: | D52: ____________________________________
C53: Date: | D53: ____________________________________
B57: Distribution Procurement & Supply Chain Senior Manager & Data Governor | C57: Name: | D57: Simphiwe Mbonambi
C58: Signature: | D58: ____________________________________
C59: Date: | D59: ____________________________________
B63: Generation Procurement & Supply Chain Senior Manager & Data Governor | C63: Name: | D63: Tebogo Moromane
C64: Signature: | D64: ____________________________________
C65: Date: | D65: ____________________________________
B68: Nuclear Procurement & Supply Chain Senior Manager & Data Governor | C68: Name: | D68: Pieter Le Roux
C69: Signature: | D69: ____________________________________
C70: Date: | D70: ____________________________________
B74: PED Procurement & Supply Chain Senior Manager & Data Governor | C74: Name: | D74: Vuyisile Ncube
...

Sheet Summary and Gatekeeper Approval
C2: Digital Procurement eProcurement Wave 1A and 1B: Technical Evaluation
C4: By signing this document, the people listed record their agreement on the contents of this document.
C10: Solution Architect | D10: Name: | E10: Charles Malaka
D11: Signature: | E11: ____________________________________
D12: Date: | E12: ____________________________________
C15: Integration CoE | D15: Name: | E15: Leigh-Ann Vermaak
D16: Signature: | E16: ____________________________________
D17: Date: | E17: ____________________________________
C20: Testing CoE | D20: Name: | E20: Kholo Motadi
D21: Signature: | E21: ____________________________________
D22: Date: | E22: ____________________________________
C26: Security | D26: Name: | E26: Skhumbuzo Gama
D27: Signature: | E27: ____________________________________
D28: Date: | E28: ____________________________________
C31: Application Support | D31: Name: | E31: Nombulelo Bopape
D32: Signature: | E32: ____________________________________
D33: Date: | E33: ____________________________________
C36: Business Analysis | D36: Name: | E36: Avela Katoo
D37: Signature: | E37: ____________________________________
D38: Date: | E38: ____________________________________
C42: Senior Management Business Solutions Development Services | D42: Name: | E42: Anthenia Phukiu
D43: Signature: | E43: ____________________________________
D44: Date: | E44: ____________________________________
C48: Group IT Governance Services Snr. Manager | D48: Name: | E48: Norbit Williams
D49: Signature: | E49: ____________________________________
D50: Date: | E50: ____________________________________

Sheet Non Func. Requirements Approval
C2: Digital Procurement eProcurement Wave 1A and 1B: Technical Evaluation
C4: By signing this document, the people listed record their agreement on the contents of this document.
C10: Solution Architect | D10: Name: | E10: Charles Malaka
D11: Signature: | E11: ____________________________________
D12: Date: | E12: ____________________________________
C15: Integration CoE | D15: Name: | E15: Leigh-Ann Vermaak
D16: Signature: | E16: ____________________________________
D17: Date: | E17: ____________________________________
D20: Signature: | E20: ____________________________________
D21: Date: | E21: ____________________________________
C23: Testing CoE | D23: Name: | E23: Kholo Motadi
C26: Security | D26: Name: | E26: Skhumbuzo Gama
D27: Signature: | E27: ____________________________________
D28: Date: | E28: ____________________________________
C31: Application Support | D31: Name: | E31: Nombulelo Bopape
D32: Signature: | E32: ____________________________________
D33: Date: | E33: ____________________________________
C36: Business Analysis | D36: Name: | E36: Avela Katoo
D37: Signature: | E37: ____________________________________
D38: Date: | E38: ____________________________________
C42: Portfolio Manager | D42: Name: | E42: Sibongile Venkile
D43: Signature: | E43: ____________________________________
D44: Date: | E44: ____________________________________
C48: Senior Manager: Application Operations | D48: Name: | E48: Varsha Pillay
D49: Signature: | E49: ____________________________________
D50: Date: | E50: ____________________________________

Sheet Gatekeepers
B2: Tender Number: | C2: ='Scoring Summary'!C2 -> <insert before tender publication> | E2: Eskom Group Technology: Technical Evaluation Criteria GATEKEEPER CRITERIA
B3: Transaction Description: | C3: ='Scoring Summary'!C3 -> <insert before tender publication>
B4: Evaluated Tenderer's Registered Name: | C4: ='Scoring Summary'!C4 -> <Evaluator to complete> | E4: Gatekeepers
B5: Evaluator Name and Surname: | C5: ='Scoring Summary'!C5 -> <Evaluator to complete>
B6: Date of Evaluation | C6: ='Scoring Summary'!C6 -> <Evaluator to complete>
B7: Evaluator Signature
F8: =COUNTIF(Table1[Scoring],"Pass")/(COUNTA(Table1[Scoring])+COUNTBLANK(Table1[Scoring])) -> 0
B9: GateKeeper Requirements | C9: Mandatory Returnables - Evidence below to be provided in the technical file and numbered to align with each criteria question. | D9: Vendor Response: Vendor to provide answer the questions below and provide detail in their tender submission | E9: Vendor Evidence: Location of Supporting Document/detailed response in your tender submission (state the file number, section & page number) | F9: Scoring | G9: Evaluator comments
A10: 1 | B10: Confirm that the solution presented in this bid is a Software as a Service (SaaS) solution. | C10: In your technical response provide a company signed letter indicating the requirements.
A11: 2 | B11: Confirm that ALL data hosting and processing is within South Africa and or a location under GDPR (European Union) jurisdiction. | C11: Provide a company signed letter indicating the locations in which the data will be hosted and processed.

Sheet 1. Bidder Implementation Cap
B2: Tender Number: | C2: <insert before tender publication> | E2: Eskom Group Technology: Technical Evaluation Criteria
B3: Transaction Description: | C3: <insert before tender publication>
B4: Evaluated Tenderer's Registered Name: | C4: <Evaluator to complete> | E4: Non-Functional
B5: Evaluator Name and Surname: | C5: <Evaluator to complete>
B6: Date of Evaluation | C6: <Evaluator to complete>
B7: Evaluator Signature
B10: Technical Requirements | D10: Vendor Responses | F10: Evaluator Scores
F11: ='Scoring Summary'!C14 -> 0.5 | G11: =SUM(Table2614[Priority]) -> 66 | H11: =SUM(Table2614[Weight]) -> 0.5 | K11: Sectional Score: | L11: =SUM(Table2614[Score]) -> #N/A | N11: 1 | O11: 2 | P11: 3 | Q11: 4 | R11: 5 | S11: 6 | T11: 7 | U11: 8 | V11: 9 | W11: 10 | X11: 11 | Y11: 12 | Z11: 13 | AA11: 14 | AB11: 15 | AC11: 16 | AD11: 17 | AE11: 18 | AF11: 19 | AG11: 20 | AH11: 21 | AI11: 22
A12: Item# | B12: Business requirements | C12: Mandatory Returnables - This column lists the mandatory evidence to be provided by the vendor in the technical file and numbered to align with each criteria question. | D12: Vendor Response: Vendor to indicate if, and to what extent they meet the requirement, detail must be provided in the tender submission | E12: Vendor Evidence: Location of Supporting Document/detailed response in your tender submission (state the file number, section & page number) | F12: Priority Description | G12: Priority | H12: Weight | I12: Selection Options | J12: Option Score | K12: Evaluators Response (SELECT) | L12: Score | M12: Evaluator comments | N12: 1 | O12: 2 | P12: 3 | Q12: 4 | R12: 5 | S12: 6 | T12: 7 | U12: 8 | V12: 9 | W12: 10 | X12: 11 | Y12: 12 | Z12: 13 | AA12: 14 | AB12: 15 | AC12: 16 | AD12: 17 | AE12: 18 | AF12: 19 | AG12: 20 | AH12: 21 | AI12: 22
A13: 1 | B13: Provide the total number of employees currently employed by the organisation | C13: Vendor to provide on the company's letterhead, the following information : 1. Company name 2. Industry 3. Geographical footprint/presence 4. The number of employee 5. Employees in your organisation dedicated to Customer Success, include employee number per geographical location 6. Employees in your organisation dedicated to delivering Professional Services, include employee number per geographical location 7. Employees in your organisation dedicated to Technical Support, include employee number per geographical location | E13: <Example for how to complete this column: Technical File, section 5 (company background section), page 11> | F13: Very important | G13: {=_xlfn.IFS(F13="","",F13="No interest",0,F13="Nice to have",1,F13="Useful",2,F13="Important",3,F13="Very important",4,F13="Critical",5,F13="Show stopper",6)} -> 4 | H13: =(G13/$G$11)*$F$11 -> 0.03030303 | I13: 100%: > 1000 employees, 50%: 101 to 1000 employees, 0%: blank or no employees | J13: {=_xlfn.TEXTJOIN(","&CHAR(10),,TEXT(Table2614[[#This Row],[12]:[22]],"0,00%"))} -> 0,03%, 0,02%, 0,00% | L13: =H13-(H13*((MATCH(Table2614[[#This Row],[Evaluators Response (SELECT)]],Table2614[[#This Row],[1]:[11]],0)-1)/(COUNTA(Table2614[[#This Row],[1]:[11]])-COUNTBLANK(Table2614[[#This Row],[1]:[11]])-1))) -> #N/A | N13: {=IFERROR(INDEX(_xlfn.UNIQUE(TRIM(_xlfn.TEXTSPLIT(Table2614[[#This Row],[Selection Options]:[Selection Options]],","))),,N$11),"")} -> 100%: > 1000 employees | O13: {=IFERROR(INDEX(_xlfn.UNIQUE(TRIM(_xlfn.TEXTSPLIT(Table2614[[#This Row],[Selection Options]:[Selection Options]],","))),,O$11),"")} -> 50%: 101 to 1000 employees | P13: {=IFERROR(INDEX(_xlfn.UNIQUE(TRIM(_xlfn.TEXTSPLIT(Table2614[[#This Row],[Selection Options]:[Selection Options]],","))),,P$11),"")} -> 0%: blank or no employees | Q13: {=IFERROR(INDEX(_xlfn.UNIQUE(TRIM(_xlfn.TEXTSPLIT(Table2614[[#This Row],[Selection Options]:[Selection Options]],","))),,Q$11),"")} | R13: {=IFERROR(INDEX(_xlfn.UNIQUE(TRIM(_xlfn.TEXTSPLIT(Table2614[[#This Row],[Selection Options]:[Selection Options]],","))),,R$11),"")} | S13: {=IFERROR(INDEX(_xlfn.UNIQUE(TRIM(_xlfn.TEXTSPLIT(Table2614[[#This Row],[Selection Options]:[Selection Options]],","))),,S$11),"")} | T13: {=IFERROR(INDEX(_xlfn.UNIQUE(TRIM(_xlfn.TEXTSPLIT(Table2614[[#This Row],[Selection Options]:[Selection Options]],","))),,T$11),"")} | U13: {=IFERROR(INDEX(_xlfn.UNIQUE(TRIM(_xlfn.TEXTSPLIT(Table2614[[#This Row],[Selection Options]:[Selection Options]],","))),,U$11),"")} | ... X13: {=IFERROR(INDEX(_xlfn.UNIQUE(TRIM(_xlfn.TEXTSPLIT(Table2614[[#This Row],[Selection Options]:[Selection Options]],","))),,X$11),"")} | Y13: {=IF(Table2614[[#This Row],[1]]="","",Table2614[[#This Row],[Weight]:[Weight]]-(Table2614[[#This Row],[Weight]:[Weight]]*((_xlfn.XMATCH(Table2614[[#This Row],[1]],Table2614[[#This Row],[1]:[11]],0))-1)/(COUNTA(Table2614[[#This Row],[1]:[11]])-COUNTBLANK(Table2614[[#This Row],[1]:[11]])-1)))} -> 0.03030303 | Z13: {=IF(Table2614[[#This Row],[2]]="","",Table2614[[#This Row],[Weight]:[Weight]]-(Table2614[[#This Row],[Weight]:[Weight]]*((_xlfn.XMATCH(Table2614[[#This Row],[2]],Table2614[[#This Row],[1]:[11]],0))-1)/(COUNTA(Table2614[[#This Row],[1]:[11]])-COUNTBLANK(Table2614[[#This Row],[1]:[11]])-1)))} -> 0.015151515 | AA13: {=IF(Table2614[[#This Row],[3]]="","",Table2614[[#This Row],[Weight]:[Weight]]-(Table2614[[#This Row],[Weight]:[Weight]]*((_xlfn.XMATCH(Table2614[[#This Row],[3]],Table2614[[#This Row],[1]:[11]],0))-1)/(COUNTA(Table2614[[#This Row],[1]:[11]])-COUNTBLANK(Table2614[[#This Row],[1]:[11]])-1)))} -> 0 | AB13: {=IF(Table2614[[#This Row],[4]]="","",Table2614[[#This Row],[Weight]:[Weight]]-(Table2614[[#This Row],[Weight]:[Weight]]*((_xlfn.XMATCH(Table2614[[#This Row],[4]],Table2614[[#This Row],[1]:[11]],0))-1)/(COUNTA(Table2614[[#This Row],[1]:[11]])-COUNTBLANK(Table2614[[#This Row],[1]:[11]])-1)))} | AC13: {=IF(Table2614[[#This Row],[5]]="","",Table2614[[#This Row],[Weight]:[Weight]]-(Table2614[[#This Row],[Weight]:[Weight]]*((_xlfn.XMATCH(Table2614[[#This Row],[5]],Table2614[[#This Row],[1]:[11]],0))-1)/(COUNTA(Table2614[[#This Row],[1]:[11]])-COUNTBLANK(Table2614[[#This Row],[1]:[11]])-1)))} | AD13: {=IF(Table2614[[#This Row],[6]]="","",Table2614[[#This Row],[Weight]:[Weight]]-(Table2614[[#This Row],[Weight]:[Weight]]*((_xlfn.XMATCH(Table2614[[#This Row],[6]],Table2614[[#This Row],[1]:[11]],0))-1)/(COUNTA(Table2614[[#This Row],[1]:[11]])-COUNTBLANK(Table2614[[#This Row],[1]:[11]])-1)))} | AE13: {=IF(Table2614[[#This Row],[7]]="","",Table2614[[#This Row],[Weight]:[Weight]]-(Table2614[[#This Row],[Weight]:[Weight]]*((_xlfn.XMATCH(Table2614[[#This Row],[7]],Table2614[[#This Row],[1]:[11]],0))-1)/(COUNTA(Table2614[[#This Row],[1]:[11]])-COUNTBLANK(Table2614[[#This Row],[1]:[11]])-1)))} | AF13: {=IF(Table2614[[#This Row],[8]]="","",Table2614[[#This Row],[Weight]:[Weight]]-(Table2614[[#This Row],[Weight]:[Weight]]*((_xlfn.XMATCH(Table2614[[#This Row],[8]],Table2614[[#This Row],[1]:[11]],0))-1)/(COUNTA(Table2614[[#This Row],[1]:[11]])-COUNTBLANK(Table2614[[#This Row],[1]:[11]])-1)))} | AG13: {=IF(Table2614[[#This Row],[9]]="","",Table2614[[#This Row],[Weight]:[Weight]]-(Table2614[[#This Row],[Weight]:[Weight]]*((_xlfn.XMATCH(Table2614[[#This Row],[9]],Table2614[[#This Row],[1]:[11]],0))-1)/(COUNTA(Table2614[[#This Row],[1]:[11]])-COUNTBLANK(Table2614[[#This Row],[1]:[11]])-1)))} | AH13: {=IF(Table2614[[#This Row],[10]]="","",Table2614[[#This Row],[Weight]:[Weight]]-(Table2614[[#This Row],[Weight]:[Weight]]*((_xlfn.XMATCH(Table2614[[#This Row],[10]],Table2614[[#This Row],[1]:[11]],0))-1)/(COUNTA(Table2614[[#This Row],[1]:[11]])-COUNTBLANK(Table2614[[#This Row],[1]:[11]])-1)))} | AI13: {=IF(Table2614[[#This Row],[11]]="","",Table2614[[#This Row],[Weight]:[Weight]]-(Table2614[[#This Row],[Weight]:[Weight]]*((_xlfn.XMATCH(Table2614[[#This Row],[11]],Table2614[[#This Row],[1]:[11]],0))-1)/(COUNTA(Table2614[[#This Row],[1]:[11]])-COUNTBLANK(Table2614[[#This Row],[1]:[11]])-1)))}
A14: 2 | B14: Provide the number of employees within your organisation who are specifically dedicated to Customer Success | C14: Vendor to provide on the company's letterhead, the following information : 1. Company name 2. Industry 3. Geographical footprint/presence 4. The number of employee 5. Employees in your organisation dedicated to Customer Success, include employee number per geographical location 6. Employees in your organisation dedicated to delivering Professional Services, include employee number per geographical location 7. Employees in your organisation dedicated to Technical Support, include employee number per geographical location | F14: Very important | G14: {=_xlfn.IFS(F14="","",F14="No interest",0,F14="Nice to have",1,F14="Useful",2,F14="Important",3,F14="Very important",4,F14="Critical",5,F14="Show stopper",6)} -> 4 | H14: =(G14/$G$11)*$F$11 -> 0.03030303 | I14: 100%: > 20 employees, 50%: 1 - 20 employees, 0%: blank or no employees | J14: {=_xlfn.TEXTJOIN(","&CHAR(10),,TEXT(Table2614[[#This Row],[12]:[22]],"0,00%"))} -> 0,03%, 0,02%, 0,00% | L14: =H14-(H14*((MATCH(Table2614[[#This Row],[Evaluators Response (SELECT)]],Table2614[[#This Row],[1]:[11]],0)-1)/(COUNTA(Table2614[[#This Row],[1]:[11]])-COUNTBLANK(Table2614[[#This Row],[1]:[11]])-1))) -> #N/A | N14: {=IFERROR(INDEX(_xlfn.UNIQUE(TRIM(_xlfn.TEXTSPLIT(Table2614[[#This Row],[Selection Options]:[Selection Options]],","))),,N$11),"")} -> 100%: > 20 employees | O14: {=IFERROR(INDEX(_xlfn.UNIQUE(TRIM(_xlfn.TEXTSPLIT(Table2614[[#This Row],[Selection Options]:[Selection Options]],","))),,O$11),"")} -> 50%: 1 - 20 employees | P14: {=IFERROR(INDEX(_xlfn.UNIQUE(TRIM(_xlfn.TEXTSPLIT(Table2614[[#This Row],[Selection Options]:[Selection Options]],","))),,P$11),"")} -> 0%: blank or no employees | Q14: {=IFERROR(INDEX(_xlfn.UNIQUE(TRIM(_xlfn.TEXTSPLIT(Table2614[[#This Row],[Selection Options]:[Selection Options]],","))),,Q$11),"")} | R14: {=IFERROR(INDEX(_xlfn.UNIQUE(TRIM(_xlfn.TEXTSPLIT(Table2614[[#This Row],[Selection Options]:[Selection Options]],","))),,R$11),"")} | S14: {=IFERROR(INDEX(_xlfn.UNIQUE(TRIM(_xlfn.TEXTSPLIT(Table2614[[#This Row],[Selection Options]:[Selection Options]],","))),,S$11),"")} | T14: {=IFERROR(INDEX(_xlfn.UNIQUE(TRIM(_xlfn.TEXTSPLIT(Table2614[[#This Row],[Selection Options]:[Selection Options]],","))),,T$11),"")} | U14: {=IFERROR(INDEX(_xlfn.UNIQUE(TRIM(_xlfn.TEXTSPLIT(Table2614[[#This Row],[Selection Options]:[Selection Options]],","))),,U$11),"")} | ... X14: {=IFERROR(INDEX(_xlfn.UNIQUE(TRIM(_xlfn.TEXTSPLIT(Table2614[[#This Row],[Selection Options]:[Selection Options]],","))),,X$11),"")} | Y14: {=IF(Table2614[[#This Row],[1]]="","",Table2614[[#This Row],[Weight]:[Weight]]-(Table2614[[#This Row],[Weight]:[Weight]]*((_xlfn.XMATCH(Table2614[[#This Row],[1]],Table2614[[#This Row],[1]:[11]],0))-1)/(COUNTA(Table2614[[#This Row],[1]:[11]])-COUNTBLANK(Table2614[[#This Row],[1]:[11]])-1)))} -> 0.03030303 | Z14: {=IF(Table2614[[#This Row],[2]]="","",Table2614[[#This Row],[Weight]:[Weight]]-(Table2614[[#This Row],[Weight]:[Weight]]*((_xlfn.XMATCH(Table2614[[#This Row],[2]],Table2614[[#This Row],[1]:[11]],0))-1)/(COUNTA(Table2614[[#This Row],[1]:[11]])-COUNTBLANK(Table2614[[#This Row],[1]:[11]])-1)))} -> 0.015151515 | AA14: {=IF(Table2614[[#This Row],[3]]="","",Table2614[[#This Row],[Weight]:[Weight]]-(Table2614[[#This Row],[Weight]:[Weight]]*((_xlfn.XMATCH(Table2614[[#This Row],[3]],Table2614[[#This Row],[1]:[11]],0))-1)/(COUNTA(Table2614[[#This Row],[1]:[11]])-COUNTBLANK(Table2614[[#This Row],[1]:[11]])-1)))} -> 0 | AB14: {=IF(Table2614[[#This Row],[4]]="","",Table2614[[#This Row],[Weight]:[Weight]]-(Table2614[[#This Row],[Weight]:[Weight]]*((_xlfn.XMATCH(Table2614[[#This Row],[4]],Table2614[[#This Row],[1]:[11]],0))-1)/(COUNTA(Table2614[[#This Row],[1]:[11]])-COUNTBLANK(Table2614[[#This Row],[1]:[11]])-1)))} | AC14: {=IF(Table2614[[#This Row],[5]]="","",Table2614[[#This Row],[Weight]:[Weight]]-(Table2614[[#This Row],[Weight]:[Weight]]*((_xlfn.XMATCH(Table2614[[#This Row],[5]],Table2614[[#This Row],[1]:[11]],0))-1)/(COUNTA(Table2614[[#This Row],[1]:[11]])-COUNTBLANK(Table2614[[#This Row],[1]:[11]])-1)))} | AD14: {=IF(Table2614[[#This Row],[6]]="","",Table2614[[#This Row],[Weight]:[Weight]]-(Table2614[[#This Row],[Weight]:[Weight]]*((_xlfn.XMATCH(Table2614[[#This Row],[6]],Table2614[[#This Row],[1]:[11]],0))-1)/(COUNTA(Table2614[[#This Row],[1]:[11]])-COUNTBLANK(Table2614[[#This Row],[1]:[11]])-1)))} | AE14: {=IF(Table2614[[#This Row],[7]]="","",Table2614[[#This Row],[Weight]:[Weight]]-(Table2614[[#This Row],[Weight]:[Weight]]*((_xlfn.XMATCH(Table2614[[#This Row],[7]],Table2614[[#This Row],[1]:[11]],0))-1)/(COUNTA(Table2614[[#This Row],[1]:[11]])-COUNTBLANK(Table2614[[#This Row],[1]:[11]])-1)))} | AF14: {=IF(Table2614[[#This Row],[8]]="","",Table2614[[#This Row],[Weight]:[Weight]]-(Table2614[[#This Row],[Weight]:[Weight]]*((_xlfn.XMATCH(Table2614[[#This Row],[8]],Table2614[[#This Row],[1]:[11]],0))-1)/(COUNTA(Table2614[[#This Row],[1]:[11]])-COUNTBLANK(Table2614[[#This Row],[1]:[11]])-1)))} | AG14: {=IF(Table2614[[#This Row],[9]]="","",Table2614[[#This Row],[Weight]:[Weight]]-(Table2614[[#This Row],[Weight]:[Weight]]*((_xlfn.XMATCH(Table2614[[#This Row],[9]],Table2614[[#This Row],[1]:[11]],0))-1)/(COUNTA(Table2614[[#This Row],[1]:[11]])-COUNTBLANK(Table2614[[#This Row],[1]:[11]])-1)))} | AH14: {=IF(Table2614[[#This Row],[10]]="","",Table2614[[#This Row],[Weight]:[Weight]]-(Table2614[[#This Row],[Weight]:[Weight]]*((_xlfn.XMATCH(Table2614[[#This Row],[10]],Table2614[[#This Row],[1]:[11]],0))-1)/(COUNTA(Table2614[[#This Row],[1]:[11]])-COUNTBLANK(Table2614[[#This Row],[1]:[11]])-1)))} | AI14: {=IF(Table2614[[#This Row],[11]]="","",Table2614[[#This Row],[Weight]:[Weight]]-(Table2614[[#This Row],[Weight]:[Weight]]*((_xlfn.XMATCH(Table2614[[#This Row],[11]],Table2614[[#This Row],[1]:[11]],0))-1)/(COUNTA(Table2614[[#This Row],[1]:[11]])-COUNTBLANK(Table2614[[#This Row],[1]:[11]])-1)))}
A15: 3 | B15: Provide the number of employees within your organisation who are specifically dedicated to delivering Professional Services. | C15: Vendor to provide on the company's letterhead, the following information : 1. Company name 2. Industry 3. Geographical footprint/presence 4. The number of employee 5. Employees in your organisation dedicated to Customer Success, include employee number per geographical location 6. Employees in your organisation dedicated to delivering Professional Services, include employee number per geographical location 7. Employees in your organisation dedicated to Technical Support, include employee number per geographical location | F15: Critical | G15: {=_xlfn.IFS(F15="","",F15="No interest",0,F15="Nice to have",1,F15="Useful",2,F15="Important",3,F15="Very important",4,F15="Critical",5,F15="Show stopper",6)} -> 5 | H15: =(G15/$G$11)*$F$11 -> 0.037878788 | I15: 100%: > 100 employees, 50%: 20 - 100 employees, 0%: blank or no employees | J15: {=_xlfn.TEXTJOIN(","&CHAR(10),,TEXT(Table2614[[#This Row],[12]:[22]],"0,00%"))} -> 0,04%, 0,02%, 0,00% | L15: =H15-(H15*((MATCH(Table2614[[#This Row],[Evaluators Response (SELECT)]],Table2614[[#This Row],[1]:[11]],0)-1)/(COUNTA(Table2614[[#This Row],[1]:[11]])-COUNTBLANK(Table2614[[#This Row],[1]:[11]])-1))) -> #N/A | N15: {=IFERROR(INDEX(_xlfn.UNIQUE(TRIM(_xlfn.TEXTSPLIT(Table2614[[#This Row],[Selection Options]:[Selection Options]],","))),,N$11),"")} -> 100%: > 100 employees | O15: {=IFERROR(INDEX(_xlfn.UNIQUE(TRIM(_xlfn.TEXTSPLIT(Table2614[[#This Row],[Selection Options]:[Selection Options]],","))),,O$11),"")} -> 50%: 20 - 100 employees | P15: {=IFERROR(INDEX(_xlfn.UNIQUE(TRIM(_xlfn.TEXTSPLIT(Table2614[[#This Row],[Selection Options]:[Selection Options]],","))),,P$11),"")} -> 0%: blank or no employees | Q15: {=IFERROR(INDEX(_xlfn.UNIQUE(TRIM(_xlfn.TEXTSPLIT(Table2614[[#This Row],[Selection Options]:[Selection Options]],","))),,Q$11),"")} | R15: {=IFERROR(INDEX(_xlfn.UNIQUE(TRIM(_xlfn.TEXTSPLIT(Table2614[[#This Row],[Selection Options]:[Selection Options]],","))),,R$11),"")} | S15: {=IFERROR(INDEX(_xlfn.UNIQUE(TRIM(_xlfn.TEXTSPLIT(Table2614[[#This Row],[Selection Options]:[Selection Options]],","))),,S$11),"")} | T15: {=IFERROR(INDEX(_xlfn.UNIQUE(TRIM(_xlfn.TEXTSPLIT(Table2614[[#This Row],[Selection Options]:[Selection Options]],","))),,T$11),"")} | U15: {=IFERROR(INDEX(_xlfn.UNIQUE(TRIM(_xlfn.TEXTSPLIT(Table2614[[#This Row],[Selection Options]:[Selection Options]],","))),,U$11),"")} | ... X15: {=IFERROR(INDEX(_xlfn.UNIQUE(TRIM(_xlfn.TEXTSPLIT(Table2614[[#This Row],[Selection Options]:[Selection Options]],","))),,X$11),"")} | Y15: {=IF(Table2614[[#This Row],[1]]="","",Table2614[[#This Row],[Weight]:[Weight]]-(Table2614[[#This Row],[Weight]:[Weight]]*((_xlfn.XMATCH(Table2614[[#This Row],[1]],Table2614[[#This Row],[1]:[11]],0))-1)/(COUNTA(Table2614[[#This Row],[1]:[11]])-COUNTBLANK(Table2614[[#This Row],[1]:[11]])-1)))} -> 0.037878788 | Z15: {=IF(Table2614[[#This Row],[2]]="","",Table2614[[#This Row],[Weight]:[Weight]]-(Table2614[[#This Row],[Weight]:[Weight]]*((_xlfn.XMATCH(Table2614[[#This Row],[2]],Table2614[[#This Row],[1]:[11]],0))-1)/(COUNTA(Table2614[[#This Row],[1]:[11]])-COUNTBLANK(Table2614[[#This Row],[1]:[11]])-1)))} -> 0.018939394 | AA15: {=IF(Table2614[[#This Row],[3]]="","",Table2614[[#This Row],[Weight]:[Weight]]-(Table2614[[#This Row],[Weight]:[Weight]]*((_xlfn.XMATCH(Table2614[[#This Row],[3]],Table2614[[#This Row],[1]:[11]],0))-1)/(COUNTA(Table2614[[#This Row],[1]:[11]])-COUNTBLANK(Table2614[[#This Row],[1]:[11]])-1)))} -> 0 | AB15: {=IF(Table2614[[#This Row],[4]]="","",Table2614[[#This Row],[Weight]:[Weight]]-(Table2614[[#This Row],[Weight]:[Weight]]*((_xlfn.XMATCH(Table2614[[#This Row],[4]],Table2614[[#This Row],[1]:[11]],0))-1)/(COUNTA(Table2614[[#This Row],[1]:[11]])-COUNTBLANK(Table2614[[#This Row],[1]:[11]])-1)))} | AC15: {=IF(Table2614[[#This Row],[5]]="","",Table2614[[#This Row],[Weight]:[Weight]]-(Table2614[[#This Row],[Weight]:[Weight]]*((_xlfn.XMATCH(Table2614[[#This Row],[5]],Table2614[[#This Row],[1]:[11]],0))-1)/(COUNTA(Table2614[[#This Row],[1]:[11]])-COUNTBLANK(Table2614[[#This Row],[1]:[11]])-1)))} | AD15: {=IF(Table2614[[#This Row],[6]]="","",Table2614[[#This Row],[Weight]:[Weight]]-(Table2614[[#This Row],[Weight]:[Weight]]*((_xlfn.XMATCH(Table2614[[#This Row],[6]],Table2614[[#This Row],[1]:[11]],0))-1)/(COUNTA(Table2614[[#This Row],[1]:[11]])-COUNTBLANK(Table2614[[#This Row],[1]:[11]])-1)))} | AE15: {=IF(Table2614[[#This Row],[7]]="","",Table2614[[#This Row],[Weight]:[Weight]]-(Table2614[[#This Row],[Weight]:[Weight]]*((_xlfn.XMATCH(Table2614[[#This Row],[7]],Table2614[[#This Row],[1]:[11]],0))-1)/(COUNTA(Table2614[[#This Row],[1]:[11]])-COUNTBLANK(Table2614[[#This Row],[1]:[11]])-1)))} | AF15: {=IF(Table2614[[#This Row],[8]]="","",Table2614[[#This Row],[Weight]:[Weight]]-(Table2614[[#This Row],[Weight]:[Weight]]*((_xlfn.XMATCH(Table2614[[#This Row],[8]],Table2614[[#This Row],[1]:[11]],0))-1)/(COUNTA(Table2614[[#This Row],[1]:[11]])-COUNTBLANK(Table2614[[#This Row],[1]:[11]])-1)))} | AG15: {=IF(Table2614[[#This Row],[9]]="","",Table2614[[#This Row],[Weight]:[Weight]]-(Table2614[[#This Row],[Weight]:[Weight]]*((_xlfn.XMATCH(Table2614[[#This Row],[9]],Table2614[[#This Row],[1]:[11]],0))-1)/(COUNTA(Table2614[[#This Row],[1]:[11]])-COUNTBLANK(Table2614[[#This Row],[1]:[11]])-1)))} | AH15: {=IF(Table2614[[#This Row],[10]]="","",Table2614[[#This Row],[Weight]:[Weight]]-(Table2614[[#This Row],[Weight]:[Weight]]*((_xlfn.XMATCH(Table2614[[#This Row],[10]],Table2614[[#This Row],[1]:[11]],0))-1)/(COUNTA(Table2614[[#This Row],[1]:[11]])-COUNTBLANK(Table2614[[#This Row],[1]:[11]])-1)))} | AI15: {=IF(Table2614[[#This Row],[11]]="","",Table2614[[#This Row],[Weight]:[Weight]]-(Table2614[[#This Row],[Weight]:[Weight]]*((_xlfn.XMATCH(Table2614[[#This Row],[11]],Table2614[[#This Row],[1]:[11]],0))-1)/(COUNTA(Table2614[[#This Row],[1]:[11]])-COUNTBLANK(Table2614[[#This Row],[1]:[11]])-1)))}
A16: 4 | B16: Provide the number of employees within your organisation who are specifically dedicated to Technical Support | C16: Vendor to provide on the company's letterhead, the following information : 1. Company name 2. Industry 3. Geographical footprint/presence 4. The number of employee 5. Employees in your organisation dedicated to Customer Success, include employee number per geographical location 6. Employees in your organisation dedicated to delivering Professional Services, include employee number per geographical location 7. Employees in your organisation dedicated to Technical Support, include employee number per geographical location | F16: Critical | G16: {=_xlfn.IFS(F16="","",F16="No interest",0,F16="Nice to have",1,F16="Useful",2,F16="Important",3,F16="Very important",4,F16="Critical",5,F16="Show stopper",6)} -> 5 | H16: =(G16/$G$11)*$F$11 -> 0.037878788 | I16: 100%: > 100 employees, 50%: 20 - 100 employees, 0%: blank or no employees | J16: {=_xlfn.TEXTJOIN(","&CHAR(10),,TEXT(Table2614[[#This Row],[12]:[22]],"0,00%"))} -> 0,04%, 0,02%, 0,00% | L16: =H16-(H16*((MATCH(Table2614[[#This Row],[Evaluators Response (SELECT)]],Table2614[[#This Row],[1]:[11]],0)-1)/(COUNTA(Table2614[[#This Row],[1]:[11]])-COUNTBLANK(Table2614[[#This Row],[1]:[11]])-1))) -> #N/A | N16: {=IFERROR(INDEX(_xlfn.UNIQUE(TRIM(_xlfn.TEXTSPLIT(Table2614[[#This Row],[Selection Options]:[Selection Options]],","))),,N$11),"")} -> 100%: > 100 employees | O16: {=IFERROR(INDEX(_xlfn.UNIQUE(TRIM(_xlfn.TEXTSPLIT(Table2614[[#This Row],[Selection Options]:[Selection Options]],","))),,O$11),"")} -> 50%: 20 - 100 employees | P16: {=IFERROR(INDEX(_xlfn.UNIQUE(TRIM(_xlfn.TEXTSPLIT(Table2614[[#This Row],[Selection Options]:[Selection Options]],","))),,P$11),"")} -> 0%: blank or no employees | Q16: {=IFERROR(INDEX(_xlfn.UNIQUE(TRIM(_xlfn.TEXTSPLIT(Table2614[[#This Row],[Selection Options]:[Selection Options]],","))),,Q$11),"")} | R16: {=IFERROR(INDEX(_xlfn.UNIQUE(TRIM(_xlfn.TEXTSPLIT(Table2614[[#This Row],[Selection Options]:[Selection Options]],","))),,R$11),"")} | S16: {=IFERROR(INDEX(_xlfn.UNIQUE(TRIM(_xlfn.TEXTSPLIT(Table2614[[#This Row],[Selection Options]:[Selection Options]],","))),,S$11),"")} | T16: {=IFERROR(INDEX(_xlfn.UNIQUE(TRIM(_xlfn.TEXTSPLIT(Table2614[[#This Row],[Selection Options]:[Selection Options]],","))),,T$11),"")} | U16: {=IFERROR(INDEX(_xlfn.UNIQUE(TRIM(_xlfn.TEXTSPLIT(Table2614[[#This Row],[Selection Options]:[Selection Options]],","))),,U$11),"")} | ... X16: {=IFERROR(INDEX(_xlfn.UNIQUE(TRIM(_xlfn.TEXTSPLIT(Table2614[[#This Row],[Selection Options]:[Selection Options]],","))),,X$11),"")} | Y16: {=IF(Table2614[[#This Row],[1]]="","",Table2614[[#This Row],[Weight]:[Weight]]-(Table2614[[#This Row],[Weight]:[Weight]]*((_xlfn.XMATCH(Table2614[[#This Row],[1]],Table2614[[#This Row],[1]:[11]],0))-1)/(COUNTA(Table2614[[#This Row],[1]:[11]])-COUNTBLANK(Table2614[[#This Row],[1]:[11]])-1)))} -> 0.037878788 | Z16: {=IF(Table2614[[#This Row],[2]]="","",Table2614[[#This Row],[Weight]:[Weight]]-(Table2614[[#This Row],[Weight]:[Weight]]*((_xlfn.XMATCH(Table2614[[#This Row],[2]],Table2614[[#This Row],[1]:[11]],0))-1)/(COUNTA(Table2614[[#This Row],[1]:[11]])-COUNTBLANK(Table2614[[#This Row],[1]:[11]])-1)))} -> 0.018939394 | AA16: {=IF(Table2614[[#This Row],[3]]="","",Table2614[[#This Row],[Weight]:[Weight]]-(Table2614[[#This Row],[Weight]:[Weight]]*((_xlfn.XMATCH(Table2614[[#This Row],[3]],Table2614[[#This Row],[1]:[11]],0))-1)/(COUNTA(Table2614[[#This Row],[1]:[11]])-COUNTBLANK(Table2614[[#This Row],[1]:[11]])-1)))} -> 0 | AB16: {=IF(Table2614[[#This Row],[4]]="","",Table2614[[#This Row],[Weight]:[Weight]]-(Table2614[[#This Row],[Weight]:[Weight]]*((_xlfn.XMATCH(Table2614[[#This Row],[4]],Table2614[[#This Row],[1]:[11]],0))-1)/(COUNTA(Table2614[[#This Row],[1]:[11]])-COUNTBLANK(Table2614[[#This Row],[1]:[11]])-1)))} | AC16: {=IF(Table2614[[#This Row],[5]]="","",Table2614[[#This Row],[Weight]:[Weight]]-(Table2614[[#This Row],[Weight]:[Weight]]*((_xlfn.XMATCH(Table2614[[#This Row],[5]],Table2614[[#This Row],[1]:[11]],0))-1)/(COUNTA(Table2614[[#This Row],[1]:[11]])-COUNTBLANK(Table2614[[#This Row],[1]:[11]])-1)))} | AD16: {=IF(Table2614[[#This Row],[6]]="","",Table2614[[#This Row],[Weight]:[Weight]]-(Table2614[[#This Row],[Weight]:[Weight]]*((_xlfn.XMATCH(Table2614[[#This Row],[6]],Table2614[[#This Row],[1]:[11]],0))-1)/(COUNTA(Table2614[[#This Row],[1]:[11]])-COUNTBLANK(Table2614[[#This Row],[1]:[11]])-1)))} | AE16: {=IF(Table2614[[#This Row],[7]]="","",Table2614[[#This Row],[Weight]:[Weight]]-(Table2614[[#This Row],[Weight]:[Weight]]*((_xlfn.XMATCH(Table2614[[#This Row],[7]],Table2614[[#This Row],[1]:[11]],0))-1)/(COUNTA(Table2614[[#This Row],[1]:[11]])-COUNTBLANK(Table2614[[#This Row],[1]:[11]])-1)))} | AF16: {=IF(Table2614[[#This Row],[8]]="","",Table2614[[#This Row],[Weight]:[Weight]]-(Table2614[[#This Row],[Weight]:[Weight]]*((_xlfn.XMATCH(Table2614[[#This Row],[8]],Table2614[[#This Row],[1]:[11]],0))-1)/(COUNTA(Table2614[[#This Row],[1]:[11]])-COUNTBLANK(Table2614[[#This Row],[1]:[11]])-1)))} | AG16: {=IF(Table2614[[#This Row],[9]]="","",Table2614[[#This Row],[Weight]:[Weight]]-(Table2614[[#This Row],[Weight]:[Weight]]*((_xlfn.XMATCH(Table2614[[#This Row],[9]],Table2614[[#This Row],[1]:[11]],0))-1)/(COUNTA(Table2614[[#This Row],[1]:[11]])-COUNTBLANK(Table2614[[#This Row],[1]:[11]])-1)))} | AH16: {=IF(Table2614[[#This Row],[10]]="","",Table2614[[#This Row],[Weight]:[Weight]]-(Table2614[[#This Row],[Weight]:[Weight]]*((_xlfn.XMATCH(Table2614[[#This Row],[10]],Table2614[[#This Row],[1]:[11]],0))-1)/(COUNTA(Table2614[[#This Row],[1]:[11]])-COUNTBLANK(Table2614[[#This Row],[1]:[11]])-1)))} | AI16: {=IF(Table2614[[#This Row],[11]]="","",Table2614[[#This Row],[Weight]:[Weight]]-(Table2614[[#This Row],[Weight]:[Weight]]*((_xlfn.XMATCH(Table2614[[#This Row],[11]],Table2614[[#This Row],[1]:[11]],0))-1)/(COUNTA(Table2614[[#This Row],[1]:[11]])-COUNTBLANK(Table2614[[#This Row],[1]:[11]])-1)))}
A17: 5 | B17: Confirm whether your company has an established presence in South Africa. This includes, but is not limited to, registered offices, operational teams, or support personnel located within the country. | C17: Vendor to provide on the company's letterhead, the following information : 1. Company name 2. Industry 3. Geographical footprint/presence 4. The number of employee 5. Employees in your organisation dedicated to Customer Success, include employee number per geographical location 6. Employees in your organisation dedicated to delivering Professional Services, include employee number per geographical location 7. Employees in your organisation dedicated to Technical Support, include employee number per geographical location | F17: Show stopper | G17: {=_xlfn.IFS(F17="","",F17="No interest",0,F17="Nice to have",1,F17="Useful",2,F17="Important",3,F17="Very important",4,F17="Critical",5,F17="Show stopper",6)} -> 6 | H17: =(G17/$G$11)*$F$11 -> 0.045454545 | I17: 100%: Full Presence in RSA, 50: Presence in RSA via 3rd parties (e.g. distributor reseller), 0%: No presence in RSA | J17: {=_xlfn.TEXTJOIN(","&CHAR(10),,TEXT(Table2614[[#This Row],[12]:[22]],"0,00%"))} -> 0,05%, 0,02%, 0,00% | L17: =H17-(H17*((MATCH(Table2614[[#This Row],[Evaluators Response (SELECT)]],Table2614[[#This Row],[1]:[11]],0)-1)/(COUNTA(Table2614[[#This Row],[1]:[11]])-COUNTBLANK(Table2614[[#This Row],[1]:[11]])-1))) -> #N/A | N17: {=IFERROR(INDEX(_xlfn.UNIQUE(TRIM(_xlfn.TEXTSPLIT(Table2614[[#This Row],[Selection Options]:[Selection Options]],","))),,N$11),"")} -> 100%: Full Presence in RSA | O17: {=IFERROR(INDEX(_xlfn.UNIQUE(TRIM(_xlfn.TEXTSPLIT(Table2614[[#This Row],[Selection Options]:[Selection Options]],","))),,O$11),"")} -> 50: Presence in RSA via 3rd parties (e.g. distributor reseller) | P17: {=IFERROR(INDEX(_xlfn.UNIQUE(TRIM(_xlfn.TEXTSPLIT(Table2614[[#This Row],[Selection Options]:[Selection Options]],","))),,P$11),"")} -> 0%: No presence in RSA | Q17: {=IFERROR(INDEX(_xlfn.UNIQUE(TRIM(_xlfn.TEXTSPLIT(Table2614[[#This Row],[Selection Options]:[Selection Options]],","))),,Q$11),"")} | R17: {=IFERROR(INDEX(_xlfn.UNIQUE(TRIM(_xlfn.TEXTSPLIT(Table2614[[#This Row],[Selection Options]:[Selection Options]],","))),,R$11),"")} | S17: {=IFERROR(INDEX(_xlfn.UNIQUE(TRIM(_xlfn.TEXTSPLIT(Table2614[[#This Row],[Selection Options]:[Selection Options]],","))),,S$11),"")} | T17: {=IFERROR(INDEX(_xlfn.UNIQUE(TRIM(_xlfn.TEXTSPLIT(Table2614[[#This Row],[Selection Options]:[Selection Options]],","))),,T$11),"")} | U17: {=IFERROR(INDEX(_xlfn.UNIQUE(TRIM(_xlfn.TEXTSPLIT(Table2614[[#This Row],[Selection Options]:[Selection Options]],","))),,U$11),"")} | ... X17: {=IFERROR(INDEX(_xlfn.UNIQUE(TRIM(_xlfn.TEXTSPLIT(Table2614[[#This Row],[Selection Options]:[Selection Options]],","))),,X$11),"")} | Y17: {=IF(Table2614[[#This Row],[1]]="","",Table2614[[#This Row],[Weight]:[Weight]]-(Table2614[[#This Row],[Weight]:[Weight]]*((_xlfn.XMATCH(Table2614[[#This Row],[1]],Table2614[[#This Row],[1]:[11]],0))-1)/(COUNTA(Table2614[[#This Row],[1]:[11]])-COUNTBLANK(Table2614[[#This Row],[1]:[11]])-1)))} -> 0.045454545 | Z17: {=IF(Table2614[[#This Row],[2]]="","",Table2614[[#This Row],[Weight]:[Weight]]-(Table2614[[#This Row],[Weight]:[Weight]]*((_xlfn.XMATCH(Table2614[[#This Row],[2]],Table2614[[#This Row],[1]:[11]],0))-1)/(COUNTA(Table2614[[#This Row],[1]:[11]])-COUNTBLANK(Table2614[[#This Row],[1]:[11]])-1)))} -> 0.022727273 | AA17: {=IF(Table2614[[#This Row],[3]]="","",Table2614[[#This Row],[Weight]:[Weight]]-(Table2614[[#This Row],[Weight]:[Weight]]*((_xlfn.XMATCH(Table2614[[#This Row],[3]],Table2614[[#This Row],[1]:[11]],0))-1)/(COUNTA(Table2614[[#This Row],[1]:[11]])-COUNTBLANK(Table2614[[#This Row],[1]:[11]])-1)))} -> 0 | AB17: {=IF(Table2614[[#This Row],[4]]="","",Table2614[[#This Row],[Weight]:[Weight]]-(Table2614[[#This Row],[Weight]:[Weight]]*((_xlfn.XMATCH(Table2614[[#This Row],[4]],Table2614[[#This Row],[1]:[11]],0))-1)/(COUNTA(Table2614[[#This Row],[1]:[11]])-COUNTBLANK(Table2614[[#This Row],[1]:[11]])-1)))} | AC17: {=IF(Table2614[[#This Row],[5]]="","",Table2614[[#This Row],[Weight]:[Weight]]-(Table2614[[#This Row],[Weight]:[Weight]]*((_xlfn.XMATCH(Table2614[[#This Row],[5]],Table2614[[#This Row],[1]:[11]],0))-1)/(COUNTA(Table2614[[#This Row],[1]:[11]])-COUNTBLANK(Table2614[[#This Row],[1]:[11]])-1)))} | AD17: {=IF(Table2614[[#This Row],[6]]="","",Table2614[[#This Row],[Weight]:[Weight]]-(Table2614[[#This Row],[Weight]:[Weight]]*((_xlfn.XMATCH(Table2614[[#This Row],[6]],Table2614[[#This Row],[1]:[11]],0))-1)/(COUNTA(Table2614[[#This Row],[1]:[11]])-COUNTBLANK(Table2614[[#This Row],[1]:[11]])-1)))} | AE17: {=IF(Table2614[[#This Row],[7]]="","",Table2614[[#This Row],[Weight]:[Weight]]-(Table2614[[#This Row],[Weight]:[Weight]]*((_xlfn.XMATCH(Table2614[[#This Row],[7]],Table2614[[#This Row],[1]:[11]],0))-1)/(COUNTA(Table2614[[#This Row],[1]:[11]])-COUNTBLANK(Table2614[[#This Row],[1]:[11]])-1)))} | AF17: {=IF(Table2614[[#This Row],[8]]="","",Table2614[[#This Row],[Weight]:[Weight]]-(Table2614[[#This Row],[Weight]:[Weight]]*((_xlfn.XMATCH(Table2614[[#This Row],[8]],Table2614[[#This Row],[1]:[11]],0))-1)/(COUNTA(Table2614[[#This Row],[1]:[11]])-COUNTBLANK(Table2614[[#This Row],[1]:[11]])-1)))} | AG17: {=IF(Table2614[[#This Row],[9]]="","",Table2614[[#This Row],[Weight]:[Weight]]-(Table2614[[#This Row],[Weight]:[Weight]]*((_xlfn.XMATCH(Table2614[[#This Row],[9]],Table2614[[#This Row],[1]:[11]],0))-1)/(COUNTA(Table2614[[#This Row],[1]:[11]])-COUNTBLANK(Table2614[[#This Row],[1]:[11]])-1)))} | AH17: {=IF(Table2614[[#This Row],[10]]="","",Table2614[[#This Row],[Weight]:[Weight]]-(Table2614[[#This Row],[Weight]:[Weight]]*((_xlfn.XMATCH(Table2614[[#This Row],[10]],Table2614[[#This Row],[1]:[11]],0))-1)/(COUNTA(Table2614[[#This Row],[1]:[11]])-COUNTBLANK(Table2614[[#This Row],[1]:[11]])-1)))} | AI17: {=IF(Table2614[[#This Row],[11]]="","",Table2614[[#This Row],[Weight]:[Weight]]-(Table2614[[#This Row],[Weight]:[Weight]]*((_xlfn.XMATCH(Table2614[[#This Row],[11]],Table2614[[#This Row],[1]:[11]],0))-1)/(COUNTA(Table2614[[#This Row],[1]:[11]])-COUNTBLANK(Table2614[[#This Row],[1]:[11]])-1)))}
