Workbook
Name Area_Print: #REF!
Name Data: #REF!
Name Data_Daywork: #REF!
Name Data_Opt_Bill5: #REF!
Name Sort_Data: #REF!

Sheet Read Me
A1: Enquiry No. | C1: ='Tender Cover Sheet'!C12 -> 0
A2: Package Name: | C2: ='Tender Cover Sheet'!C14 -> STANDARDISATION, RATIONALISATION AND TESTING OF MEDIUM VOLTAGE RING MAIN UNITS (RMUS) AND RMUS WITH INTERGRATED CONTROL PLANT SOLUTION CONSISTING OF REMOTE TERMINAL UNITS (RTU) AND DEFINED PROTECTION SYSTEMS
A3: Tenderer's Name: | C3: ='Tender Cover Sheet'!C16 -> 0
A4: Category of Offer : | C4: ='Tender Cover Sheet'!C18 -> Main Offer
A6: READ ME
A8: 1 | B8: Read these notes BEFORE you commence input to this workbook. Changes may not be made to this workbook. No columns may be removed, edited, added or changed on this workbook.
A9: 2 | B9: Only The Main Offer shall be accepted. No alternative offers are accepted. There must be a separate Excel and PDF file for the main offer.
A10: 3 | B10: Main offer is = The pricing schedule may not be changed or altered. Tenderer(s) to populate first, all required information on the Tender cover sheet - where applicable and also populate as stipulated in (5.1.1 Pricing, 5.1.2 Summary, 5.1.3 CPA Formulae, 5.1.4 Exchange Rates.
A11: 4 | B11: NOTE: ALL CALCULATIONS ARE THE RESPONSIBILITY OF THE TENDERER, AND MUST BE CHECKED THOROUGHLY. ANY DISCREPANCY FOUND IN THE CALCULATIONS IN THIS WORKBOOK MUST BE BROUGHT TO THE ATTENTION OF ESKOM, THROUGH THE DESIGNATED BUYER!
M13: .
A14: 5 | B14: This workbook contains the following sheets:
B15: Read Me | C15: This sheet provides an overview to the Tenderer of the content and role of the sheets making up the Price Schedule. It will not form part of the tender or contract.The tender will be awarded wholly to one tenderer for this price list and will not split amongst tenderers.This contract is an "as and when" required contract. The units herein are estimates only and are non-committal.
B16: Tender Cover Sheet | C16: This is the cover sheet for Worksheets 5.1.0 to 5.1.4 and provides the total tendered price which is mandatory be completed. It is also the source of the package name, tenderer name etc. for the other worksheets. It will form part of the tender or contract. All worksheets are compulsory tender returnables as they are loaded onto the Eskom Tender Bulletin and they may not be changed or altered.
B17: 5.1.0 Preamble | C17: This sheet provides general guidelines for this section.
B18: 5.1.1 Pricing | C18: This is the main data entry sheet for the Tenderer to complete. The Tenderer takes responsibility for ensuring correct inputs. Tenderers are to populate their pricing information as stipulated in the pricing schedule. The pricing schedule may not be changed or altered. Tenderer(s) to populate all required information on the Tender cover sheet and as stipulated in Sheets 5.1.1-5.1.3
B19: 5.1.2 Summary | C19: Pricing Schedule Summary
B20: 5.1.3. Exchange Rates | C20: The table below needs to be completed if the Employer will be exposed to any currency fluctuation as stipulated in Secondary Clause X3. For conversion of the foreign portions to Rand, please use the South African Reserve Bank's (SARB) exchange rate at 12:00 on the day of advertisement of the bid. This is in terms of the Preferential Procurement Policy Framework Act (PPPFA) with which the Employer has to comply.
B21: 5.1.4 CPA | C21: CPA will be NOT applicable.
B22: 5.1.5 PS5 | C22: This sheet must be completed by the Tenderer for goods manufactured in and outside the R.S.A. Price per unit for supply, delivery and erection / installation. All amounts expressed in rands.
A26: 6 | B26: Conventions used in this workbook
A27: The following conventions have been used in this workbook to facilitate its accurate use:
B28: Only Light Green highlighted cells are to be inputted by the Tenderer.
B29: There will be no inputting in Grey highlighted cells.
B30: Read Me : Very Important

Sheet Tender Cover Sheet
B10: PRICING INFORMATION
B12: ENQUIRY No.
B14: NAME OF PACKAGE: | C14: STANDARDISATION, RATIONALISATION AND TESTING OF MEDIUM VOLTAGE RING MAIN UNITS (RMUS) AND RMUS WITH INTERGRATED CONTROL PLANT SOLUTION CONSISTING OF REMOTE TERMINAL UNITS (RTU) AND DEFINED PROTECTION SYSTEMS
B16: TENDERER’S NAME:
B18: CATEGORY OF OFFER (MAIN/ALTERNATIVE OFFER): | C18: Main Offer
B20: TENDERED PRICE: IN ZAR | C20: ='5.1.1 Pricing Schedule'!M59 -> 0
B21: (excluding VAT)
B23: RAND VALUE IN WORDS | C23: [Price in Words]
B24: (Including VAT)
B28: TENDERED PRICE: IN ZAR | C28: ='5.1.1 Pricing Schedule'!O59 -> 0
B29: (including VAT)
B31: DATE :
B35: FULL NAMES OF SIGNATORY:
B39: DESIGNATION OF SIGNATORY:
B43: SIGNATURE :

Sheet 5.1.4 CPA Formulae
A1: Enquiry No. | C1: ='Tender Cover Sheet'!C12 -> 0
A2: Package Name: | C2: ='Tender Cover Sheet'!C14 -> STANDARDISATION, RATIONALISATION AND TESTING OF MEDIUM VOLTAGE RING MAIN UNITS (RMUS) AND RMUS WITH INTERGRATED CONTROL PLANT SOLUTION CONSISTING OF REMOTE TERMINAL UNITS (RTU) AND DEFINED PROTECTION SYSTEMS
A3: Tenderer's Name: | C3: ='Tender Cover Sheet'!C16 -> 0
A4: Category of Offer: | C4: ='Tender Cover Sheet'!C18 -> Main Offer
A6: 5.1.3 CONTRACT PRICE ADJUSTMENT (CPA) FOR INFLATION | P6: More details are provided in the Sheet
A8: No. | B8: Formula Code | C8: Summary of the description of the Tenderer's Formulae
A9: 1 | C9: Fixed | F9: Prices are 100 % fixed and firm. CPA is not applicable. Note( Cell B10 must be a blank cell).
A10: 2 | B10: A | C10: =B41 -> Tenderer's description of Formula A | F10: Type in the description of each formula in the tables below
A11: 3 | B11: B | C11: =B52 -> Tenderer's description of Formula B
A12: 4 | B12: C | C12: =B63 -> Tenderer's description of Formula C
A13: 5 | B13: D | C13: =B74 -> Tenderer's description of Formula D
A14: 6 | B14: E | C14: =B85 -> Tenderer's description of Formula E
A15: 7 | B15: F | C15: =B96 -> Tenderer's description of Formula F
A16: 8 | B16: G | C16: =B107 -> Tenderer's description of Formula G
A17: 9 | B17: H | C17: =B118 -> Tenderer's description of Formula H
A18: 10 | B18: I | C18: =B129 -> Tenderer's description of Formula I
A19: 11 | B19: J | C19: =B140 -> Tenderer's description of Formula J
A21: SPECIFIC REQUIREMENTS
A22: 1 | B22: Only Main Offer is to be submitted. Main offer tenderers are to fully comply with the requirements in the General Notes and CPA Formulae Notes below.
A23: 2 | B23: No ALTERNATIVE offers are accepted.
A25: GENERAL NOTES :
A26: 1 | B26: References to "indices" below mean "cost indices or reference prices".
A27: 2 | B27: Where 5 year historical information must be provided as instructed below, internet address references which are accessible to the general public may be submitted by the Tenderer instead, with the specific electronic route and web page reflecting the applicable data.
A28: 3 | B28: The worksheet CPA Formula in 5.1.2. has to be populated by the tenderer (columns B - J), unless the tenderer’s prices are fixed and firm for the duration of the contract. Each CPA formula must add up to a total of 100%. All columns are to be populated. No in house CPA indices may be used. Tenderers are to provide all requested information.CPA Formulae should represent cost breakdown of the goods/commodities/components/items being sourced.
A29: 4 | B29: CPA Formulae Codes "Column Q of Sheet 5.1.1 Pricing" is to be populated by the tenderer by selecting the respective drop down codes. The CPA formula as developed by Tenderer in 5.1.2 CPA formulae worksheet (e.g. Formula A-J ) will automatically populate in Sheet 5.1.1 based on the inputs in "Sheet 5.1.2 CPA Formula".
A30: 5 | B30: Prices will be fixed for the first twelve (12) months after contract signing date and escalated on an annual basis based on the CPA formula agreed on with tenderer.
A31: 6 | B31: The CPA escalation will be calculated as follows: latest index which is the latest available index at the end of each contractual year vs. the base index which is one month prior to tender closing date.
A32: CPA FORMULA NOTES :
A33: 1 | B33: Proportions/weightings in CPA Formulae: The fixed portion of each formula, not subject to CPA, must be at least 15% but Tenderers may submit higher fixed portion percentages. The other constituent indices and their proportions in each formula must be realistic and relative to the applicable work. The fixed portion and other proportions must add up to 100%.
A34: 2 | B34: Formulae must be linked to independent cost indices or other benchmarks ("reference prices") and must be clearly and completely defined. The source must be a recognised and independent statistical publishing organisation. The Tenderers' in-house indices may not be used.
A35: 3 | B35: Local Price CPA: Where local indices other than those published by SEIFSA or Statistics SA are specified, the Tenderer must submit 5 years' of month by month historical data for such indices. The Tenderer must ensure that indices are published and recommended by the source thereof as applicable to the work involved and that they are still in force/use and applicable at the date of submission of the tender.
A36: 4 | B36: CPA Base Date: The CPA base date for calculating price movements will be the Base Date, Month before Tender closes. For indices or reference prices published as at certain dates, and where such a date is not the Base Date, the latest date for which it is published before the Base Date will be considered as the Base Date index or reference price. In instances where the figure or value is not as at the Base Date or considered as the Base Date Index or reference price as explained herein, the date, figure or value as well as the reason for the deviation must be clearly separately stated and must be realistic for purposes of CPA.
A37: 5 | B37: Base Date Index : The base index or reference price must be inserted in the appropriate column.
A41: Formula A | B41: Tenderer's description of Formula A
A42: Index Ref. | B42: Proportions / weightings for each index (refer note 1) | C42: Description / scope of index (e.g. Labour) | D42: Full title/definition of index as per publisher | E42: Source/publisher of index (e.g. SEIFSA, StatsSA, LME) | F42: Base Month for CPA if not Base Date as defined (refer note 4) | G42: Base Date Index (refer note 5) | H42: Exchange Rate Currency 1,00 = | I42: Historical data provided (Yes or No- provide http link) | J42: =J53 -> 40909 | K42: =J42+31 -> 40940 | L42: =K42+31 -> 40971 | M42: =L42+31 -> 41002 | N42: =M42+31 -> 41033 | O42: =N42+31 -> 41064 | P42: =O42+31 -> 41095 | Q42: =P42+31 -> 41126 | R42: =Q42+31 -> 41157 | ... BP42: =BO42+31 -> 42707
A43: A1
A44: A2
A45: A3
A46: A4
A47: A5
...

Sheet 5.1.0 Preamble
A1: Enquiry No. | C1: ='Tender Cover Sheet'!C12 -> 0
A2: Package Name: | C2: ='Tender Cover Sheet'!C14 -> STANDARDISATION, RATIONALISATION AND TESTING OF MEDIUM VOLTAGE RING MAIN UNITS (RMUS) AND RMUS WITH INTERGRATED CONTROL PLANT SOLUTION CONSISTING OF REMOTE TERMINAL UNITS (RTU) AND DEFINED PROTECTION SYSTEMS
A3: Tenderer's Name: | C3: ='Tender Cover Sheet'!C16 -> 0
A4: Category of Offer: | C4: ='Tender Cover Sheet'!C18 -> Main Offer
A6: 5.1.0 PREAMBLE TO PRICE SCHEDULE
A8: 1 | B8: The Price Schedule provides the basis of valuation and information for general contract progress monitoring. This contract is an "as and when" required contract.The tender will be awarded wholly to one tenderer for this price list and will not split amongst tenderers.The units herein are estimates only and are non-committal. No alternative offers are accepted.
A9: 2 | B9: This is the main data entry sheet for the Tenderer to complete. The Tenderer takes responsibility for ensuring correct inputs. Tenderers are to populate their pricing information as stipulated in the pricing schedule. The pricing schedule may not be changed or altered. Tenderer(s) to populate all required information on the Tender cover sheet and also populate as stipulated in Sheets 5.1.1 - 5.1.3.
A10: 3 | B10: The Prices are the amounts stated in the price column of the Price Schedule. Where an estimated quantity is stated for an item in the Price Schedule, the Price is calculated by multiplying the estimated quantity by the rate.
A11: 4 | B11: If the Supplier has decided not to identify a particular item in the price schedule at the time of tender the cost to the Supplier of doing the work is assumed to be included in, or spread across, the other Prices and rates in the price schedule in order to fulfil the obligation to Provide the Goods and Services for the tendered total of the Prices.
A12: 5 | B12: The total of the prices must include for all direct and indirect costs, overheads, profit on costs, risks, liabilities, obligations, etc. relative to the contract.
A13: 6 | B13: The Tenderer must allow for all necessary costs to complete the pricing shedule as required in terms of the specifications, technical scope and conditions of contract whether expressly stated or not in the Price Schedules. The Tenderer must provide any breakdown of prices as may be required for specific items not detailed in the Price Schedule prior to or after contract award.
A14: 7 | B14: The Prices quoted by the supplier should be exclusive and inclusive of VAT.
A15: 8 | B15: Please note, that the Tenderer is to input the VAT amount as no formulae has been provided for the VAT portion.
A16: 9 | B16: All worksheets in this Pricing Schedule are to be submitted. Tenderers are not allowed to ommit a worksheet.
A17: 10 | B17: Only Light Green highlighted cells are to be inputted by the Tenderer.
A18: 11 | B18: There will be no inputting in Grey highlighted cells.
A19: 12 | B19: Read Me : Very Important

Sheet 5.1.1 Pricing Schedule
A1: Enquiry No. | C1: ='Tender Cover Sheet'!C12 -> 0
A2: Package Name: | C2: ='Tender Cover Sheet'!C14 -> STANDARDISATION, RATIONALISATION AND TESTING OF MEDIUM VOLTAGE RING MAIN UNITS (RMUS) AND RMUS WITH INTERGRATED CONTROL PLANT SOLUTION CONSISTING OF REMOTE TERMINAL UNITS (RTU) AND DEFINED PROTECTION SYSTEMS
A3: Tenderer's Name: | C3: ='Tender Cover Sheet'!C16 -> 0
A4: Category of Offer: | C4: ='Tender Cover Sheet'!C18 -> Main Offer
A6: 5.1.1. Pricing
A8: NOTES:
A9: 1 | B9: This is the main data entry sheet for the Tenderer to complete. The Tenderer takes responsibility for ensuring correct inputs. Tenderers are to populate their pricing information as stipulated in the pricing schedule. The pricing schedule may not be changed or altered. Tenderer(s) to populate all required information on the Tender cover sheet as stipulated in (5.1.1 Pricing ) and (5.1.2 CPA Formulae). The tender will be awarded wholly to one tenderer for this price list and this will not split amongst tenderers.This contract is an "as and when" required contract. The units herein are estimates only and are non-committal.This is a whole tender for each price list where tenderers are required to tender for every item appearing on each price list. CPA Formulae should represent cost breakdown of the goods/commodities/components/items being sourced.
A10: 2 | B10: NB - Column I & Column Q in 5.1.1 Pricing is a drop down cell for tenderer to select the Currency and CPA formula chosen that they would have populated in 5.1.2 CPA Formulae and 5,1,4 Exchange Rates. It is the Tenderer's responsibility to ensure that Column N " Total Tendered Price Excl Vat" correctly reflects the intention of the Tenderer. | F10: X
A11: 3 | B11: CPA Formulae Codes Column I 5.1.1 Pricing is to be populated by the tenderer by selecting the respective drop down codes CPA formula as developed by Tenderer in 5.1.2 CPA formulae worksheet (e.g. Formula A - J ) then the tenderer must populate their respective CPA formula in 5.1.2 CPA Formulae Worksheet. Codes and descriptions must be selected by the tenderer and inserted into each row of activity.
A12: 4 | B12: The tender will be awarded wholly to one tenderer for this price list and will not split amongst tenderers.
A13: 5 | B13: Quantities are estimated and non-committal. | F13: X | R13: FORECAST RATE OF INVOICING (FRI)
R14: Certification Date (Date Contractor submits certificate of work done)
F15: Local Currency | H15: Foreign Currency | M15: Local + Foreign | P15: CPA | R15: 44835 | S15: 44866 | T15: 44896 | U15: 44927 | V15: 44958 | W15: 44986 | X15: 45017 | Y15: 45047 | Z15: 45078 | AA15: 45108 | AB15: 45139 | AC15: 45170 | AD15: 45200 | AE15: 45231 | AF15: 45261 | AG15: 45292 | AH15: 45323 | AI15: 45352 | AJ15: 45383 | AK15: 45413 | AL15: 45444 | AM15: 45474 | AN15: 45505 | AO15: 45536 | AP15: 45566 | AQ15: 45597 | AR15: 45627 | AS15: 45658 | AT15: 45689 | AU15: 45717 | AV15: 45748 | AW15: 45778 | AX15: 45809 | AY15: 45839 | AZ15: 45870 | BA15: 45901 | BB15: 45931 | BC15: 45962 | BD15: 45992 | BE15: 46023 | BF15: 46054 | BG15: 46082 | BH15: 46113 | BI15: 46143 | BJ15: 46174 | BK15: 46204 | BL15: 46235 | BM15: 46266 | BN15: 46296 | BO15: 46327 | BP15: 46357 | BQ15: 46388 | BR15: 46419 | BS15: 46447 | BT15: 46478 | BU15: 46508 | BV15: 46539 | BW15: 46569 | BX15: 46600 | BY15: 46631 | BZ15: 46661 | CA15: 46692 | CB15: 46722 | CC15: 46753
A16: Line No. | B16: Item Number | D16: Unit of Measurement | E16: Estimated Quantities | F16: Tendered Rates (ZAR) | G16: Total Tendered Value (ZAR) | H16: Currency Code (See Sheet 5.1.6 Rate of Exchange) | I16: RoE Currency 1,00 = ZAR | J16: Unit Price in Foreign Currency | K16: Total Foreign Price in Foreign Currency | L16: Total Foreign Price in Local Currency (ZAR) | M16: Tendered Price Excld. Vat (ZAR) | N16: VAT | O16: Tendered Price Including Vat (ZAR) | P16: CPA Formula No. (See Sheet 5.1.2) | Q16: CPA Description (See Sheet 5.1.2) | R16: Payment Date | U16: All values in this table to be in ZAR | Y16: Payment Date | AC16: All values in this table to be in ZAR | AK16: Payment Date | AO16: All values in this table to be in ZAR | AV16: Payment Date | AZ16: All values in this table to be in ZAR | BI16: Payment Date | BM16: All values in this table to be in ZAR | BV16: Payment Date | BZ16: All values in this table to be in ZAR
R17: 44866 | S17: 44896 | T17: 44927 | U17: 44958 | V17: 44986 | W17: 45017 | X17: 45047 | Y17: 45078 | Z17: 45108 | AA17: 45139 | AB17: 45170 | AC17: 45200 | AD17: 45231 | AE17: 45261 | AF17: 45292 | AG17: 45323 | AH17: 45352 | AI17: 45383 | AJ17: 45413 | AK17: 45444 | AL17: 45474 | AM17: 45505 | AN17: 45536 | AO17: 45566 | AP17: 45597 | AQ17: 45627 | AR17: 45658 | AS17: 45689 | AT17: 45717 | AU17: 45748 | AV17: 45778 | AW17: 45809 | AX17: 45839 | AY17: 45870 | AZ17: 45901 | BA17: 45931 | BB17: 45962 | BC17: 45992 | BD17: 46023 | BE17: 46054 | BF17: 46082 | BG17: 46113 | BH17: 46143 | BI17: 46174 | BJ17: 46204 | BK17: 46235 | BL17: 46266 | BM17: 46296 | BN17: 46327 | BO17: 46357 | BP17: 46388 | BQ17: 46419 | BR17: 46447 | BS17: 46478 | BT17: 46508 | BU17: 46539 | BV17: 46569 | BW17: 46600 | BX17: 46631 | BY17: 46661 | BZ17: 46692 | CA17: 46722 | CB17: 46753 | CC17: 46784
B18: STANDARDISATION, RATIONALISATION AND TESTING OF MEDIUM VOLTAGE RING MAIN UNITS (RMUS) AND RMUS WITH INTERGRATED CONTROL PLANT SOLUTION CONSISTING OF REMOTE TERMINAL UNITS (RTU) AND DEFINED PROTECTION SYSTEMS | R18: =SUM(#REF!) -> #REF! | S18: =SUM(#REF!) -> #REF! | T18: =SUM(#REF!) -> #REF! | U18: =SUM(#REF!) -> #REF! | V18: =SUM(#REF!) -> #REF! | W18: =SUM(#REF!) -> #REF! | X18: =SUM(#REF!) -> #REF! | Y18: =SUM(#REF!) -> #REF! | ... CC18: =SUM(#REF!) -> #REF!
A19: 1 | B19: 1. PRELIMINARIES AND GENERAL: FIXED COSTS | R19: =SUM(R20:R24) -> 0 | S19: =SUM(S20:S24) -> 0 | T19: =SUM(T20:T24) -> 0 | U19: =SUM(U20:U24) -> 0 | V19: =SUM(V20:V24) -> 0 | W19: =SUM(W20:W24) -> 0 | X19: =SUM(X20:X24) -> 0 | Y19: =SUM(Y20:Y24) -> 0 | ... CC19: =SUM(CC20:CC24) -> 0
A20: =A19+1 -> 2 | B20: 1.1 | C20: Contractual requirements | D20: Sum | E20: 1 | F20: 0 | G20: =F20*E20 -> 0 | H20: ZAR | I20: =IF(H20<>"",VLOOKUP(H20,'5.1.3 Exchange Rates'!$C$24:$D$37,2,FALSE),"") -> 1 | K20: =E20*J20 -> 0 | L20: =E20*I20*J20 -> 0 | M20: =L20+G20 -> 0 | N20: =M20*15% -> 0 | O20: =M20+N20 -> 0 | Q20: =IF(P20="","Fixed",VLOOKUP(P20,'[1]5.1.2 CPA Formulae'!$B$9:$E$19,2,FALSE)) -> Fixed | CD20: =SUM(R20:CC20) -> 0 | CE20: =CD20-G20 -> 0
A21: =A20+1 -> 3 | B21: 1.2 | C21: Other fixed charge obligations (Transport) | D21: Sum | E21: 1 | F21: 0 | G21: =F21*E21 -> 0 | H21: ZAR | I21: =IF(H21<>"",VLOOKUP(H21,'5.1.3 Exchange Rates'!$C$24:$D$37,2,FALSE),"") -> 1 | K21: 0 | L21: =E21*I21*J21 -> 0 | M21: =L21+G21 -> 0 | N21: =M21*15% -> 0 | O21: =M21+N21 -> 0 | Q21: =IF(P21="","Fixed",VLOOKUP(P21,'[1]5.1.2 CPA Formulae'!$B$9:$E$19,2,FALSE)) -> Fixed
A22: =A21+1 -> 4 | B22: 1.3 | C22: Site establishment and de-establishment | D22: Sum | E22: 1 | F22: 0 | G22: =F22*E22 -> 0 | H22: ZAR | I22: =IF(H22<>"",VLOOKUP(H22,'5.1.3 Exchange Rates'!$C$24:$D$37,2,FALSE),"") -> 1 | K22: 0 | L22: =E22*I22*J22 -> 0 | M22: =L22+G22 -> 0 | N22: =M22*15% -> 0 | O22: =M22+N22 -> 0 | Q22: =IF(P22="","Fixed",VLOOKUP(P22,'[1]5.1.2 CPA Formulae'!$B$9:$E$19,2,FALSE)) -> Fixed
A23: =A22+1 -> 5 | B23: 1.4 | C23: SHEQ compliance as per Eskom and all other statutory requirements | D23: Sum | E23: 1 | F23: 0 | G23: =F23*E23 -> 0 | H23: ZAR | I23: =IF(H23<>"",VLOOKUP(H23,'5.1.3 Exchange Rates'!$C$24:$D$37,2,FALSE),"") -> 1 | K23: 0 | L23: =E23*I23*J23 -> 0 | M23: =L23+G23 -> 0 | N23: =M23*15% -> 0 | O23: =M23+N23 -> 0 | Q23: =IF(P23="","Fixed",VLOOKUP(P23,'[1]5.1.2 CPA Formulae'!$B$9:$E$19,2,FALSE)) -> Fixed
A24: =A23+1 -> 6 | B24: 1.5 | C24: Security during construction | D24: Sum | E24: 1 | F24: 0 | G24: =F24*E24 -> 0 | H24: ZAR | I24: =IF(H24<>"",VLOOKUP(H24,'5.1.3 Exchange Rates'!$C$24:$D$37,2,FALSE),"") -> 1 | K24: 0 | L24: =E24*I24*J24 -> 0 | M24: =L24+G24 -> 0 | N24: =M24*15% -> 0 | O24: =M24+N24 -> 0 | Q24: =IF(P24="","Fixed",VLOOKUP(P24,'[1]5.1.2 CPA Formulae'!$B$9:$E$19,2,FALSE)) -> Fixed
A25: =A24+1 -> 7 | B25: 2. PRELIMINARIES AND GENERAL: TIME RELATED COSTS | R25: =SUM(R26:R31) -> 0 | S25: =SUM(S26:S31) -> 0 | T25: =SUM(T26:T31) -> 0 | U25: =SUM(U26:U31) -> 0 | V25: =SUM(V26:V31) -> 0 | W25: =SUM(W26:W31) -> 0 | X25: =SUM(X26:X31) -> 0 | Y25: =SUM(Y26:Y31) -> 0 | ... CC25: =SUM(CC26:CC31) -> 0
A26: =A25+1 -> 8 | B26: 2.1 | C26: Accomodation | D26: Months | E26: 12 | F26: 0 | G26: =F26*E26 -> 0 | H26: ZAR | I26: =IF(H26<>"",VLOOKUP(H26,'5.1.3 Exchange Rates'!$C$24:$D$37,2,FALSE),"") -> 1 | K26: =E26*J26 -> 0 | L26: =E26*I26*J26 -> 0 | M26: =L26+G26 -> 0 | N26: =M26*15% -> 0 | O26: =M26+N26 -> 0 | Q26: =IF(P26="","Fixed",VLOOKUP(P26,'[1]5.1.2 CPA Formulae'!$B$9:$E$19,2,FALSE)) -> Fixed | CD26: =SUM(R26:CC26) -> 0 | CE26: =CD26-G26 -> 0
A27: =A26+1 -> 9 | B27: 2.2 | C27: Supervision and management during construction | D27: Months | E27: 12 | F27: 0 | G27: =F27*E27 -> 0 | H27: ZAR | I27: =IF(H27<>"",VLOOKUP(H27,'5.1.3 Exchange Rates'!$C$24:$D$37,2,FALSE),"") -> 1 | K27: 0 | L27: =E27*I27*J27 -> 0 | M27: =L27+G27 -> 0 | N27: =M27*15% -> 0 | O27: =M27+N27 -> 0 | Q27: =IF(P27="","Fixed",VLOOKUP(P27,'[1]5.1.2 CPA Formulae'!$B$9:$E$19,2,FALSE)) -> Fixed
A28: =A27+1 -> 10 | B28: 2.3 | C28: Company and head office overheads cost (i.e ablutions, access, storage etc.) during construction | D28: Months | E28: 12 | F28: 0 | G28: =F28*E28 -> 0 | H28: ZAR | I28: =IF(H28<>"",VLOOKUP(H28,'5.1.3 Exchange Rates'!$C$24:$D$37,2,FALSE),"") -> 1 | K28: 0 | L28: =E28*I28*J28 -> 0 | M28: =L28+G28 -> 0 | N28: =M28*15% -> 0 | O28: =M28+N28 -> 0 | Q28: =IF(P28="","Fixed",VLOOKUP(P28,'[1]5.1.2 CPA Formulae'!$B$9:$E$19,2,FALSE)) -> Fixed
A29: =A28+1 -> 11 | B29: 2.4 | C29: SHEQ compliance as per Eskom and all other statutory requirements | D29: Months | E29: 12 | F29: 0 | G29: =F29*E29 -> 0 | H29: ZAR | I29: =IF(H29<>"",VLOOKUP(H29,'5.1.3 Exchange Rates'!$C$24:$D$37,2,FALSE),"") -> 1 | K29: 0 | L29: =E29*I29*J29 -> 0 | M29: =L29+G29 -> 0 | N29: =M29*15% -> 0 | O29: =M29+N29 -> 0 | Q29: =IF(P29="","Fixed",VLOOKUP(P29,'[1]5.1.2 CPA Formulae'!$B$9:$E$19,2,FALSE)) -> Fixed
A30: =A29+1 -> 12 | B30: 2.5 | C30: Tools and Equipment | D30: Months | E30: 12 | F30: 0 | G30: =F30*E30 -> 0 | H30: ZAR | I30: =IF(H30<>"",VLOOKUP(H30,'5.1.3 Exchange Rates'!$C$24:$D$37,2,FALSE),"") -> 1 | K30: 0 | L30: =E30*I30*J30 -> 0 | M30: =L30+G30 -> 0 | N30: =M30*15% -> 0 | O30: =M30+N30 -> 0 | Q30: =IF(P30="","Fixed",VLOOKUP(P30,'[1]5.1.2 CPA Formulae'!$B$9:$E$19,2,FALSE)) -> Fixed
A31: =A30+1 -> 13 | B31: 2.6 | C31: Other time related obligations (Transport to and from site) | D31: Months | E31: 12 | F31: 0 | G31: =F31*E31 -> 0 | H31: ZAR | I31: =IF(H31<>"",VLOOKUP(H31,'5.1.3 Exchange Rates'!$C$24:$D$37,2,FALSE),"") -> 1 | K31: 0 | L31: =E31*I31*J31 -> 0 | M31: =L31+G31 -> 0 | N31: =M31*15% -> 0 | O31: =M31+N31 -> 0 | Q31: =IF(P31="","Fixed",VLOOKUP(P31,'[1]5.1.2 CPA Formulae'!$B$9:$E$19,2,FALSE)) -> Fixed
A32: =A31+1 -> 14 | B32: Total: | G32: =SUM(G20:G31) -> 0 | K32: =SUM(K20:K31) -> 0 | L32: =SUM(L20:L31) -> 0 | M32: =SUM(M20:M31) -> 0 | N32: =SUM(N20:N31) -> 0 | O32: =SUM(O20:O31) -> 0
A33: =A32+1 -> 15 | B33: 3. STANDARDISATION, RATIONALISATION AND TESTING OF MEDIUM VOLTAGE RING MAIN UNITS (RMUS) AND RMUS WITH INTERGRATED CONTROL PLANT SOLUTION CONSISTING OF REMOTE TERMINAL UNITS (RTU) AND DEFINED PROTECTION SYSTEMS | R33: =SUM(R34:R34) -> 0 | S33: =SUM(S34:S34) -> 0 | T33: =SUM(T34:T34) -> 0 | U33: =SUM(U34:U34) -> 0 | V33: =SUM(V34:V34) -> 0 | W33: =SUM(W34:W34) -> 0 | X33: =SUM(X34:X34) -> 0 | Y33: =SUM(Y34:Y34) -> 0 | ... CC33: =SUM(CC34:CC34) -> 0
A34: =A33+1 -> 16 | B34: 3.1 | C34: Rated lightning impulse peak withstand level | D34: Sum | E34: 1 | F34: 0 | G34: =F34*E34 -> 0 | H34: ZAR | I34: =IF(H34<>"",VLOOKUP(H34,'5.1.3 Exchange Rates'!$C$24:$D$37,2,FALSE),"") -> 1 | K34: =E34*J34 -> 0 | L34: =E34*I34*J34 -> 0 | M34: =L34+G34 -> 0 | N34: =M34*15% -> 0 | O34: =M34+N34 -> 0 | Q34: =IF(P34="","Fixed",VLOOKUP(P34,'[1]5.1.2 CPA Formulae'!$B$9:$E$19,2,FALSE)) -> Fixed | CD34: =SUM(R34:CC34) -> 0 | CE34: =CD34-G34 -> 0
A35: =A34+1 -> 17 | B35: 3.2 | C35: Cable test facilities | D35: Sum | E35: 1 | F35: 0 | G35: =F35*E35 -> 0 | H35: ZAR | I35: =IF(H35<>"",VLOOKUP(H35,'5.1.3 Exchange Rates'!$C$24:$D$37,2,FALSE),"") -> 1 | K35: =E35*J35 -> 0 | L35: =E35*I35*J35 -> 0 | M35: =L35+G35 -> 0 | N35: =M35*15% -> 0 | O35: =M35+N35 -> 0 | Q35: =IF(P35="","Fixed",VLOOKUP(P35,'[1]5.1.2 CPA Formulae'!$B$9:$E$19,2,FALSE)) -> Fixed | CD35: =SUM(R35:CC35) -> 0 | CE35: =CD35-G35 -> 0
A36: =A35+1 -> 18 | B36: 3.3 | C36: Remote tripping (hand-helf push-button remote control facility) | D36: Sum | E36: 1 | F36: 0 | G36: =F36*E36 -> 0 | H36: ZAR | I36: =IF(H36<>"",VLOOKUP(H36,'5.1.3 Exchange Rates'!$C$24:$D$37,2,FALSE),"") -> 1 | K36: =E36*J36 -> 0 | L36: =E36*I36*J36 -> 0 | M36: =L36+G36 -> 0 | N36: =M36*15% -> 0 | O36: =M36+N36 -> 0 | Q36: =IF(P36="","Fixed",VLOOKUP(P36,'[1]5.1.2 CPA Formulae'!$B$9:$E$19,2,FALSE)) -> Fixed | CD36: =SUM(R36:CC36) -> 0 | CE36: =CD36-G36 -> 0
A37: =A36+1 -> 19 | B37: 3.4 | C37: Fuse-links for switch-fuse combinations | D37: Sum | E37: 1 | F37: 0 | G37: =F37*E37 -> 0 | H37: ZAR | I37: =IF(H37<>"",VLOOKUP(H37,'5.1.3 Exchange Rates'!$C$24:$D$37,2,FALSE),"") -> 1 | K37: =E37*J37 -> 0 | L37: =E37*I37*J37 -> 0 | M37: =L37+G37 -> 0 | N37: =M37*15% -> 0 | O37: =M37+N37 -> 0 | Q37: =IF(P37="","Fixed",VLOOKUP(P37,'[1]5.1.2 CPA Formulae'!$B$9:$E$19,2,FALSE)) -> Fixed | CD37: =SUM(R37:CC37) -> 0 | CE37: =CD37-G37 -> 0
A38: =A37+1 -> 20 | B38: 3.5 | C38: Protection equipment requirements for MV Circuit Breaker | D38: Sum | E38: 1 | F38: 0 | G38: =F38*E38 -> 0 | H38: ZAR | I38: =IF(H38<>"",VLOOKUP(H38,'5.1.3 Exchange Rates'!$C$24:$D$37,2,FALSE),"") -> 1 | K38: =E38*J38 -> 0 | L38: =E38*I38*J38 -> 0 | M38: =L38+G38 -> 0 | N38: =M38*15% -> 0 | O38: =M38+N38 -> 0 | Q38: =IF(P38="","Fixed",VLOOKUP(P38,'[1]5.1.2 CPA Formulae'!$B$9:$E$19,2,FALSE)) -> Fixed | CD38: =SUM(R38:CC38) -> 0 | CE38: =CD38-G38 -> 0
A39: =A38+1 -> 21 | B39: 3.6 | C39: RTU requirements | D39: Sum | E39: 1 | F39: 0 | G39: =F39*E39 -> 0 | H39: ZAR | I39: =IF(H39<>"",VLOOKUP(H39,'5.1.3 Exchange Rates'!$C$24:$D$37,2,FALSE),"") -> 1 | K39: =E39*J39 -> 0 | L39: =E39*I39*J39 -> 0 | M39: =L39+G39 -> 0 | N39: =M39*15% -> 0 | O39: =M39+N39 -> 0 | Q39: =IF(P39="","Fixed",VLOOKUP(P39,'[1]5.1.2 CPA Formulae'!$B$9:$E$19,2,FALSE)) -> Fixed | CD39: =SUM(R39:CC39) -> 0 | CE39: =CD39-G39 -> 0
A40: =A39+1 -> 22 | B40: 3.7 | C40: DC Supply requirements | D40: Sum | E40: 1 | F40: 0 | G40: =F40*E40 -> 0 | H40: ZAR | I40: =IF(H40<>"",VLOOKUP(H40,'5.1.3 Exchange Rates'!$C$24:$D$37,2,FALSE),"") -> 1 | K40: =E40*J40 -> 0 | L40: =E40*I40*J40 -> 0 | M40: =L40+G40 -> 0 | N40: =M40*15% -> 0 | O40: =M40+N40 -> 0 | Q40: =IF(P40="","Fixed",VLOOKUP(P40,'[1]5.1.2 CPA Formulae'!$B$9:$E$19,2,FALSE)) -> Fixed | CD40: =SUM(R40:CC40) -> 0 | CE40: =CD40-G40 -> 0
A41: =A40+1 -> 23 | B41: 3.8 | C41: Control plant enclosure requirements for IRTU fitted RMUs | D41: Sum | E41: 1 | F41: 0 | G41: =F41*E41 -> 0 | H41: ZAR | I41: =IF(H41<>"",VLOOKUP(H41,'5.1.3 Exchange Rates'!$C$24:$D$37,2,FALSE),"") -> 1 | K41: =E41*J41 -> 0 | L41: =E41*I41*J41 -> 0 | M41: =L41+G41 -> 0 | N41: =M41*15% -> 0 | O41: =M41+N41 -> 0 | Q41: =IF(P41="","Fixed",VLOOKUP(P41,'[1]5.1.2 CPA Formulae'!$B$9:$E$19,2,FALSE)) -> Fixed | CD41: =SUM(R41:CC41) -> 0 | CE41: =CD41-G41 -> 0
A42: =A41+1 -> 24 | B42: 3.9 | C42: Plant status and controls | D42: Sum | E42: 1 | F42: 0 | G42: =F42*E42 -> 0 | H42: ZAR | I42: =IF(H42<>"",VLOOKUP(H42,'5.1.3 Exchange Rates'!$C$24:$D$37,2,FALSE),"") -> 1 | K42: =E42*J42 -> 0 | L42: =E42*I42*J42 -> 0 | M42: =L42+G42 -> 0 | N42: =M42*15% -> 0 | O42: =M42+N42 -> 0 | Q42: =IF(P42="","Fixed",VLOOKUP(P42,'[1]5.1.2 CPA Formulae'!$B$9:$E$19,2,FALSE)) -> Fixed | CD42: =SUM(R42:CC42) -> 0 | CE42: =CD42-G42 -> 0
...

Sheet 5.1.2 Summary
A1: Enquiry No. | C1: ='Tender Cover Sheet'!C12 -> 0
A2: Package Name: | C2: ='Tender Cover Sheet'!C14 -> STANDARDISATION, RATIONALISATION AND TESTING OF MEDIUM VOLTAGE RING MAIN UNITS (RMUS) AND RMUS WITH INTERGRATED CONTROL PLANT SOLUTION CONSISTING OF REMOTE TERMINAL UNITS (RTU) AND DEFINED PROTECTION SYSTEMS
A3: Tenderer's Name: | C3: ='Tender Cover Sheet'!C16 -> 0
A4: Category of Offer: | C4: ='Tender Cover Sheet'!C18 -> Main Offer
A6: Notes:
B7: Manual input required
A9: 5.1.2 Summary
D11: All prices in ZAR
A12: Item No. | B12: Section Description | C12: Total Foreign Currency | D12: Total Foreign Currency (ZAR) | E12: Local | F12: Total Tendered Value
A13: 1 | B13: PRELIMINARIES AND GENERAL | C13: ='5.1.1 Pricing Schedule'!K32 -> 0 | D13: ='5.1.1 Pricing Schedule'!L32 -> 0 | E13: ='5.1.1 Pricing Schedule'!G32 -> 0 | F13: =D13+E13 -> 0
A14: =A13+1 -> 2 | B14: STANDARDISATION, RATIONALISATION AND TESTING OF MEDIUM VOLTAGE RING MAIN UNITS (RMUS) AND RMUS WITH INTERGRATED CONTROL PLANT SOLUTION CONSISTING OF REMOTE TERMINAL UNITS (RTU) AND DEFINED PROTECTION SYSTEMS | C14: ='5.1.1 Pricing Schedule'!K59 -> 0 | D14: ='5.1.1 Pricing Schedule'!L59 -> 0 | E14: ='5.1.1 Pricing Schedule'!G59 -> 0 | F14: =D14+E14 -> 0
A15: =A14+1 -> 3 | B15: TOTAL PRICE EXCLUDING VAT | C15: =SUM(C13:C14) -> 0 | D15: =SUM(D13:D14) -> 0 | E15: =SUM(E13:E14) -> 0 | F15: =SUM(F13:F14) -> 0 | G15: Must agree with Price (Excl. VAT) on Tender Cover Page
A16: =A15+1 -> 4 | B16: SOUTH AFRICAN VAT - ON IMPORTED GOODS | D16: =D15*15% -> 0 | E16: =E15*15% -> 0 | F16: =SUM(C16:E16) -> 0
A17: =A16+1 -> 5 | B17: TOTAL PRICES INCLUDING VAT | C17: =C15+C16 -> 0 | D17: =D15+D16 -> 0 | E17: =E15+E16 -> 0 | F17: =F15+F16 -> 0 | G17: Must agree with Price (Incl. VAT) on Tender Cover Page
C18: =C15='5.1.1 Pricing Schedule'!K59 -> TRUE | D18: =D15='5.1.1 Pricing Schedule'!L59 -> TRUE | E18: =E15='5.1.1 Pricing Schedule'!M59 -> TRUE | F18: =F17='5.1.1 Pricing Schedule'!O59 -> TRUE

Sheet 5.1.3 Exchange Rates
A1: Enquiry No. | C1: ='Tender Cover Sheet'!C12 -> 0
A2: Package Name: | C2: ='Tender Cover Sheet'!C14 -> STANDARDISATION, RATIONALISATION AND TESTING OF MEDIUM VOLTAGE RING MAIN UNITS (RMUS) AND RMUS WITH INTERGRATED CONTROL PLANT SOLUTION CONSISTING OF REMOTE TERMINAL UNITS (RTU) AND DEFINED PROTECTION SYSTEMS
A3: Tenderer's Name: | C3: ='Tender Cover Sheet'!C16 -> 0
A4: Category of Offer: | C4: ='Tender Cover Sheet'!C18 -> Main Offer
A6: 5.1.4 EXCHANGE RATES FOR MULTIPLE CURRENCIES
A8: NOTES:
A9: 1 | B9: The table below needs to be completed if the Employer will be exposed to any currency fluctuation as stipulated in Secondary Clause X3. For conversion of the foreign portions to Rand, please use the South African Reserve Bank's (SARB) exchange rate at 12:00 on the day of advertisement of the bid. This is in terms of the Preferential Procurement Policy Framework Act (PPPFA) with which the Employer has to comply. NB: Tenderers must submit proof of the SARB rate(s) of exchange used
A10: 2 | B10: The following URL (electronic route) is to be followed to access the relevant SARB rates on their web pages:
B11: WWW.resbank.co.za
B12: - Select Research - Then select Rates - Click on "Select historical exchange rates and other interest rates" - Clicking on the exchange rate in the following page opens the daily rates per currency and SA Rand
A13: 3 | B13: The Employer deals only in the currencies listed below unless other currencies are specifically approved for this tender. Kindly notify the Employer of any currency that the tenderer intends to use, but is not stipulated in the table, to consider sanctioning such currency. Sufficient time must be allowed for the assessment and to respond to such request. The onus is on the tenderer to submit a bid with approved currencies
A14: 4 | B14: The format in which the exchange rate must be inserted in the table is: 1 (One) Foreign Currency = R Amount (i.e. the Rand amount for one of each foreign currency applicable). Exchange rates must be rounded to 4 decimals NB : Only the USD/ZAR, GBP/ZAR and EUR/ZAR are published in this way on the SARB web pages above. The Rand rate with the other currencies must be inverted (1/Foreign Currency Rate) in order to list it in the required format in the table below
A15: 5 | B15: All information in the table below must conform with all other equivalent information in the offer.
B16: Payment in terms of Payment Method 2 is considered as a "foreign payment" although it will be effected in South African Rand. However, amounts for "F.O.R. Price-Goods supplied from Imported Items", are NOT considered as "foreign payments"
B17: If more than one payment method apply for a currency, the Tenderer must request an additional row be inserted in the table in order to split the values and identify the relevant method.
A20: EXCHANGE RATES PUBLISHED BY SARB
A21: NB: Tenderers must submit proof of the SARB rate (s) of exchange used.
F22: Date for which the rates are published : | H22: Date to be inserted in the following format: Day, Month and Year. Must be the SARB rate at 12:00 on day of advertisement of bid
A23: No | B23: Currency Description | C23: Code | D23: Exchange Rate Currency 1,00 = R Amount | E23: Amount in Foreign Currency | F23: Amount in Rand | G23: Payment Method 1a, 1b or 2
A24: 1 | B24: South African Rand | C24: ZAR | D24: 1
A25: 2 | B25: Australian Dollar | C25: AUD | F25: =D25*E25 -> 0
A26: 3 | B26: Canadian Dollar | C26: CAN | E26: 0 | F26: =D26*E26 -> 0
A27: 4 | B27: Swiss Franc | C27: CHF | E27: 0 | F27: =D27*E27 -> 0
A28: 5 | B28: Danish Krone | C28: DKK | E28: 0 | F28: =D28*E28 -> 0
A29: 6 | B29: European Currency | C29: EUR | E29: 0 | F29: =D29*E29 -> 0
A30: 7 | B30: British Pound | C30: GBP | E30: 0 | F30: =D30*E30 -> 0
A31: 8 | B31: Hong Kong Dollar | C31: HKD | E31: 0 | F31: =D31*E31 -> 0
A32: 9 | B32: Japanese Yen | C32: JPY | E32: 0 | F32: =D32*E32 -> 0
A33: 10 | B33: Norwegian Krone | C33: NOK | E33: 0 | F33: =D33*E33 -> 0
A34: 11 | B34: New Zealand Dollar | C34: NZD | E34: 0 | F34: =D34*E34 -> 0
A35: 12 | B35: Swedish Krone | C35: SEK | E35: 0 | F35: =D35*E35 -> 0
A36: 13 | B36: Singapore Dollar | C36: SGD | E36: 0 | F36: =D36*E36 -> 0
A37: 14 | B37: United States Dollar | C37: USD | E37: 0 | F37: =D37*E37 -> 0
D38: 0 | E38: 0 | F38: =D38*E38 -> 0
D39: 0 | E39: 0 | F39: =D39*E39 -> 0
D40: 0 | E40: 0 | F40: =D40*E40 -> 0
B41: TOTAL RAND - MUST AGREE WITH TOTAL FOREIGN PRICE IN ZAR (EXCL. VAT) | F41: =SUM(F25:F40) -> 0
