Workbook
Name _Hlk13737046: 'C12.10'!#REF!
Name _Hlk13737046: 'C12.10 (2)'!#REF!
Name _Hlk13737046: 'C12.10 (4)'!#REF!
Name _Hlk13737046: 'C12.10 (5)'!#REF!
Name _Hlk13737046: 'C12.10 (6)'!#REF!
Name _Hlk13737046: 'C12.11'!#REF!
Name _Hlk13737046: 'C12.11 (2)'!#REF!
Name _Hlk13737046: 'C12.11 (4)'!#REF!
Name _Hlk13737046: 'C12.11 (5)'!#REF!
Name _Hlk13737046: 'C12.11 (6)'!#REF!
Name _Hlk13737046: 'C12.12'!#REF!
Name _Hlk13737046: 'C12.12 (2)'!#REF!
Name _Hlk13737046: 'C12.12 (4)'!#REF!
Name _Hlk13737046: 'C12.12 (5)'!#REF!
Name _Hlk13737046: 'C12.12 (6)'!#REF!
Name _Hlk13737046: 'C12.2'!$C$23
Name _Hlk13737046: 'C12.2 (2)'!$C$23
Name _Hlk13737046: 'C12.2 (4)'!$C$23
Name _Hlk13737046: 'C12.2 (5)'!$C$23
Name _Hlk13737046: 'C12.2 (6)'!$C$23
Name _Hlk13737046: 'C12.3'!#REF!
Name _Hlk13737046: 'C12.3 (2)'!#REF!
Name _Hlk13737046: 'C12.3 (4)'!#REF!
Name _Hlk13737046: 'C12.3 (5)'!#REF!
Name _Hlk13737046: 'C12.3 (6)'!#REF!
Name _Hlk13737046: 'C12.4'!#REF!
Name _Hlk13737046: 'C12.4 (2)'!#REF!
Name _Hlk13737046: 'C12.4 (4)'!#REF!
Name _Hlk13737046: 'C12.4 (5)'!#REF!
Name _Hlk13737046: 'C12.4 (6)'!#REF!
Name _Hlk13737046: 'C12.5'!#REF!
Name _Hlk13737046: 'C12.5 (2)'!#REF!
Name _Hlk13737046: 'C12.5 (4)'!#REF!
Name _Hlk13737046: 'C12.5 (5)'!#REF!
Name _Hlk13737046: 'C12.5 (6)'!#REF!
Name _Hlk13737046: 'C12.6'!#REF!
Name _Hlk13737046: 'C12.6 (2)'!#REF!
Name _Hlk13737046: 'C12.6 (4)'!#REF!
Name _Hlk13737046: 'C12.6 (5)'!#REF!
Name _Hlk13737046: 'C12.6 (6)'!#REF!
Name _Hlk13737046: 'C12.7'!#REF!
Name _Hlk13737046: 'C12.7 (2)'!#REF!
Name _Hlk13737046: 'C12.7 (4)'!#REF!
Name _Hlk13737046: 'C12.7 (5)'!#REF!
Name _Hlk13737046: 'C12.7 (6)'!#REF!
Name _Hlk13737046: 'C12.8'!#REF!
Name _Hlk13737046: 'C12.8 (2)'!#REF!
Name _Hlk13737046: 'C12.8 (4)'!#REF!
Name _Hlk13737046: 'C12.8 (5)'!#REF!
Name _Hlk13737046: 'C12.8 (6)'!#REF!
Name _Hlk13737046: 'C12.9'!#REF!
Name _Hlk13737046: 'C12.9 (2)'!#REF!
Name _Hlk13737046: 'C12.9 (4)'!#REF!
Name _Hlk13737046: 'C12.9 (5)'!#REF!
Name _Hlk13737046: 'C12.9 (6)'!#REF!
Name _Hlk13737046: 'C13.1'!#REF!
Name _Hlk13737046: 'C13.1 (2)'!#REF!
Name _Hlk13737046: 'C13.1 (4)'!#REF!
Name _Hlk13737046: 'C13.1 (B1)'!#REF!
Name _Hlk13737046: 'C13.1 (B2)'!#REF!

Sheet Version
A2: This Pricing Schedule is based on the COTO Draft Standard (DS) October 2020, and updated for the Works ProForma Book 3 - 2022.1 – June 2022 version saved in EDMS folder 7475454
I34: Can specify HdPE downchute pipes here
F149: metre (m)
F150: metre (m)
A155: C2.3.27 | E155: Extra over item C2.3.21 for encasing (wrapping) joints
B156: C2.3.27.1 | E156: State for each water main the number of joints to be encased (wrapped)
E157: State diameter
E158: State diameter
A159: C2.3.28 | E159: Installation of hydrants and water meters
B160: C2.3.28.1 | E160: Describe hydrant type
B161: C2.3.28.2 | E161: Describe water meter type
B162: C2.3.28.3 | E162: Etc., insert additional items as required
A163: C2.3.29 | E163: Bedding for water mains (Class B and C) and fill blanket compacted to 90 % of MDD (100 % for sand)
B164: C2.3.29.1
C166: (c)
C167: (d)
C168: (e)
B169: C2.3.29.2
C171: (c)
C172: (d)
C173: (e)

Sheet Version (2)
A1: This Pricing Schedule is based on the COTO Draft Standard (DS) October 2020, and updated for the Works Pro-Forma Book 3 - 2025.1 –September 2025 version saved in EDMS folder 7475454
A3: Changes from 2024.1 version to 2025.1 version
A4: C1.3.1.1 | B4: Provided fixed obligation sub-items for Mobilisation period and for execution period
A5: C1.5.8 | B5: Amended unit from man-month to month
A6: C4.1.7 | B6: Added sub-items for crushing of different material types under each method
A7: C5.5.20 | B7: Removed cost of material procurment from item
A8: D10.05(a) | B8: Added wording on payment of services only covered as part of items | J8: To Be confirmed
A9: D10.06(a) | B9: Added Quality Council for Trade and Occupation qualifications | J9: To Be confirmed
A10: D10.07 | B10: Added new payitem for utilisation of updated Section D | J10: To Be confirmed

Sheet C1.2 (A1)
A1: C1.2 | E1: GENERAL REQUIREMENTS AND PROVISIONS
A2: ITEM | D2: DESCRIPTION | E2: UNIT | F2: QTY | G2: RATE | H2: AMT
A5: C1.2.1 | D5: Environmental Management
B6: C1.2.1.1 | D6: Monitoring of compliance with and reporting on the EMP | E6: month | F6: 27 | H6: =F6*G6 -> 0
A7: C1.2.2 | D7: Programming and Reporting
B8: C1.2.2.3 | D8: Submission of a Scheme 2 Initial Programme | E8: lump sum | F8: lump | G8: sum
B9: C1.2.2.4 | D9: Submission of a Scheme 2 Full Programme | E9: lump sum | F9: lump | G9: sum
B10: C1.2.2.5 | D10: Reviewing and updating a Scheme 2 programme every month | E10: month | F10: 24 | H10: =F10*G10 -> 0
B11: C1.2.2.6 | D11: Preparation and submission of all information and reports specified in the Contract Documentation | E11: month | F11: 27 | H11: =F11*G11 -> 0
A12: C1.2.3 | D12: Routine road maintenance of existing public roads within the Site of the Works or other public roads outside the Site of the Works which are used as detours
B13: C 1.2.3.1 | D13: Grass cutting | E13: hectare (ha) | F13: 306 | H13: =F13*G13 -> 0
B14: C1.2.3.2 | D14: Drain cleaning | E14: kilometre (km) | F14: 2 | H14: =F14*G14 -> 0
B15: C1.2.3.3 | D15: Cleaning out culverts | E15: cubic metre (m3) | F15: 70 | H15: =F15*G15 -> 0
B16: C1.2.3.4 | D16: Collection of rubbish / litter | E16: kilometre (km) | F16: 10 | H16: =F16*G16 -> 0
B17: C1.2.3.5 | D17: Base patching using crushed stone material stabilised with bitumen emulsion and cement | E17: cubic metre (m3) | F17: 60 | H17: =F17*G17 -> 0
B18: C1.2.3.6 | D18: Base and/or surface patching using cold premixed asphalt | E18: kilogram (kg) | F18: 84000 | H18: =F18*G18 -> 0
B19: C1.2.3.7 | D19: Base and/or surface patching using hot plant mixed asphalt (PG64H-16) | E19: ton (t) | F19: 36 | H19: =F19*G19 -> 0
B20: C1.2.3.8 | D20: Replacement of damaged guardrails including posts | E20: metre (m) | F20: 200 | H20: =F20*G20 -> 0
B21: C1.2.3.11 | D21: Other road maintenance work ordered by the Engineer | E21: provisional sum | F21: Prov | G21: Sum | H21: 90000
B22: C1.2.3.12 | D22: Handling cost, profit and all other charges in respect of item C1.2.3.11 | E22: percentage (%) | F22: =H21 -> 90000 | H22: =G22*F22 -> 0
A23: C1.2.4 | D23: Stakeholder liaison | E23: month | F23: 27 | H23: =F23*G23 -> 0
A24: C1.2.5 | D24: Safety
B25: C1.2.5.1 | D25: Health and safety plan | E25: lump sum | F25: lump | G25: sum
B26: C1.2.5.2 | D26: Implementation of health and safety plan | E26: month | F26: 27 | H26: =F26*G26 -> 0
A27: PC1.2.7 | D27: Road safety audits
B28: C1.2.7.1 | D28: Stage 4 work zone traffic management audit | E28: provisional sum | F28: Prov | G28: Sum | H28: 22000
B29: C1.2.7.2 | D29: Handling cost, profit and all other charges in respect of item C1.2.7.1 | E29: percentage (%) | F29: 22000 | H29: =G29*F29 -> 0
B30: C1.2.7.3 | D30: Stage 5 pre-opening stage traffic safety audit | E30: provisional sum | F30: Prov | G30: Sum | H30: 22000
B31: C1.2.7.4 | D31: Handling cost, profit and all other charges in respect of item C1.2.7.3 | E31: percentage (%) | F31: 22000 | H31: =G31*F31 -> 0
A32: C1.2.8 | D32: Dayworks
B33: C1.2.8.1 | D33: Personnel
C34: (a) | D34: Unskilled labourer | E34: hour (h) | F34: 125 | H34: =F34*G34 -> 0
C35: (b) | D35: Semi-skilled labourer | E35: hour (h) | F35: 125 | H35: =F35*G35 -> 0
C36: (c) | D36: Skilled labourer | E36: hour (h) | F36: 75 | H36: =F36*G36 -> 0
C37: (d) | D37: Gang leader | E37: hour (h) | F37: 50 | H37: =F37*G37 -> 0
C38: (e) | D38: Foreman | E38: hour (h) | F38: 90 | H38: =F38*G38 -> 0
B39: C1.2.8.2 | D39: Construction equipment
C40: (a) | D40: Motor grader (112kW) | E40: hour (h) | F40: 25 | H40: =F40*G40 -> 0
C41: (b) | D41: Vibratory roller (10 ton) | E41: hour (h) | F41: 25 | H41: =F41*G41 -> 0
C42: (c) | D42: Pneumatic roller (20 ton) | E42: hour (h) | F42: 25 | H42: =F42*G42 -> 0
...

Sheet C1.3 (A1)
A1: C1.3 | E1: CONTRACTOR’S SITE ESTABLISHMENT AND GENERAL OBLIGATIONS
A2: ITEM | D2: DESCRIPTION | E2: UNIT | F2: QTY | G2: RATE | H2: AMT
A5: PC1.3.1 | D5: The Contractor's general obligations
B6: C1.3.1.1 | D6: Fixed obligations
B7: C1.3.1.1(a) | D7: Mobilisation period (maximum as specified) | E7: lump sum | F7: lump | G7: sum
B8: C1.3.1.1(b) | D8: Execution of the works | E8: lump sum | F8: lump | G8: sum
B9: C1.3.1.2 | D9: Value-related obligations | E9: lump sum | F9: lump | G9: sum
B10: C1.3.1.3 | D10: Time-related obligations
C11: (a) | D11: Mobilisation period | E11: month | F11: 3 | H11: =F11*G11 -> 0
C12: (b) | D12: Execution of the works | E12: month | F12: 24 | H12: =F12*G12 -> 0
B13: C1.3.1.4 | D13: Suspension Cost
C14: (a) | D14: De-establishment | E14: number | F14: 1 | H14: =F14*G14 -> 0
C15: (b) | D15: Re-establishment | E15: number | F15: 1 | H15: =F15*G15 -> 0
C16: (c) | D16: Suspension period | E16: month | F16: 3 | H16: =F16*G16 -> 0
C17: (d) | D17: Engineer's cost | E17: prime cost (PC) sum | F17: prime | G17: cost | H17: 215000
A18: C1.3.2 | D18: Contract sign boards | E18: square metre (m2) | F18: 27 | H18: =F18*G18 -> 0
A22: TOTAL CARRIED FORWARD TO SUMMARY | H22: =SUM(H5:H21) -> 215000
F158: metre (m)
F159: metre (m)
A164: C2.3.27 | E164: Extra over item C2.3.21 for encasing (wrapping) joints
B165: C2.3.27.1 | E165: State for each water main the number of joints to be encased (wrapped)
E166: State diameter
E167: State diameter
A168: C2.3.28 | E168: Installation of hydrants and water meters
B169: C2.3.28.1 | E169: Describe hydrant type
B170: C2.3.28.2 | E170: Describe water meter type
B171: C2.3.28.3 | E171: Etc., insert additional items as required
A172: C2.3.29 | E172: Bedding for water mains (Class B and C) and fill blanket compacted to 90 % of MDD (100 % for sand)
B173: C2.3.29.1
B178: C2.3.29.2

Sheet C1.4 (A1)
A1: C1.4 | D1: FACILITIES FOR THE ENGINEER
A2: ITEM | C2: DESCRIPTION | D2: UNIT | E2: QTY | F2: RATE | G2: AMT
A5: C1.4.1 | C5: Site accommodation
B6: C1.4.1.1 | C6: Offices and conference room | D6: square metre (m2) | E6: 155 | G6: =E6*F6 -> 0
B7: C1.4.1.2 | C7: Laboratories | D7: square metre (m2) | E7: 240 | G7: =E7*F7 -> 0
B8: C1.4.1.3 | C8: Open concrete working floors and verandas | D8: square metre (m2) | E8: 245 | G8: =E8*F8 -> 0
B9: C1.4.1.4 | C9: Roofs over open concrete working floors and verandas | D9: square metre (m2) | E9: 120 | G9: =E9*F9 -> 0
B10: C1.4.1.5 | C10: Store rooms inside the laboratory | D10: square metre (m2) | E10: 30 | G10: =E10*F10 -> 0
B11: C1.4.1.6 | C11: Car ports | D11: number (No.) | E11: 10 | G11: =E11*F11 -> 0
B12: C1.4.1.7 | C12: Ablution unit (equipped as specified) | D12: number (No.) | E12: 1 | G12: =E12*F12 -> 0
B13: C1.4.1.8 | C13: Change room with a shower | D13: number (No.) | E13: 1 | G13: =E13*F13 -> 0
B14: C1.4.1.9 | C14: Kitchen unit (equipped as specified) | D14: number (No.) | E14: 1 | G14: =E14*F14 -> 0
B15: C1.4.1.13 | C15: Rented housing paid for by the Contractor | D15: provisional sum | E15: Prov | F15: Sum | G15: 4400000
B16: C1.4.1.14 | C16: Contractor's handling costs, profit and all other charges in respect of item C1.4.1.13 | D16: percentage (%) | E16: =G15 -> 4400000 | G16: =E16*F16 -> 0
A17: C1.4.2 | C17: Items measured by area
B18: C1.4.2.1 | C18: Shelving as specified, complete with brackets | D18: square metre (m2) | E18: 60 | G18: =E18*F18 -> 0
B19: C1.4.2.2 | C19: Work benches with a concrete slab top | D19: square metre (m2) | E19: 40 | G19: =E19*F19 -> 0
B20: C1.4.2.3 | C20: Work-benches with a wooden top | D20: square metre (m2) | E20: 40 | G20: =E20*F20 -> 0
B21: C1.4.2.4 | C21: Constant-temperature baths of concrete and/or plastered brick | D21: square metre (m2) | E21: 20 | G21: =E21*F21 -> 0
B22: C1.4.2.5 | C22: Concrete footings and pedestals for laboratory equipment | D22: square metre (m2) | E22: 20 | G22: =E22*F22 -> 0
B23: C1.4.2.6 | C23: Roller blinds, opaque type | D23: square metre (m2) | E23: 25 | G23: =E23*F23 -> 0
B24: C1.4.2.7 | C24: Venetian blinds | D24: square metre (m2) | E24: 25 | G24: =E24*F24 -> 0
B25: C1.4.2.8 | C25: Notice boards | D25: square metre (m2) | E25: 10 | G25: =E25*F25 -> 0
B26: C1.4.2.9 | C26: White boards | D26: square metre (m2) | E26: 10 | G26: =E26*F26 -> 0
A27: C1.4.3 | C27: Items measured by number
B28: C1.4.3.2 | C28: Office chair | D28: number (No.) | E28: 25 | G28: =E28*F28 -> 0
B29: C1.4.3.3 | C29: Draughtsman's stool | D29: number (No.) | E29: 10 | G29: =E29*F29 -> 0
B30: C1.4.3.4 | C30: Laboratory high chair | D30: number (No.) | E30: 12 | G30: =E30*F30 -> 0
B31: C1.4.3.5 | C31: Office desk with 3 drawers (at least one lockable drawer) | D31: number (No.) | E31: 8 | G31: =E31*F31 -> 0
B32: C1.4.3.7 | C32: Drawing table | D32: number (No.) | E32: 4 | G32: =E32*F32 -> 0
B33: C1.4.3.8 | C33: Conference table | D33: number (No.) | E33: 1 | G33: =E33*F33 -> 0
B34: C1.4.3.9 | C34: Bookcase | D34: number (No.) | E34: 5 | G34: =E34*F34 -> 0
B35: C1.4.3.10 | C35: Filing cabinet | D35: number (No.) | E35: 5 | G35: =E35*F35 -> 0
B36: C1.4.3.11 | C36: General purpose steel cabinet with shelves | D36: number (No.) | E36: 10 | G36: =E36*F36 -> 0
B37: C1.4.3.12 | C37: Wall mounted pivot plan filing system | D37: number (No.) | E37: 2 | G37: =E37*F37 -> 0
B38: C1.4.3.13 | C38: 220/250 volt power outlet plug point | D38: number (No.) | E38: 40 | G38: =E38*F38 -> 0
B39: C1.4.3.14 | C39: 400/231 volt 3-phase power outlet plug point | D39: number (No.) | E39: 5 | G39: =E39*F39 -> 0
... B55: C1.4.3.37 | C55: First aid kit | D55: number (No.) | E55: 2 | G55: =E55*F55 -> 0
A56: C1.4.4 | C56: Prime cost items
B57: C1.4.4.1 | C57: Cell phones costs, including pro-rata rentals, for calls made in connection with contract administration | D57: prime cost (PC) sum | E57: prime | F57: cost | G57: 200000
...

Sheet C1.5 (A1)
A1: C1.5 | F1: ACCOMMODATION OF TRAFFIC
A2: ITEM | E2: DESCRIPTION | F2: UNIT | G2: QTY | H2: RATE | I2: AMT
A5: C1.5.1 | E5: Accommodation of pedestrian and non-motorised traffic
B6: C1.5.1.1 | E6: Accommodation of pedestrian and non-motorised traffic | F6: month | G6: 24 | I6: =G6*H6 -> 0
A7: C1.5.2 | E7: Accommodation of vehicular traffic | F7: month | G7: 24 | I7: =G7*H7 -> 0
A8: C1.5.3 | E8: Liaison with traffic authorities | F8: month | G8: 24 | I8: =G8*H8 -> 0
A9: PC1.5.4 | E9: Construction of temporary deviations
B10: C5.3.2 | E10: Construction of layers using conventional construction methods:
B11: C5.3.2.1 | C11: (k) | E11: Upper subbase gravel layer (unstabilised) (150mm) compacted to 97% of MDD | F11: m³ | G11: 1500 | I11: =IF(F11="%",G11*H11/100,G11*H11) -> 0
C12: (n) | E12: Gravel base layer (chemically stabilised) (150mm) compacted to 97 % of MDD | F12: m³ | G12: 3750 | I12: =IF(F12="%",G12*H12/100,G12*H12) -> 0
B13: C5.5.16.1 | E13: Chemically stabilised base layer compacted to 97% of MDD:
C14: (a) | E14: Using non-cemented material compacted to 150mm thick | F14: m³ | G14: 3750 | I14: =IF(F14="%",G14*H14/100,G14*H14) -> 0
B15: C5.5.20 | E15: Material shortfall or make-up material:
B16: C5.5.20.3 | E16: For base layer | F16: m³ | G16: 1200 | I16: =IF(F16="%",G16*H16/100,G16*H16) -> 0
B17: C5.4.2 | E17: Chemical stabilisation:
B18: C5.4.2.1 | E18: Chemical stabilisation of pavement layers
E19: 150mm of gravel base layers | F19: m³ | G19: 7500 | I19: =IF(F19="%",G19*H19/100,G19*H19) -> 0
B20: C4.4.4 | E20: Cementitious stabilising agents:
B21: C4.4.4.1 | E21: Cement
E22: CEM II (A-L) 32,5N | F22: t | G22: 600 | I22: =IF(F22="%",G22*H22/100,G22*H22) -> 0
B23: C5.4.10 | E23: Provision and application of water for curing | F23: kℓ | G23: 1400 | I23: =IF(F23="%",G23*H23/100,G23*H23) -> 0
B24: C8.1.1 | E24: Prime coat:
B25: C8.1.1.1 | E25: MC -10 cut-back bitumen | F25: ℓ | G25: 17000 | I25: =IF(F25="%",G25*H25/100,G25*H25) -> 0
B26: C8.1.1.3 | E26: Inverted bitumen emulsion | F26: ℓ | G26: 17000 | I26: =IF(F26="%",G26*H26/100,G26*H26) -> 0
B27: C9.1.3 | E27: Application of bond coat:
B28: C9.1.3.1 | E28: Stable – grade 30% net bitumen emulsion as specified. Applied with a calibrated distributer | F28: ℓ | G28: 2000 | I28: =IF(F28="%",G28*H28/100,G28*H28) -> 0
B29: C10.1.22 | E29: Bituminous single seal and slurry, including a cover spray if specified:
B30: C10.1.22.2 | E30: Bituminous single seal with 14mm aggregate and slurry (Class SC-E2 (70-73)(t), Grade B aggregate, fine slurry/medium grade) | F30: m² | G30: 48000 | I30: =IF(F30="%",G30*H30/100,G30*H30) -> 0
B31: C10.1.24 | E31: Variation in the rate of application of the fine slurry:
B32: C10.1.24.1 | E32: Fine grade | F32: cubic metre (m3) | G32: =G30*0.02*0.5 -> 480 | I32: =G32*H32 -> 0
B33: C10.1.24.2 | E33: Medium grade | F33: cubic metre (m3) | G33: =G32 -> 480 | I33: =G33*H33 -> 0
B34: C10.1.25 | E34: Variation in active filler content (Hydrated lime) | F34: ton (t) | G34: =4%*2*G32 -> 38.4 | I34: =G34*H34 -> 0
B35: C10.1.26 | E35: Trial sections for all seal types specified (Cape Seal) | F35: lump sum | G35: lump | H35: sum
B36: C11.6.1.8 | E36: Regulatory signs, temporary:
C37: (b) | E37: 900 mm diameter (prepainted galvanized steel, background and symbol retro-reflective class iii) | F37: No | G37: 35 | I37: =IF(F37="%",G37*H37/100,G37*H37) -> 0
C38: (c) | E38: 1200 mm diameter (prepainted galvanized steel, background and symbol retro-reflective class iii) | F38: No | G38: 45 | I38: =IF(F38="%",G38*H38/100,G38*H38) -> 0
B39: C11.6.1.10 | E39: Warning signs, temporary:
C40: (d) | E40: 1500 mm size (prepainted galvanized steel, background and symbol retro-reflective class iii) | F40: No | G40: 55 | I40: =IF(F40="%",G40*H40/100,G40*H40) -> 0
B41: C11.6.1.12 | E41: Supplementary plates to temporary regulatory or warning signs (prepainted galvanized steel, background and symbol retro-reflective class iii) | F41: m² | G41: 400 | I41: =IF(F41="%",G41*H41/100,G41*H41) -> 0
B42: C11.7.2 | E42: Retro-reflective road marking:
...

Sheet C1.6 (A1)
A1: C1.6 | D1: CLEARING AND GRUBBING
A2: ITEM | C2: DESCRIPTION | D2: UNIT | E2: QTY | F2: RATE | G2: AMT
A5: C1.6.1 | C5: Clearing
B6: C1.6.1.1 | C6: Clearing with machines and some hand labour where necessary | D6: hectare (ha) | E6: 33 | G6: =E6*F6 -> 0
B7: C1.6.1.3 | C7: Clearing for new fence lines (over a width of 2,0m) | D7: kilometre (km) | E7: 31 | G7: =E7*F7 -> 0
A8: C1.6.2 | C8: Grubbing
B9: C1.6.2.1 | C9: Grubbing with machines and some hand labour where necessary | D9: hectare (ha) | E9: 33 | G9: =E9*F9 -> 0
A10: C1.6.3 | C10: Removal and grubbing of large trees and tree stumps:
B11: C1.6.3.1 | C11: Girth equal to or exceeding 1,0m up to and including 2,0m | D11: number (No.) | E11: 10 | G11: =E11*F11 -> 0
B12: C1.6.3.2 | C12: Girth exceeding 2,0m up to and including 3,0m | D12: number (No.) | E12: 5 | G12: =E12*F12 -> 0
B13: C1.6.3.3 | C13: Girth exceeding 3,0m | D13: number (No.) | E13: 2 | G13: =E13*F13 -> 0
A14: C1.6.7 | C14: Re-clearing of previously cleared areas | D14: hectare (ha) | E14: 1 | G14: =E14*F14 -> 0
A15: C1.6.9 | C15: Conservation of topsoil:
B16: C1.6.9.1 | C16: Stockpiling topsoil | D16: cubic metre (m3) | E16: 5000 | G16: =E16*F16 -> 0
B17: C1.6.9.2 | C17: Windrowing topsoil | D17: cubic metre (m3) | E17: 45000 | G17: =E17*F17 -> 0
A21: TOTAL CARRIED FORWARD TO SUMMARY | G21: =SUM(G6:G20) -> 0

Sheet C1.7 (A1)
A1: C1.7 | E1: LOADING AND HAULING
A2: ITEM | D2: DESCRIPTION | E2: UNIT | F2: QTY | G2: RATE | H2: AMT
A5: C1.7.1 | D5: Loading
B6: C1.7.1.1 | D6: Loading from stockpile using machines and some hand labour where necessary | E6: cubic metre (m3) | F6: 125800 | H6: =F6*G6 -> 0
A7: C1.7.2 | D7: Hauling
B8: C1.7.2.1 | D8: Hauling material for use in the Works and off-loading it on the site of the Works:
C9: (a) | D9: Soil, gravel, crushed stone and pavement layer material | E9: cubic metre - kilometre (m3 - km) | F9: 1450000 | H9: =F9*G9 -> 0
C10: (b) | D10: Boulders and hard material | E10: cubic metre - kilometre (m3 - km) | F10: 50000 | H10: =F10*G10 -> 0
B11: C1.7.2.2 | D11: Hauling material to spoil and off-loading it at a designated spoil or stockpile area:
C12: (a) | D12: Cleared and grubbed material | E12: cubic metre - kilometre (m3 - km) | F12: 10000 | H12: =F12*G12 -> 0
C13: (b) | D13: Soil and gravel material | E13: cubic metre - kilometre (m3 - km) | F13: 4000 | H13: =F13*G13 -> 0
C14: (c) | D14: Boulders, hard material and concrete | E14: cubic metre - kilometre (m3 - km) | F14: 600 | H14: =F14*G14 -> 0
A18: TOTAL CARRIED FORWARD TO SUMMARY | H18: =SUM(H6:H17) -> 0

Sheet C2.1 (A1)
A1: C2.1 | E1: GENERAL REQUIREMENTS AND TRENCHING FOR SERVICES
A2: ITEM | D2: DESCRIPTION | E2: UNIT | F2: QTY | G2: RATE | H2: AMT
A5: C2.1.1 | D5: Location, identification, protection and relocation of existing services
B6: C2.1.1.1 | D6: Contractor’s obligations | E6: lump sum | F6: lump | G6: sum
B7: PC2.1.1.2 | D7: Permanent services relocation or protection work by others
C8: (a) | D8: The removal, protection and replacement of CTO, SMD and WIM installations | E8: prime cost (PC) sum | F8: prime | G8: cost | H8: 130000
C9: (b) | D9: The removal, protection and replacement of utility services | E9: prime cost (PC) sum | F9: prime | G9: cost | H9: 2130000
B10: C2.1.1.3 | D10: Handling costs and profit in respect of item C2.1.1.2 above
C11: (a) | D11: Handling costs and profit in respect of item C2.1.1.2(a)(i) above | E11: percentage (%) | F11: =H8 -> 130000 | H11: =G11*F11 -> 0
C12: (b) | D12: Handling costs and profit in respect of item C2.1.1.2(b)(i) above | E12: percentage (%) | F12: =H9 -> 2130000 | H12: =G12*F12 -> 0
A13: C2.1.2 | D13: Existing services location, detection and verification
B14: C2.1.2.5 | D14: Using hand excavation to locate, expose and verify services | E14: cubic metre (m3) | F14: 350 | H14: =F14*G14 -> 0
A15: C2.1.6 | D15: Trench excavation (in soft material)
B16: C2.1.6.1 | D16: Trenches up to 1,0m wide
C17: (a) | D17: Up to 1,0m deep | E17: cubic metre (m3) | F17: 10700 | H17: =F17*G17 -> 0
A18: C2.1.11 | D18: Backfilling of trenches
B19: C2.1.11.1 | D19: Backfill compacted to 93% (100% for sand) of MDD (areas subject to traffic loads) using material:
C20: (a) | D20: From the excavated trench material | E20: cubic metre (m3) | F20: 9300 | H20: =F20*G20 -> 0
C21: (c) | D21: From approved borrow areas | E21: cubic metre (m3) | F21: 370 | H21: =F21*G21 -> 0
A22: C2.1.13 | D22: Extra over item C2.1.11 for backfilling with soil cement or stabilised material
B23: C2.1.13.1 | D23: Backfilling trenches using soil cement using (G7) material | E23: cubic metre (m3) | F23: 500 | H23: =F23*G23 -> 0
A24: C2.1.17 | D24: Removal and disposal of spoil material from trench excavations:
B25: C2.1.17.2 | D25: To spoil sites or dumping areas provided by the Contractor | E25: cubic metre (m3) | F25: 850 | H25: =F25*G25 -> 0
A29: TOTAL CARRIED FORWARD TO SUMMARY | H29: =SUM(H5:H28) -> 2260000

Sheet C2.2 (A1)
A1: C2.2 | E1: DRY SERVICES
A2: ITEM | D2: DESCRIPTION | E2: UNIT | F2: QTY | G2: RATE | H2: AMT
A5: C2.2.1 | D5: Supply, lay and prove ducts
B6: C2.2.1.1 | D6: uPVC pipes, Normal Duty, one end plain and chamfered and the other end socketed with integral socket of the rubber ring type
C7: (a) | D7: 150mm diameter | E7: metre (m) | F7: 3500 | H7: =F7*G7 -> 0
B8: C2.2.1.2 | D8: Precast concrete pipes, Type SC, Class 100D, Spigot and Socket type joints with rolling rubber rings
C9: (a) | D9: 300mm diameter | E9: metre (m) | F9: 40 | H9: =F9*G9 -> 0
A10: C2.2.2 | D10: Extra over item C2.2.1 for the provision of split ducts | T10: =IFERROR(ROUNDUP(IF(OR(G10=0,G10="sum",G10="Cost",G10=10%),"",(1+$S$1)*Q10),0),"") | U10: =IFERROR(ROUNDUP(IF(OR(G10="sum",G10="Cost"),(1+$S$1)*R10,""),0),"") | AA10: Check COLTO BOQ - Add to Tender BOQ
B11: C2.2.2.1 | D11: uPVC pipes, Normal Duty, one end plain and chamfered and the other end socketed with integral socket of the rubber ring type | T11: =IFERROR(ROUNDUP(IF(OR(G11=0,G11="sum",G11="Cost",G11=10%),"",(1+$S$1)*Q11),0),"") | U11: =IFERROR(ROUNDUP(IF(OR(G11="sum",G11="Cost"),(1+$S$1)*R11,""),0),"")
C12: (a) | D12: 150mm diameter | E12: metre (m) | F12: 1600 | H12: =F12*G12 -> 0 | Q12: 70 | R12: =P12*Q12 -> 0 | T12: =IFERROR(ROUNDUP(IF(OR(G12=0,G12="sum",G12="Cost",G12=10%),"",(1+$S$1)*Q12),0),"") | U12: =IFERROR(ROUNDUP(IF(OR(G12="sum",G12="Cost"),(1+$S$1)*R12,""),0),"")
A13: C2.2.4 | D13: Bedding for ducts compacted to 90 % of MDD (100 % for sand) using material:
B14: C2.2.4.1 | D14: Selected from the excavated trench material | E14: cubic metre (m3) | F14: 1300 | H14: =F14*G14 -> 0
A15: C2.2.6 | D15: Duct accessories
B16: C2.2.6.1 | D16: Duct markers (utility maker as per dwg. TD-R-MS-1100-V1) | E16: number (No.) | F16: 192 | H16: =F16*G16 -> 0
B17: C2.2.6.3 | D17: Draw wires (two strands of 2.5mm galvanized steel wire) | E17: metre (m) | F17: 5140 | H17: =F17*G17 -> 0
B18: C2.2.6.4 | D18: End caps or plugs (cement and sand plug) | E18: number (No.) | F18: 192 | H18: =F18*G18 -> 0
A22: TOTAL CARRIED FORWARD TO SUMMARY | H22: =SUM(H5:H21) -> 0

Sheet C2.3
A1: C2.3 | E1: WET SERVICES
A2: ITEM | D2: DESCRIPTION | E2: UNIT | F2: QTY | G2: RATE | H2: AMT | I2: Note to compiler: Items requiring additional information to be provided by compiler is marked in this column by X.
A5: C2.3.1 | D5: Supply, lay, joint and test sewers
B6: C2.3.1.1 | D6: … (State for each sewer the pipe material type, class, joint type and the class of bedding etc.) | I6: X
C7: (a) | D7: … (state diameter) | E7: metre (m) | H7: =F7*G7 -> 0 | I7: X
C8: (b) | D8: … (state diameter) | E8: metre (m) | H8: =F8*G8 -> 0 | I8: X
B9: C2.3.1.2 | D9: … (state for each sewer the pipe material type, class, joint type and the class of bedding etc.) | I9: X
C10: (a) | D10: … (state diameter) | E10: metre (m) | H10: =F10*G10 -> 0 | I10: X
C11: (b) | D11: … (state diameter) | E11: metre (m) | H11: =F11*G11 -> 0 | I11: X
B12: C2.3.1.3 | D12: …etc. (insert additional items as required) | H12: =F12*G12 -> 0 | I12: X
A13: C2.3.2 | D13: Extra over item C2.3.1 for sewer specials
B14: C2.3.2.1 | D14: … (state for each sewer special the type, class, etc.) | I14: X
C15: (a) | D15: … (state diameter) | E15: number (No.) | H15: =F15*G15 -> 0 | I15: X
C16: (b) | D16: … (state diameter) | E16: number (No.) | H16: =F16*G16 -> 0 | I16: X
B17: C2.3.2.2 | D17: … (state for each sewer special the type, class, etc.) | I17: X
C18: (a) | D18: … (state diameter) | E18: number (No.) | H18: =F18*G18 -> 0 | I18: X
C19: (b) | D19: … (state diameter) | E19: number (No.) | H19: =F19*G19 -> 0 | I19: X
B20: C2.3.2.3 | D20: …etc. (insert additional items as required) | H20: =F20*G20 -> 0 | I20: X
A21: C2.3.3 | D21: Bedding for sewers (Class B and C) and fill blanket compacted to 90% of MDD (100% for sand)
B22: C2.3.3.1 | D22: Bedding using selected granular material
C23: (a) | D23: From the excavated trench material | E23: cubic metre (m3) | H23: =F23*G23 -> 0
C24: (b) | D24: From other excavations on site | E24: cubic metre (m3) | H24: =F24*G24 -> 0
C25: (c) | D25: From approved borrow areas | E25: cubic metre (m3) | H25: =F25*G25 -> 0
C26: (d) | D26: From sources provided by the Contractor | E26: cubic metre (m3) | H26: =F26*G26 -> 0
C27: (e) | D27: From commercial sources | E27: cubic metre (m3) | H27: =F27*G27 -> 0
B28: C2.3.3.2 | D28: Selected fill blanket material
C29: (a) | D29: From the excavated trench material | E29: cubic metre (m3) | H29: =F29*G29 -> 0
C30: (b) | D30: From other excavations on Site | E30: cubic metre (m3) | H30: =F30*G30 -> 0
C31: (c) | D31: From approved borrow areas | E31: cubic metre (m3) | H31: =F31*G31 -> 0
C32: (d) | D32: From sources provided by the Contractor | E32: cubic metre (m3) | H32: =F32*G32 -> 0
C33: (e) | D33: From commercial sources | E33: cubic metre (m3) | H33: =F33*G33 -> 0
B34: C2.3.3.3 | D34: Extra over items C2.3.3.1(a) to C2.3.3.1(c) and C2.3.3.2(a) to C2.3.3.2(c) for screening material | E34: cubic metre (m3) | H34: =F34*G34 -> 0
A35: C2.3.4 | D35: Concrete for bedding (Class A) and encasement for sewers
B36: C2.3.4.1 | D36: Concrete (Class A) bedding (state class of concrete) | E36: cubic metre (m3) | H36: =F36*G36 -> 0 | I36: X
B37: C2.3.4.2 | D37: Concrete encasement (state class of concrete) | E37: cubic metre (m3) | H37: =F37*G37 -> 0 | I37: X
A38: C2.3.5 | D38: Manholes, inspection chambers and cleaning eyes for sewers
B39: C2.3.5.1 | D39: Manholes (state type and drawing reference etc.) | I39: X
C40: (a) | D40: … (state pipe size and depth range) | E40: number (No.) | H40: =F40*G40 -> 0 | I40: X
C41: (b) | D41: … (state pipe size and depth range) | E41: number (No.) | H41: =F41*G41 -> 0 | I41: X
B42: C2.3.5.2 | D42: Extra over item C2.3.5.1 for backdrops for manholes (state type and drawing reference etc.) | I42: X
...

Sheet C2.4
A1: C2.4 | B1: C2.4 | E1: ENERGY AND OTHER SERVICES
A2: ITEM | D2: DESCRIPTION | E2: UNIT | F2: QTY | G2: RATE | H2: AMT | I2: Note to compiler: Items requiring additional information to be provided by compiler is marked in this column by X.
A5: C2.4.1 | D5: Bedding for electric power cables using material:
B6: C2.4.1.1 | D6: Selected from the excavated trench material | E6: cubic metre (m3) | H6: =F6*G6 -> 0
B7: C2.4.1.2 | D7: Selected from other excavations on site | E7: cubic metre (m3) | H7: =F7*G7 -> 0
B8: C2.4.1.3 | D8: Selected from approved borrow areas | E8: cubic metre (m3) | H8: =F8*G8 -> 0
B9: C2.4.1.4 | D9: Selected from sources provided by the Contractor | E9: cubic metre (m3) | H9: =F9*G9 -> 0
B10: C2.4.1.5 | D10: From commercial sources
C11: (a) | D11: Uncrushed material (state material type) | E11: cubic metre (m3) | H11: =F11*G11 -> 0 | I11: X
C12: (b) | D12: Crushed stone material (state material type) | E12: cubic metre (m3) | H12: =F12*G12 -> 0 | I12: X
A13: C2.4.2 | D13: Concrete for bedding and encasement for electric power cables
B14: C2.4.2.1 | D14: Concrete bedding (Class C16/20-20 concrete) | E14: cubic metre (m3) | H14: =F14*G14 -> 0
B15: C2.4.2.2 | D15: Concrete encasement of cables (Class C16/20-20 concrete) | E15: cubic metre (m3) | H15: =F15*G15 -> 0
A16: C2.4.3 | D16: Cable laying accessories (warning tape, protection slabs, markers etc.)
B17: C2.4.3.1 | D17: Electrical warning tape (state type) | E17: metre (m) | H17: =F17*G17 -> 0 | I17: X
B18: C2.4.3.2 | D18: Concrete slab protection (state type and dimensions etc.) | E18: metre (m) | H18: =F18*G18 -> 0 | I18: X
B19: C2.4.3.3 | D19: Cable markers (state type) | E19: number (No.) | H19: =F19*G19 -> 0 | I19: X
B20: C2.4.3.4 | D20: Other accessories
C21: (a) | D21: … (state type) | E21: metre (m) | H21: =F21*G21 -> 0 | I21: X
C22: (b) | D22: … (state type) | E22: number (No.) | H22: =F22*G22 -> 0 | I22: X
I24: Add items from other Sections as spedified in C1.1.3.7 and identified in Part C3(iii) where applicable
A26: TOTAL CARRIED FORWARD TO SUMMARY | H26: =SUM(H5:H25) -> 0

Sheet C3.1 (A1)
A1: C3.1 | E1: DRAINS
A2: ITEM | D2: DESCRIPTION | E2: UNIT | F2: QTY | G2: RATE | H2: AMT
A5: C3.1.1 | D5: Excavation for open drains:
B6: C3.1.1.1 | D6: Excavating all material situated within the following depth ranges below the surface level using conventional methods:
C7: (a) | D7: 0m to 1,5m | E7: cubic metre (m3) | F7: 2500 | H7: =F7*G7 -> 0
C8: (b) | D8: Exceeding 1,5m and up to 3,0m | E8: cubic metre (m3) | F8: 500 | H8: =F8*G8 -> 0
B9: C3.1.1.2 | D9: Extra over sub-item C3.1.1.1 for excavation in hard and boulder material, irrespective of depth | E9: cubic metre (m3) | F9: 500 | H9: =F9*G9 -> 0
A10: C3.1.2 | D10: Clearing, shaping and disposal of accumulated sediment in existing unlined open drains
B11: C3.1.2.1 | D11: Using conventional methods | E11: cubic metre (m3) | F11: 600 | H11: =F11*G11 -> 0
A12: C3.1.3 | D12: Excavation, clearing and disposal of accumulated sediment in existing lined drains and drainage systems
B13: C3.1.3.1 | D13: Using conventional methods (up to 1,5m):
C14: (b) | D14: Culvert barrels
C15: (i) | D15: Pipes with an internal diameter up to and including 750mm | E15: cubic metre (m3) | F15: 25 | H15: =F15*G15 -> 0
C16: (ii) | D16: Pipes with an internal diameter exceeding 750mm | E16: cubic metre (m3) | F16: 10 | H16: =F16*G16 -> 0
C17: (iii) | D17: Box culverts up to and including 1,5m vertical dimension | E17: cubic metre (m3) | F17: 25 | H17: =F17*G17 -> 0
A18: C3.1.4 | D18: Excavation and disposal of material for subsoil drainage systems:
B19: C3.1.4.1 | D19: Excavating in all material situated within the following depth ranges below the surface:
C20: (a) | D20: 0m to 1,5m | E20: cubic metre (m3) | F20: 900 | H20: =F20*G20 -> 0
C21: (b) | D21: Exceeding 1,5m and up to 3,0m | E21: cubic metre (m3) | F21: 25 | H21: =F21*G21 -> 0
B22: C3.1.4.4 | D22: Extra over sub-item C3.1.4.1 for excavation in hard and boulder material, irrespective of depth | E22: cubic metre (m3) | F22: 50 | H22: =F22*G22 -> 0
B23: C3.1.4.5 | D23: Extra over sub-item C3.1.4.1 for excavation through stabilised existing road layers | E23: cubic metre (m3) | F23: 50 | H23: =F23*G23 -> 0
A24: C3.1.5 | D24: Impermeable backfilling to subsoil drainage systems
B25: C3.1.5.1 | D25: Un-stabilised natural gravel obtained from approved sources on the site | E25: cubic metre (m3) | F25: 60 | H25: =F25*G25 -> 0
B26: C3.1.5.2 | D26: G5 material obtained from commercial sources | E26: cubic metre (m3) | F26: 60 | H26: =F26*G26 -> 0
A27: C3.1.6 | D27: Construction of banks and dykes:
B28: C3.1.6.1 | D28: Banks and dykes using conventional methods | E28: cubic metre (m3) | F28: 50 | H28: =F28*G28 -> 0
A29: C3.1.7 | D29: Natural permeable material in subsoil drainage systems (approved crushed stone):
B30: C3.1.7.1 | D30: Crushed stone obtained from approved sources on the site (Coarse grade, 20mm) | E30: cubic metre (m3) | F30: 20 | H30: =F30*G30 -> 0
B31: C3.1.7.2 | D31: Crushed stone obtained from commercial sources (Coarse grade, 20mm) | E31: cubic metre (m3) | F31: 175 | H31: =F31*G31 -> 0
A32: C3.1.8 | D32: Natural permeable material in subsoil drainage systems (approved natural sand):
B33: C3.1.8.1 | D33: Natural sand obtained from approved sources (Fine graded 0,2mm, borrow pit/quarry) | E33: cubic metre (m3) | F33: 620 | H33: =F33*G33 -> 0
A34: C3.1.9 | D34: Pipes in subsoil drainage systems:
B35: C3.1.9.1 | D35: U-PVC pipes and fittings, normal duty, complete with couplings
C36: (i) | D36: 150mm internal dia. perforated or slotted | E36: metre (m) | F36: 1200 | H36: =F36*G36 -> 0
C37: (ii) | D37: 150mm internal dia. unperforated | E37: metre (m) | F37: 40 | H37: =F37*G37 -> 0
A38: C3.1.11 | D38: Geotextiles, Synthetic-fibre Filter Fabric (Grade 2) | E38: square metre (m2) | F38: 2080 | H38: =F38*G38 -> 0
A39: C3.1.13 | D39: Concrete outlet structures, manhole boxes, junction boxes and cleaning eyes for subsoil drainage systems:
B40: C3.1.13.1 | D40: Outlet structures (Outlet Type B, TD-D-SD-1002-V1) | E40: number (No.) | F40: 6 | H40: =F40*G40 -> 0
B41: C3.1.13.2 | D41: Inspection boxes (Refer to drawing TD-D-SD-1003-V1) | E41: number (No.) | F41: 1 | H41: =F41*G41 -> 0
B42: C3.1.13.3 | D42: Junction boxes (Refer to drawing TD-D-SD-1003-V1) | E42: number (No.) | F42: 2 | H42: =F42*G42 -> 0
...

Sheet C3.2 (A1)
A1: C3.2 | F1: CULVERTS
A2: ITEM | E2: DESCRIPTION | F2: UNIT | G2: QTY | H2: RATE | I2: AMT
A5: C3.2.1 | E5: Excavation for culvert structures:
B6: C3.2.1.1 | E6: Excavating in all material situated within the following depth ranges below the surface level:
C7: (a) | D7: (i) | E7: 0m to 1,5m | F7: cubic metre (m3) | G7: 5800 | I7: =G7*H7 -> 0
D8: (ii) | E8: Temporay 600mm dia, pipe culverts | F8: cubic metre (m3) | G8: 121 | I8: =G8*H8 -> 0
C9: (b) | D9: (i) | E9: Exceeding 1,5m and up to 3,0m | F9: cubic metre (m3) | G9: 490 | I9: =G9*H9 -> 0
D10: (ii) | E10: Temporay 600mm dia, pipe culverts | F10: cubic metre (m3) | G10: 182 | I10: =G10*H10 -> 0
C11: (c) | E11: Exceeding 3,0m and up to 4,5m | F11: cubic metre (m3) | G11: 20 | I11: =G11*H11 -> 0
B12: C3.2.1.2 | E12: Excavating soft material 0m to 1,5m below the surface level using labour enhanced construction methods, or instructed by hand under Clause A3.2.7.2(d) | F12: cubic metre (m3) | G12: 100 | I12: =G12*H12 -> 0
B13: C3.2.1.4 | E13: Extra over sub-item C3.2.1.1 for excavation in hard or boulder material, irrespective of depth | F13: cubic metre (m3) | G13: 800 | I13: =G13*H13 -> 0
A14: PC3.2.2 | E14: Backfilling
B15: C3.2.2.1 | E15: Using the excavated material | F15: cubic metre (m3) | G15: 640 | I15: =G15*H15 -> 0
B16: C3.2.2.2 | E16: Using imported selected material:
C17: (a) | E17: From commercial sources (G5 material) | F17: cubic metre (m3) | G17: 3900 | I17: =G17*H17 -> 0
C18: (b) | E18: From sources on site (G5 material) | F18: cubic metre (m3) | G18: 1000 | I18: =G18*H18 -> 0
B19: C3.2.2.3 | E19: Extra over sub-items C3.2.2.1 and C3.2.2.2 for soil cement backfilling
C20: (a) | E20: With wet mixture (5% cement content) | F20: cubic metre (m3) | G20: 4900 | I20: =G20*H20 -> 0
C21: (c) | E21: Variation in cement | F21: kilogram (kg) | I21: Rate Only
A22: C3.2.3 | E22: Concrete pipe culverts:
B23: C3.2.3.2 | E23: On Class B bedding
C24: (a) | E24: 600mm dia class 75D (spigot and socket) | F24: metre (m) | G24: 510 | I24: =G24*H24 -> 0
C25: (b) | E25: 900mm dia class 75D (spigot and socket) | F25: metre (m) | G25: 700 | I25: =G25*H25 -> 0
C26: (c) | E26: 600mm dia class 75D (spigot and socket) Temporary culvert | F26: metre (m) | G26: 134 | I26: =G26*H26 -> 0
A27: C3.2.4 | E27: Metal and U-PVC culverts:
B28: C3.2.4.1 | E28: 300mm dia. uPVC pipes | F28: metre (m) | G28: 108 | I28: =G28*H28 -> 0
B29: C3.2.4.3 | E29: Anchor bolts (20mm galvanized) | F29: number (No.) | G29: 104 | I29: =G29*H29 -> 0
A30: C3.2.5 | E30: Rectangular culverts with prefabricated elements:
B31: C3.2.5.1 | E31: Prefabricated portal culverts; wall and roof combination
C32: (a) | E32: 900mm x 450mm (Class 175 S) | F32: metre (m) | G32: 112 | I32: =G32*H32 -> 0
C33: (b) | E33: 900mm x 600mm (Class 175 S) | F33: metre (m) | G33: 212 | I33: =G33*H33 -> 0
C34: (c) | E34: 1200mm x 600mm (Class 100 S) | F34: metre (m) | G34: 175 | I34: =G34*H34 -> 0
C35: (d) | E35: 1500mm x 600mm (Class 100 S) | F35: metre (m) | G35: 166 | I35: =G35*H35 -> 0
A36: C3.2.6 | E36: Extra over items C3.2.3, C3.2.4 and C3.2.5 for constructing inclined culverts | F36: metre (m) | G36: 108 | I36: =G36*H36 -> 0
A37: C3.2.7 | E37: Cast in situ concrete and formwork:
B38: C3.2.7.1 | E38: In Class A bedding, screeds, concrete backfill and the encasing for pipes, including formwork, Class C16/20-20 Concrete | F38: cubic metre (m3) | G38: 116 | I38: =G38*H38 -> 0
B39: C3.2.7.2 | E39: In complete in-situ floor slabs for rectangular culverts, manholes and catchpits including formwork, joints and Class U2 surface finish, Class C25/30-20 Concrete (installed at a standard depth of 1,0m) | F39: cubic metre (m3) | G39: 100 | I39: =G39*H39 -> 0
B40: C3.2.7.5 | E40: In inlet and outlet structures including kerbs, chutes and downpipes, skewed ends, catchpits, manholes, thrust and anchor blocks, excluding formwork but including Class U2 surfacing finish, Class C25/30-20 Concrete | F40: cubic metre (m3) | G40: 460 | I40: =G40*H40 -> 0
B41: C3.2.7.6 | E41: Formwork of concrete under items C3.2.7.3 to 5 above
C42: (a) | E42: Vertical formwork for F1 surface finish | F42: square metre (m2) | G42: 1530 | I42: =G42*H42 -> 0
...

Sheet C3.3 (A1)
A1: C3.3 | E1: CONCRETE KERBING AND CHANNELING, ASPHALT BERMS, CHUTES, DOWNPIPES, AS WELL AS CONCRETE, STONE PITCHED AND GABION LININGS FOR OPEN DRAINS
A2: ITEM | D2: DESCRIPTION | E2: UNIT | F2: QTY | G2: RATE | H2: AMT
A5: C3.3.1 | D5: Concrete kerbing:
B6: C3.3.1.1 | D6: Prefabricated kerbing
C7: (a) | D7: Precast rectangular kerb (Figure 11, 150mm x 75mm) as edge restraint to sidewalk | E7: metre (m) | F7: 7750 | H7: =F7*G7 -> 0
B8: C3.3.1.2 | D8: Cast in situ kerbing
C9: (a) | D9: Cast in situ concrete edge beam (300mm x 200mm with 25mm x 25mm chamfered edge on gravel side), class C25/30-20 concrete and U2 surface finish | E9: metre (m) | F9: 7100 | H9: =F9*G9 -> 0
C10: (b) | D10: Cast in situ concrete mountable kerb (class C25/30-20 concrete), shown as Type C kerbing on the drawings | E10: metre (m) | F10: 550 | H10: =F10*G10 -> 0
A11: C3.3.2 | D11: Concrete kerbing-channeling combination:
B12: C3.3.2.1 | D12: Prefabricated kerbing-channeling
C13: (a) | D13: Precast barrier kerb (Figure 3), with 300mm wide cast in situ concrete channel (C25/30-20) (TD-D-RD-1001-V1) | E13: metre (m) | F13: 1200 | H13: =F13*G13 -> 0
C14: (b) | D14: Precast mountable kerb (Figure 8d), with 200mm wide cast in situ concrete channel (C25/30-20) | E14: metre (m) | F14: 100 | H14: =F14*G14 -> 0
C15: (c) | D15: Continuous precast side kerb/channel combination, detail as shown on dwg 251020-PP0-047-TP | E15: metre (m) | F15: 6000 | H15: =F15*G15 -> 0
A16: C3.3.3 | D16: Extra over items C3.3.1 and C3.3.2 for concrete kerbing or concrete kerbing and channeling on curves
B17: C3.3.3.1 | D17: On curves of radii more than or equal to 5,0m but less than 20m | E17: metre (m) | F17: 970 | H17: =F17*G17 -> 0
B18: C3.3.3.2 | D18: On curves with radii more than or equal to 1,0m but less than 5,0m | E18: metre (m) | F18: 100 | H18: =F18*G18 -> 0
B19: C3.3.3.3 | D19: On curves with radii less than 1,0m | E19: metre (m) | H19: Rate Only
A20: C3.3.4 | D20: Extra over item C3.3.2 for drop kerbs at pedestrian crossings and driveways | E20: metre (m) | F20: 22 | H20: =F20*G20 -> 0
A21: C3.3.7 | D21: Cast in situ concrete chutes (measured by components):
B22: C3.3.7.1 | D22: Concrete (Class C25/30-20)
C23: (a) | D23: Inlet structures on high fills, complete as shown on drawings (TD-D-IS-1001-V1) | E23: cubic metre (m3) | F23: 25 | H23: =F23*G23 -> 0
C24: (b) | D24: Outlet structures for pipe chutes on high fills, complete as shown on drawings (TD-D-IS-1002-V1) | E24: cubic metre (m3) | F24: 20 | H24: =F24*G24 -> 0
B25: C3.3.7.2 | D25: Formwork
C26: (a) | D26: Inlet structures on high fills, complete as shown on drawings (TD-D-IS-1001-V1) (F1 surface finish) | E26: square metre (m2) | F26: 64 | H26: =F26*G26 -> 0
C27: (b) | D27: Outlet structures for pipe chutes on high fills, complete as shown on drawings (TD-D-IS-1002-V1) (F1 surface finish) | E27: square metre (m2) | F27: 75 | H27: =F27*G27 -> 0
C28: (c) | D28: Inlet structures on high fills, complete as shown on drawings (Dwg. TD-D-IS-1001-V1) (F2 surface finish) | E28: square metre (m2) | F28: 58 | H28: =F28*G28 -> 0
C29: (d) | D29: Outlet structures for pipe chutes on high fills, complete as shown on drawings (Dwg. TD-D-IS-1002-V1) (F2 surface finish) | E29: square metre (m2) | F29: 75 | H29: =F29*G29 -> 0
A30: C3.3.8 | D30: Linings for open drains:
B31: C3.3.8.1 | D31: Cast-in-situ concrete lining, Type A (1000mm wide) at guardrails, class C25/30-20 concrete | E31: cubic metre (m3) | F31: 10 | H31: =F31*G31 -> 0
B32: C3.3.8.2 | D32: Class U2 surface finish to cast-in-situ concrete, Type A (1000mm wide) at guardrails, class C25/30-20 concrete | E32: square metre (m2) | F32: 140 | H32: =F32*G32 -> 0
A33: C3.3.9 | D33: Formwork to cast-in-situ concrete lining for Type A (1000mm wide) at guardrails (Class F2 surface finish):
B34: C3.3.9.3 | D34: To ends of slabs | E34: square metre (m2) | F34: 315 | H34: =F34*G34 -> 0
A35: C3.3.10 | D35: Sealed joints in concrete and stone pitched linings of open drains (Dwg. TD-D-RD-1001-V1)
C36: (a) | D36: Polysulphide sealant | E36: metre (m) | F36: 72.5 | H36: =F36*G36 -> 0
C37: (b) | D37: Silicone-based sealant | E37: metre (m) | F37: 72.5 | H37: =F37*G37 -> 0
A38: C3.3.12 | D38: Reinforcement:
B39: C3.3.12.3 | D39: Welded steel fabric | E39: kilogram (kg) | F39: 348 | H39: =F39*G39 -> 0
A40: C3.3.13 | D40: Polymer film sheeting 0,15mm thick for concrete-lined open drains | E40: square metre (m2) | F40: 90 | H40: =F40*G40 -> 0
A41: C3.3.14 | D41: Cutting bituminous surfacing and pavement layers for concrete kerbing, channeling or concrete-lined drains
C42: (a) | D42: Asphalt to average depth not exceeding 50mm | E42: metre (m) | F42: 100 | H42: =F42*G42 -> 0
...

Sheet C4.1 (A1)
A1: C4.1 | E1: BORROW MATERIALS
A2: ITEM | D2: DESCRIPTION | E2: UNIT | F2: QTY | G2: RATE | H2: AMT
A5: C4.1.1 | D5: Compiling and implementing M&U plans
B6: C4.1.1.1 | D6: For borrow pits:
D7: Borrow Pit 4 | E7: number (No.) | F7: 1 | H7: =F7*G7 -> 0
D8: Borrow Pit 5 | E8: number (No.) | F8: 1 | H8: =F8*G8 -> 0
B9: C4.1.1.2 | D9: For quarries:
D10: Hard Rock Quarry | E10: number (No.) | F10: 1 | H10: =F10*G10 -> 0
A11: C4.1.3 | D11: Construction and maintenance of temporary haul and access roads
B12: C4.1.3.1 | D12: Temporary unsealed roads | E12: kilometre (km) | F12: 0.5 | H12: =F12*G12 -> 0
A13: C4.1.4 | D13: Removing of the overburden
B14: C4.1.4.1 | D14: In borrow pits | E14: cubic metre (m3) | F14: 50000 | H14: =F14*G14 -> 0
B15: C4.1.4.2 | D15: In quarries:
C16: (a) | D16: Soft material | E16: cubic metre (m3) | F16: 9400 | H16: =F16*G16 -> 0
C17: (b) | D17: Hard material (by blasting) | E17: cubic metre (m3) | F17: 3100 | H17: =F17*G17 -> 0
A18: C4.1.5 | D18: Excavating of materials in the borrow pits and quarries, material obtained from
B19: C4.1.5.1 | D19: Soft excavation | E19: cubic metre (m3) | F19: 95000 | H19: =F19*G19 -> 0
B20: C4.1.5.2 | D20: Boulder excavation class A | E20: cubic metre (m3) | F20: 500 | H20: =F20*G20 -> 0
B21: C4.1.5.5 | D21: Hard excavation (by blasting) | E21: cubic metre (m3) | F21: 80300 | H21: =F21*G21 -> 0
A22: C4.1.6 | D22: Providing crushing, screening and related plants
B23: C4.1.6.3 | D23: Multiple-stage crushing and screening plant | E23: number (No.) | F23: 1 | H23: =F23*G23 -> 0
A24: C4.1.7 | D24: Producing the material by
B25: C4.1.7.3 | D25: Multiple-stage crushing including screening
B26: C4.1.7.3(a) | D26: G1 crushed stone | E26: cubic metre (m3) | F26: =SUM('C5.3 (A1)'!F17,'C5.3 (A1)'!F21)*1.15 -> 40480 | H26: =F26*G26 -> 0
B27: C4.1.7.3(b) | D27: G5A crushed stone | E27: cubic metre (m3) | F27: =SUM('C5.3 (A1)'!F15,'C5.3 (A1)'!F16,'C5.3 (A1)'!F20)*1.15 -> 66125 | H27: =F27*G27 -> 0
B28: C4.1.7.3(c) | D28: G6 natural gravel | E28: cubic metre (m3) | F28: =SUM('C5.3 (A1)'!F9,'C5.3 (A1)'!F11,'C5.3 (A1)'!F12,'C5.3 (A1)'!F13)*1.15 -> 73485 | H28: =F28*G28 -> 0
A29: C4.1.8 | D29: Moving and re-erecting the crushing, screening and related plants on the site
B30: C4.1.8.3 | D30: Multiple-stage crushing and screening plant | E30: number (No.) | F30: 1 | H30: =F30*G30 -> 0
A31: C4.1.9 | D31: Breaking down oversize material | E31: cubic metre (m3) | F31: 4000 | H31: =F31*G31 -> 0
A32: C4.1.10 | D32: Compacting the floor of the stockpile sites | E32: cubic metre (m3) | F32: 6700 | H32: =F32*G32 -> 0
A33: C4.1.12 | D33: Stockpiling the material
B34: C4.1.12.1 | D34: Material from a producing plant
B35: C4.1.12.1(a) | D35: G1 crushed stone | E35: cubic metre (m3) | F35: =F26 -> 40480 | H35: =F35*G35 -> 0
B36: C4.1.12.1(b) | D36: G5A crushed stone | E36: cubic metre (m3) | F36: =F27 -> 66125 | H36: =F36*G36 -> 0
B37: C4.1.12.1(c) | D37: G6 natural gravel | E37: cubic metre (m3) | F37: =F28 -> 73485 | H37: =F37*G37 -> 0
A38: C4.1.15 | D38: Shaping and finishing the borrow pit and quarry areas, and the stockpile sites
B39: C4.1.15.1 | D39: Shaping and finishing the borrow pit and quarry areas, and the stockpile sites:
C40: (a) | D40: Borrow pits:
D41: Borrow Pit 4 | E41: hectare (ha) | F41: 4.9 | H41: =F41*G41 -> 0
D42: Borrow Pit 5 | E42: hectare (ha) | F42: 5.2 | H42: =F42*G42 -> 0
...

Sheet C4.2 (A1)
A1: C4.2 | E1: CUT MATERIALS
A2: ITEM | D2: DESCRIPTION | E2: UNIT | F2: QTY | G2: RATE | H2: AMT
A5: C4.2.3 | D5: Excavating of materials in cuttings, material obtained from
B6: C4.2.3.1 | D6: Soft excavation | E6: cubic metre (m3) | F6: 4740 | H6: =F6*G6 -> 0
A7: C4.2.6 | D7: Widening of existing cuttings
B8: C4.2.6.1 | D8: Soft excavation | E8: cubic metre (m3) | F8: 2000 | H8: =F8*G8 -> 0
B9: C4.2.6.2 | D9: Boulder excavation class A | E9: cubic metre (m3) | F9: 125 | H9: =F9*G9 -> 0
B10: C4.2.6.3 | D10: Boulder excavation class B | E10: cubic metre (m3) | F10: 125 | H10: =F10*G10 -> 0
B11: C4.2.6.5 | D11: Hard excavation (by blasting) | E11: cubic metre (m3) | F11: 1000 | H11: =F11*G11 -> 0
A12: C4.2.8 | D12: Excavate material to spoil in sites designated by the Employer, material obtained from
B13: C4.2.8.1 | D13: Soft excavation, overburden and unsuitable material | E13: cubic metre (m3) | F13: 250 | H13: =F13*G13 -> 0
B14: C4.2.8.2 | D14: Boulder excavation class A | E14: cubic metre (m3) | F14: 50 | H14: =F14*G14 -> 0
A15: C4.2.9 | D15: Excavate material to spoil in sites designated by the Contractor, material obtained from
B16: C4.2.9.1 | D16: Soft excavation, overburden and unsuitable material | E16: cubic metre (m3) | F16: 250 | H16: =F16*G16 -> 0
B17: C4.2.9.2 | D17: Boulder excavation class A | E17: cubic metre (m3) | F17: 50 | H17: =F17*G17 -> 0
A18: C4.2.10 | D18: Backfilling of the unavoidable overbreak in hard and boulder excavation
B19: C4.2.10.1 | D19: Compliant gravel material | E19: cubic metre (m3) | F19: 200 | H19: =F19*G19 -> 0
A20: C4.2.11 | D20: Breaking down oversize material | E20: cubic metre (m3) | F20: 2000 | H20: =F20*G20 -> 0
A21: C4.2.12 | D21: Finishing the side slopes
B22: C4.2.12.1 | D22: Cuttings:
C23: (a) | D23: In soft material | E23: square metre (m2) | F23: 4500 | H23: =F23*G23 -> 0
A27: TOTAL CARRIED FORWARD TO SUMMARY | H27: =SUM(H5:H26) -> 0

Sheet C4.3 (A1)
A1: C4.3 | F1: EXISTING ROAD MATERIALS
A2: ITEM | E2: DESCRIPTION | F2: UNIT | G2: QTY | H2: RATE | I2: AMT
A5: C4.3.3 | E5: Removal of bituminous seal surfacing (thickness not exceeding 30mm) | F5: square metre (m2) | G5: 21500 | I5: =G5*H5 -> 0
A6: C4.3.4 | E6: Saw-cutting existing materials within the following average depth ranges
B7: C4.3.4.1 | E7: Asphalt material:
C8: (a) | E8: Up to 50mm | F8: metre (m) | G8: 100 | I8: =G8*H8 -> 0
C9: (b) | E9: Exceeding 50mm and up to 100mm | F9: metre (m) | G9: 45 | I9: =G9*H9 -> 0
A10: C4.3.5 | E10: Providing the milling machine on the site
B11: C4.3.5.1 | E11: Small milling machine with a cutting width of 1,2m or smaller | F11: number (No.) | G11: 1 | I11: =G11*H11 -> 0
B12: C4.3.5.2 | E12: Large milling machine with a cutting width exceeding 1,2m | F12: number (No.) | G12: 1 | I12: =G12*H12 -> 0
A13: C4.3.6 | E13: Milling and removal of existing asphalt layers with an average milling depth (Contractor takes ownership)
B14: C4.3.6.1 | E14: Not exceeding 50mm | F14: cubic metre (m3) | G14: 1300 | I14: =G14*H14 -> 0
B15: C4.3.6.2 | E15: Exceeding 50mm but not exceeding 100mm | F15: cubic metre (m3) | G15: 800 | I15: =G15*H15 -> 0
B16: C4.3.6.3 | E16: Exceeding 100mm | F16: cubic metre (m3) | G16: 100 | I16: =G16*H16 -> 0
A17: C4.3.8 | E17: Excavating material by milling
B18: C4.3.8.2 | E18: Cemented material | F18: cubic metre (m3) | G18: 1900 | I18: =G18*H18 -> 0
B19: C4.3.8.3 | E19: Natural gravel material | F19: cubic metre (m3) | G19: 4100 | I19: =G19*H19 -> 0
A20: C4.3.9 | E20: Excavating material by using conventional road construction equipment
B21: C4.3.9.3 | E21: Cemented material | F21: cubic metre (m3) | G21: 5000 | I21: =G21*H21 -> 0
B22: C4.3.9.4 | E22: Natural gravel and sand materials | F22: cubic metre (m3) | G22: 5000 | I22: =G22*H22 -> 0
B23: C4.3.9.5 | E23: Coarse fill and rock fill | F23: cubic metre (m3) | G23: 10000 | I23: =G23*H23 -> 0
A24: C4.3.14 | E24: Removing of existing road edging and services structures
B25: C4.3.14.1 | E25: Removing of existing road edging using construction equipment:
C26: (a) | E26: Kerbing and edge beams:
D27: (i) | E27: In situ concrete kerbing and edge beams | F27: cubic metre (m3) | G27: 60 | I27: =G27*H27 -> 0
A28: C4.3.15 | E28: Stockpiling of road layer materials
B29: C4.3.15.3 | E29: Cemented material | F29: cubic metre (m3) | G29: 2000 | I29: =G29*H29 -> 0
B30: C4.3.15.4 | E30: Natural gravel material | F30: cubic metre (m3) | G30: 8000 | I30: =G30*H30 -> 0
A31: C4.3.18 | E31: Excavate non-compliant or excess pavement layer material to spoil in sites designated by the Contractor, material consisting of
B32: C4.3.18.1 | E32: Asphalt material | F32: cubic metre (m3) | G32: 11400 | I32: =G32*H32 -> 0
A33: C4.3.20 | E33: Spoiling of paving blocks and road edging in spoil sites designated by the Contractor
B34: C4.3.20.2 | E34: Precast and in situ concrete kerbing, edge beams and channels at precast kerbing | F34: cubic metre (m3) | G34: 60 | I34: =G34*H34 -> 0
A38: TOTAL CARRIED FORWARD TO SUMMARY | I38: =SUM(I5:I37) -> 0

Sheet C4.4 (A1)
A1: C4.4 | E1: COMMERCIAL MATERIALS
A2: ITEM | D2: DESCRIPTION | E2: UNIT | F2: QTY | G2: RATE | H2: AMT
A5: C4.4.2 | D5: Commercial materials identified by the Contractor from commercial, private or other non-commercial suppliers
B6: C4.4.2.1 | D6: Pavement layer material:
C7: (a) | D7: Type G1 material | E7: cubic metre (m3) | F7: =34000*0.5 -> 17000 | H7: =F7*G7 -> 0
C8: (b) | D8: Type G5A material | E8: cubic metre (m3) | F8: =56300*0.5 -> 28150 | H8: =F8*G8 -> 0
A9: C4.4.4 | D9: Cementitious stabilising agents
B10: C4.4.4.1 | D10: Cement (CEM II (A-L) 32,5N) | E10: ton (t) | F10: 4500 | H10: =F10*G10 -> 0
B11: C4.4.4.2 | D11: Road lime | E11: ton (t) | H11: Rate Only
A14: TOTAL CARRIED FORWARD TO SUMMARY | H14: =SUM(H5:H13) -> 0

Sheet C5.1 (A1)
A1: C5.1 | F1: ROADBED
A2: ITEM | E2: DESCRIPTION | F2: UNIT | G2: QTY | H2: RATE | I2: AMT
A5: C5.1.1 | E5: Roadbed construction and compaction:
B6: C5.1.1.2 | E6: Compaction of in-situ material to 93% of MDD | F6: cubic metre (m3) | G6: 18300 | I6: =G6*H6 -> 0
A7: C5.1.4 | E7: Removal of unsuitable material to spoil:
B8: C5.1.4.1 | E8: In layer thicknesses of 200mm and less
C9: (a) | E9: Stable material | F9: cubic metre (m3) | G9: 3000 | I9: =G9*H9 -> 0
C10: (b) | E10: Unstable material | F10: cubic metre (m3) | G10: 2000 | I10: =G10*H10 -> 0
B11: C5.1.4.2 | E11: In layer thicknesses exceeding 200mm
C12: (a) | E12: Stable material | F12: cubic metre (m3) | G12: 3000 | I12: =G12*H12 -> 0
C13: (b) | E13: Unstable material | F13: cubic metre (m3) | G13: 2000 | I13: =G13*H13 -> 0
A14: C5.1.5 | E14: In-situ treatment of roadbed in hard material:
B15: C5.1.5.1 | E15: In-situ treatment by ripping | F15: cubic metre (m3) | G15: 10600 | I15: =G15*H15 -> 0
B16: C5.1.5.2 | E16: In-situ treatment by drilling and blasting | F16: cubic metre (m3) | G16: 5300 | I16: =G16*H16 -> 0
A17: C5.1.6 | E17: Roller-pass compaction:
B18: C5.1.6.1 | E18: Grid rollers | F18: square metre (m2) | I18: Rate Only
B19: C5.1.6.2 | E19: Pad foot vibratory rollers | F19: square metre (m2) | I19: Rate Only
B20: C5.1.6.3 | E20: Smooth drum vibratory rollers | F20: square metre (m2) | I20: Rate Only
B21: C5.1.6.5 | E21: Impact rollers | F21: square metre (m2) | I21: Rate Only
B22: C5.1.6.6 | E22: Pneumatic rollers | F22: square metre (m2) | I22: Rate Only
A23: C5.1.11 | E23: Construction of roadbed comprising a pioneer layer | F23: cubic metre (m3) | G23: 5000 | I23: =G23*H23 -> 0
A27: TOTAL CARRIED FORWARD TO SUMMARY | I27: =SUM(I5:I26) -> 0

Sheet C5.2 (A1)
A1: C5.2 | E1: FILL
A2: ITEM | D2: DESCRIPTION | E2: UNIT | F2: QTY | G2: RATE | H2: AMT
A5: C5.2.2 | D5: Fill construction:
B6: C5.2.2.1 | D6: Normal fill material in compacted layer thicknesses of 200mm and less:
C7: (b) | D7: Compacted to 93% of MDD | E7: cubic metre (m3) | F7: 62200 | H7: =F7*G7 -> 0
B8: C5.2.2.4 | D8: Rock fill material all as per Clause A5.2.7.6 | E8: cubic metre (m3) | F8: 5000 | H8: =F8*G8 -> 0
A9: C5.2.11 | D9: Finishing-off fill slopes, medians and interchange areas:
B10: C5.2.11.1 | D10: Fill slopes | E10: square metre (m2) | F10: 26900 | H10: =F10*G10 -> 0
A14: TOTAL CARRIED FORWARD TO SUMMARY | H14: =SUM(H5:H13) -> 0

Sheet C5.3 (A1)
A1: C5.3 | E1: ROAD PAVEMENT LAYERS
A2: ITEM | D2: DESCRIPTION | E2: UNIT | F2: QTY | G2: RATE | H2: AMT
A5: C5.3.1 | D5: Compiling and implementing M&U plans for the construction of all the pavement layers. | E5: number (No.) | F5: 4 | H5: =F5*G5 -> 0
A6: C5.3.2 | D6: Construction of pavement layers
B7: C5.3.2.1 | D7: Construction of layers using conventional construction methods:
C8: (b) | D8: Lower selected subgrade layer, compacted to 95% of MDD
D9: 150mm layer thickness at school parking | E9: cubic metre (m3) | F9: 2000 | H9: =F9*G9 -> 0 | J9: G6
C10: (c) | D10: Upper selected subgrade layer, compacted to 95% of MDD
D11: 150mm layer thickness | E11: cubic metre (m3) | F11: 53000 | H11: =F11*G11 -> 0 | J11: G6
D12: Correction layer thickness between 150mm to 300mm | E12: cubic metre (m3) | F12: 5400 | H12: =F12*G12 -> 0 | J12: G6
C13: (h) | D13: Gravel shoulder layer (150mm layer thickness) compacted to 95% of MDD | E13: cubic metre (m3) | F13: 3500 | H13: =F13*G13 -> 0 | J13: G6
C14: (q) | D14: G5A crushed rock/boulder subbase layer compacted to 97% of MDD
D15: 150mm layer thickness | E15: cubic metre (m3) | F15: 3800 | H15: =F15*G15 -> 0 | J15: G5A
D16: 300mm layer thickness | E16: cubic metre (m3) | F16: 52500 | H16: =F16*G16 -> 0 | J16: G5A
C17: (aa) | D17: G1 crushed stone base layer (150mm layer thickness) compacted to 88 % of AD | E17: cubic metre (m3) | F17: 34000 | H17: =F17*G17 -> 0 | J17: G1
A18: C5.3.9 | D18: Construction of a trial section:
B19: C5.3.9.1 | D19: Construction of a trial section using conventional methods of construction
C20: (b) | D20: Crushed stone subbase layer trial section | E20: cubic metre (m3) | F20: 1200 | H20: =F20*G20 -> 0 | J20: G5A
C21: (c) | D21: Crushed stone base layer trial section | E21: cubic metre (m3) | F21: 1200 | H21: =F21*G21 -> 0 | J21: G1
A22: C5.3.10 | D22: Removal of a completed trial section
B23: C5.1.10.1 | D23: Stabilised layer | E23: cubic metre (m3) | F23: =F20 -> 1200 | H23: =F23*G23 -> 0
B24: C5.3.10.3 | D24: Crushed stone layer | E24: cubic metre (m3) | F24: =F21 -> 1200 | H24: =F24*G24 -> 0
A25: C5.3.11 | D25: Riding quality measurements:
B26: C5.3.11.3 | D26: Using an inertial profilometer | E26: kilometre (km) | F26: 31.8 | H26: =F26*G26 -> 0
A27: C5.3.12 | D27: Surface regularity payment adjustments | E27: provisional sum | F27: Prov | G27: Sum | H27: 110000
A31: TOTAL CARRIED FORWARD TO SUMMARY | H31: =SUM(H5:H30) -> 110000

Sheet C5.4 (A1)
A1: C5.4 | E1: STABILISATION
A2: ITEM | D2: DESCRIPTION | E2: UNIT | F2: QTY | G2: RATE | H2: AMT
A5: C5.4.2 | D5: Chemical stabilisation:
B6: C5.4.2.1 | D6: Chemical stabilisation of pavement layers
C7: (1) | D7: 150mm thick subbase layers | E7: cubic metre (m3) | F7: 8800 | H7: =F7*G7 -> 0
C8: (2) | D8: 300mm thick subbase layers | E8: cubic metre (m3) | F8: 61000 | H8: =F8*G8 -> 0
A9: C5.4.5 | D9: Cementitious stabilisation agents for pavement layers:
B10: C5.4.5.1 | D10: Addition of cementitious stabilisation agents for pavement layers
C11: (a) | D11: Cement | E11: ton (t) | F11: 900 | H11: =F11*G11 -> 0
B12: C5.4.5.2 | D12: Addition of cementitious stabilisation agents for pavement layers and spreading the agent using bags and labour enhancement methods.
C13: (a) | D13: Cement | E13: ton (t) | F13: 3600 | H13: =F13*G13 -> 0
A14: C5.4.10 | D14: Provision and application of water for curing | E14: kilolitre (kℓ) | F14: 5100 | H14: =F14*G14 -> 0
A15: C5.4.11 | D15: Curing by covering with the subsequent layer | E15: square metre (m2) | F15: 16700 | H15: =F15*G15 -> 0
A19: TOTAL CARRIED FORWARD TO SUMMARY | H19: =SUM(H5:H18) -> 0

Sheet C5.5 (A1)
A1: C5.5 | F1: RECONSTRUCTION OF PAVEMENT LAYERS
A2: ITEM | E2: DESCRIPTION | F2: UNIT | G2: QTY | H2: RATE | I2: AMT
A5: C5.5.1 | E5: Compiling and implementing M&U plans for the reconstruction of an existing road pavement | F5: number (No.) | G5: 1 | I5: =G5*H5 -> 0
A6: C5.5.3 | E6: Construction equipment for sampling of in-situ material for mix design procedure | F6: number (No.) | G6: 2 | I6: =G6*H6 -> 0
A7: C5.5.4 | E7: Sampling of in-situ material for mix design procedure | F7: number (No.) | G7: 20 | I7: =G7*H7 -> 0
A8: C5.5.5 | E8: Construction of a trial section using a recycler | F8: cubic metre (m3) | G8: 1000 | I8: =G8*H8 -> 0
